{"text_format":"1","workbook":"xlsx","n_sheets":14,"sheets":["CoverSheet","Description","Table of Contents","Waterfall","WfallCht","Inputs","EDB data","TIMING","RAB","TAX","BBAR","REV","MAR","Reconciliation"],"not_rendered":{"charts":1,"images":18,"macros":1,"external_links":2,"defined_names":31,"comments":2,"pivot_tables":0},"unopened":[],"bounds":{"document_bytes":16777216,"sheet_cells":100000,"rows_first":2000,"rows_last":500,"rows_between":2000,"halvings":0,"cell_chars":16384,"cell_head_chars":4096},"cells_cut":0,"cells_raw":0,"read":"whole","date_system":"1900"}

{"sheet":"CoverSheet","index":0,"n_rows":17,"n_cols":1,"rows_kept":17,"cut":false,"hidden":false,"merged":[]}
[]
[]
["Electricity Distribution Business"]
["Price-Quality Regulation 1 April 2020 DPP Reset"]
["MAR waterfall model (2015 MAR to final)"]
["Final determination"]
[]
[]
[]
[]
[]
[]
[]
[]
[]
[]
["For publication 27 November 2019"]

{"sheet":"Description","index":1,"n_rows":81,"n_cols":3,"rows_kept":81,"cut":false,"hidden":false,"merged":[[58,2,58,5],[59,2,59,5],[4,1,4,5],[8,2,8,5],[7,2,7,5],[10,2,10,5],[39,2,39,5],[6,2,6,5],[13,2,13,5],[9,2,9,5],[52,2,52,5],[53,2,53,5],[54,2,54,5],[55,2,55,5],[57,2,57,5],[47,2,47,5],[48,2,48,5],[49,2,49,5],[50,2,50,5],[51,2,51,5],[80,2,81,3],[40,2,40,5],[41,2,41,5],[75,2,75,5],[76,2,76,5],[67,2,67,5],[72,2,72,5],[69,2,69,5],[65,2,65,5],[66,2,66,5],[68,2,68,5],[45,2,45,5],[43,2,43,5],[77,2,77,5],[56,2,56,5],[46,2,46,5]]}
["Description"]
[null,"This Excel workbook is one of a suite of models that accompanies the final determination of the default price-quality path for electricity distribution 2020-2025."]
[]
["Purpose"]
[null,"This waterfall model produces a waterfall chart for each of 14 non-exempt EDB to show a breakdown of the  drivers of the change in the building blocks allowable revenue (BBAR) from the 2015 reset to the BBAR for the DPP3 reset. A waterfall chart for each of the 14 EDBs is on the 'WaterfallCht' sheet. There is also a chart for the totals for the 14 EDBs. There are waterfall charts for only 14 of the 17 non-exempt EDBs. This is because the charts show the difference between the 2015 reset financial model and the financial model, so an EDB must feature in both of these models to be included in this model. Orion, Wellington Electricity and Powerco do not feature in both models as they have been on CPPs."]
["Overview of model structure"]
[null,1,"This model incorporates a copy of much of the 2015 EDB DPP reset financial model. The sheets from 'Inputs' to 'MAR' are the copied sheets."]
[null,2,"The modifications extend the capability of the 2015 model to take into account accelerated depreciation. With this modification, the copied sheets can perform the calculations for the 2020 reset."]
[null,3,"The model inputs include both the set of inputs used for the 2015 reset and the set used for the DPP3 reset. When all the 2015 inputs are used, then the results reconcile with the 2015 financial model. When the DPP3 inputs are used, the results reconcile with the DPP3 financial model."]
[null,4,"For each EDB, the model recalculates the MAR values for 15 different sets of input data, each of these 15 sets being a combination of input data from the 2015 reset for some inputs and input data from the DPP3 reset for the rest of the data. Arranging the sequence of these data combinations allows for the impact of various impacts to be determined for the waterfall charts."]
[null,5,"We discuss the 15 sets of input data combinations below in the context of the waterfall chart for the total for selected EDBs."]
[]
["Waterfall chart"]
[null,null,"The chart below is an example of the waterfall charts that this model prepares for each non-exempt EDB.\nA full set of 15 charts is available on the sheet 'WfallCht'."]
[]
[]
[]
[]
[]
[]
[]
[]
[]
[]
[]
[]
[]
[]
[]
[]
[]
[]
[]
[]
[]
[]
[]
[]
[]
[null,6,"The chart starts at its left hand with the brown column, indicating the value of the 2015/16 MAR (ie the MAR for the first year of the 2015 EDB reset) as 100%. All subsequent MAR values shown in the chart are relative to this value."]
[null,7,"The chart ends at its right hand end with another blue column, this one indicating the DPP3 2020/21 MAR. Between these 2 columns, there are a series of rises and fall, indicating the impact of the various input categories listed along the x axis."]
[null,8,"Consider, for example, the green rise column above the word 'Opex' on the x axis. The lower edge of this rise indicates the MAR if all the inputs for the parameters listed to the left of this Opex rise are at their DPP3 reset values. These parameters are: CPI for revals; RAB, Depn; Tax; Capex and Disposals. The Opex values themselves will be set to their 2015 reset values for this MAR value, as will all the other parameters to the right of the Opex rise.\nThe MAR represented by the upper edge of the Opex rise will reflect the same input values as the lower edge, except that the DPP3 Opex values will be used. The height of the green rise therefore represents the impact of the change in opex forecasts from the 2015 reset to the DPP3 reset."]
[null,null,"Input categories"]
[null,null,"The 15 input data categories are listed below, with commentary for some categories. The numbers in the \"Mode\" column below indicate the mode number used on Row 4 and Column D of the Inputs sheet to manage whether 2015 reset data or DPP3 reset data is used for the category. Note that there is a Mode 0."]
[null,"Mode"]
[null,0,"2015 reset model inputs\nAll inputs in Mode Zero are the same as for the 2015 reset financial model."]
[null,1,"CPI for revals\nThis is the forecast change in CPI from one quarter to the quarter 1 year later, and is used for calculating CPI indexed revaluations. There is just one row of inputs in the Inputs sheet for this category, being the one with the row heading \"Forecast change in CPI used for revaluations\"."]
[null,2,"RAB, Depn\nSix rows of inputs are in this category, the main ones being Opening RAB, Total depreciation and Closing RAB. These are all for the base year. \nFor almost all EDBs, the rise in MAR for this category is one of most significant drivers of rises in the MAR. The impact of these inputs is entirely driven by information disclosure data and input methodologies, so there is no impact from Commission decisions taken as part of the 2020 reset.\nThe opening RAB divided by total depreciation give the average remaining life for existing assets, so are a key determinant of the depreciation building block. The Closing RAB for the base year is the key determinant of the starting RAB at the start of the regulatory period, and so is in turn a key determinant of the return on  the RAB and depreciation throughout the regulatory period."]
[null,3,"Tax\nFive rows of inputs are in this category, being Opening RAB excluding revaluations, Adjusted depreciation, Tax depreciation, Opening regulatory tax asset value and Amortisation of initial differences in asset values.\nThe Tax depreciation divided by the Opening regulatory tax asset value determines the effective average diminishing value depreciation rate for the base year, and this rate is used for determining the tax depreciation throughout the regulatory period.\nThe other three input parameters are used to account for amortisations of differences between regulatory tax and cash tax.\nRises and falls for this 'Tax' category do not reflect changes in the tax allowance building block. That building block will be strongly driven by the BBAR, which is an output of financial modelling rather than an input."]
[null,4,"Capex\nSeven rows of inputs are in this category, being the panel of data of capex for the 5 years of the regulatory period plus two prior years."]
[null,5,"Disposed assets\nSeven rows of inputs are in this category, being the panel of data of Disposed assets for the 5 years of the regulatory period plus two prior years."]
[null,6,"Operating expenditure\nSeven rows of inputs are in this category, being the panel of data of Operating expenditure for the 5 years of the regulatory period plus two prior years."]
[null,7,"Other regulated income\nSeven rows of inputs are in this category, being the panel of data of Other regulated income for the 5 years of the regulatory period plus two prior years.\nOther regulated income was accounted for in the 2015 reset by having a forecast values and taking account of this income when setting the price path. For the 2020 reset, the revenue cap with wash-up process will take account of actual values of other regulated income, and no forecast value will be used when setting the price path.\nWe account for this change in approach to other regulated income in this waterfall model by setting the other regulated income forecast value for the 2020 reset to nil."]
[null,8,"TCSD (Term Credit Spread Differential)\nThis is a one row category. "]
[null,9,"Add. Allow. (Additional allowance)\nThis is a one row category. The impact of this category is nil for all EDBs."]
[null,10,"WACC (Vanilla WACC (67th percentile))\nThis is a single value input. \nIt is a strong determinant of the return on capital building block and is the most significant source of 'fall' categories for almost all EDBs.\nThe value for the DPP3 final decision is from a cost of capital determination that was made in September 2019."]
[null,11,"Accel'ed Depn (Adjustment factor (for accelerated depreciation))\nThis is a one row category.\nIt relates to a mechanism from the 2016 input methodology review for an EDB to apply for an acceleration of the depreciation of its 'existing assets'.\nThe provision for accelerated deprecation did not exist for the 2015 reset, so an additional row has been added to the Inputs sheet to allow for this. The values entered for the 2015 reset have been set to nil to reflect that the provision did not apply."]
[null,12,"CPI, price path (Forecast changes in the CPI element of the price path)\nThis is the forecast change in CPI from one year to the next and is used for calculating the CPI indexation of the price path. There is just one row of inputs in the Inputs sheet for this category, being the one with the row heading \"Forecast change in CPI used for revaluations\".\nThis CPI change parameter is calculated differently from the 'CPI for revals', in that this calculation is based on the sum of 4 consecutive CPI values divided by the sum of the 4 consecutive CPI values from one year earlier."]
[null,13,"CPRG (Constant price revenue growth)\nSeven rows of inputs are in this category, being the panel of data of Other regulated income for the 5 years of the regulatory period plus two prior years.\nCPRG was taken into account in the 2015 reset in calculating the profile of the price path. This was because the form of control used at the time of that reset was a weighted average price path. That price path took account of the forecast CPRG values.\nThe form of control was changed to a revenue cap as part of the 2016 input methodologies review, and this means that CPRG will no longer be required for setting the price path.\nWe account for this change in the form of control in this waterfall model by setting the CPRG forecast value for the 2020 reset to nil."]
[null,14,"X (for CPI-X)\nTwo rows are in this category, being Industry-wide X factor and Alternative X factor.\nA non-zero X can have a significant impact on MAR values, but has no impact on BBAR values.\n"]
[]
[]
[]
["Inputs sheet & overall operation of this workbook"]
[]
[null,1,"The inputs sheet is an adaptation of the Inputs sheet of the 2015 DPP reset financial model on which this workbook is based. It includes all the inputs to this workbook, together with a significant amount of the processing required to produce the waterfall charts."]
[null,2,"The sheet is divided into a number of panels, the panels being separated by rows and columns that have a light yellow fill colour.\n\nThe panels are referred to as Panels A, B, C and D, these being the panels with a top left corner at Cell A1, A9, U9 and AM9 respectively. The panels are labelled with cells with a green fill colour.\n\n"]
[null,3,"Panel A is very simple and sets just:\n   -  which EDB is to be focused on in doing the various calculations and producing the EDB's waterfall chart (Cell C6).\n   - the \"mode\", being a number determining the extent to which the 2015 versus 2020 reset inputs are to be used (Cell C5).\n\nIf the chosen mode at Cell C5 is less than the mode number in Column A for each line of inputs, then the 2015 model inputs are used for that row of inputs, otherwise the 2020 inputs are used.\n\nA data table is used in the \"Waterfall\" sheet to step through 14 different values of the mode. This generates the data necessary to draw the waterfall chart for the chosen EDB. The macro for preparing the set of 15 waterfall charts steps through the choice of the 14 EDBs plus the chart for the totals of the 14 EDBs. There is a macro button on the \"WfallCht\" sheet to prepare this sheet."]
[null,4,"Panel B consists of most of the used area of the Inputs sheet in the 2015 model. The links that transfer data from the Inputs sheet to the 'EDB data' sheet and other sheets from the 2015 model are largely still the same links in this workbook. The key difference in the Inputs sheet in this workbook is that the cells in this panel are no longer values but are instead formulas that reference the data in Panels C and D."]
[null,5,"Panel C consists of the inputs to the DPP3 financial model, while Panel D consists of the inputs to the 2015 financial model. The data in Panel C is filled by links to theDPP3 financial model inputs. Panel D is filled with the values of the inputs to the 2015 financial model."]
["Reconciliation sheet"]
[]
[null,null,"The \"Reconciliation\" sheet checks that this model produces outputs consistent with the 2015 and DPP3 reset financial models.\n\nWhen the mode is set to 0, this workbook should produce the same outputs as the 2015 financial model.\nWhen the mode is set to 14, this workbook should produce the same outputs as the DPP3 financial model.\n\nThere are notes on the Reconciliation sheet as to how it operates. See Cells F2, W8, C39 and V39."]
[]
["The \"Totals for selected EDBs\" chart"]
[null,null,"A waterfall chart of the totals for all non-exempt EDBs except those currently on a CPP is prepared by this workbook, and is the last chart on the WfallCht sheet. It is prepared on the Waterfall sheet when 'Totals for selected EDBs' is selected."]
[null,null,"Data for this chart is prepared in the named range \"IndustryTotals\" on the 'Waterfall' sheet. The values in this table are inserted through the VBA routine \"Regenerate\", which is the routine that also generates the charts on the WfallCht sheet. The VBA code that inserts the data starts with the VBA comment \"Build table on the Waterfall sheet to chart the total for all non-exempts, except Orion, Powerco, Wellington.\""]
[null,null,"Note the formula at Waterfall!C21 and below. The formula selects the data from the data table to its immediate left except when \"Totals for selected EDBs\" is selected at D3. When the totals chart is selected, the data for the Column C formulas is taken from the totals column at the right of the \"IndustryTotals\" range."]
[]
["Model suite"]
[null,null,"Follow the link 'Model map – EDB DPP3 final determination – 27 November 2019' on the Commission's EDB 2020-2025 default price-quality path determination web page for a graphical depiction of interconnections between the models and data sources."]

{"sheet":"Table of Contents","index":2,"n_rows":37,"n_cols":3,"rows_kept":37,"cut":false,"hidden":false,"merged":[]}
["Table of Contents"]
[]
[]
[null,"Sheet Name","Link"]
[null,"Waterfall","Waterfall calculations and chart for chosen EDB"]
[null,null,"EDB names and values of MAR 2019/20"]
[null,null,"Waterfall chart for chosen EDB"]
[null,"WfallCht","Waterfall charts for 14 EDBs"]
[null,"Inputs","Inputs"]
[null,"EDB data","Inputs for the selected distributor"]
[null,"TIMING","Intra-year timing"]
[null,null,"Inputs"]
[null,null,"Calculations"]
[null,null,"Outputs"]
[null,null,"Check for timing of revenue receipt"]
[null,"RAB","Regulatory asset base"]
[null,null,"Inputs"]
[null,null,"Calculations"]
[null,null,"Outputs"]
[null,"TAX","Tax calculations"]
[null,null,"Inputs"]
[null,null,"Calculations"]
[null,null,"Outputs"]
[null,"BBAR","Building blocks allowable revenue"]
[null,null,"Inputs"]
[null,null,"Calculations"]
[null,null,"Outputs"]
[null,"REV","Revenue growth index"]
[null,null,"Inputs"]
[null,null,"Calculations"]
[null,null,"Outputs"]
[null,"MAR","Maximum allowable revenue"]
[null,null,"Inputs"]
[null,null,"Calculations"]
[null,null,"Outputs"]
[null,"Reconciliation","Reconciliation with financial models outputs"]
[null,null,"Outputs"]

{"sheet":"Waterfall","index":3,"n_rows":63,"n_cols":19,"rows_kept":63,"cut":false,"hidden":false,"merged":[]}
["Waterfall calculations and chart for chosen EDB"]
[]
["EDB",null,null,"Total for selected EDBs"]
["Distributor number",null,null,{"$f":"MATCH(WfallEDB,EDBnames,0)","v":15}]
["Chosen mode",null,null,0]
[]
["EDB names and values of MAR 2019/20"]
[]
[null,1,2,3,4,5,6,7,8,9,10,11,12,13,14,15]
[null,"Alpine Energy","Aurora Energy","Centralines","EA Networks","Eastland Network","Electricity Invercargill","Horizon Energy","Nelson Electricity","Network Tasman","OtagoNet","The Lines Company","Top Energy","Unison Networks","Vector Lines","Total for selected EDBs"]
["Estimated 2019/20 allowable revenue",{"$f":"Inputs!C97","v":49719.82702663089},{"$f":"Inputs!D97","v":67031.770067225996},{"$f":"Inputs!E97","v":14465.452982598339},{"$f":"Inputs!F97","v":37120.373212502302},{"$f":"Inputs!G97","v":27873.521952147665},{"$f":"Inputs!H97","v":13951.543341108681},{"$f":"Inputs!I97","v":23616.338568634361},{"$f":"Inputs!J97","v":6803.15723580746},{"$f":"Inputs!K97","v":28269.633421484999},{"$f":"Inputs!L97","v":27205.404248709074},{"$f":"Inputs!M97","v":40848.168135214502},{"$f":"Inputs!N97","v":48585.636766442934},{"$f":"Inputs!O97","v":112883.51224466226},{"$f":"Inputs!P97","v":417635.91704348486},{"$f":"SUM(B11:O11)","v":916010.25624665432}]
[]
["Waterfall chart for chosen EDB"]
[]
[]
["PV(BBAR) for chosen EDB and chosen mode",null,null,null,null,null,{"$f":"BBAR!C57","v":{"$error":"#N/A"}}]
["Starting price for applicable X factor",null,null,null,null,null,{"$f":"MAR!D57","v":{"$error":"#N/A"}}]
[]
[null,null,null,null,null,null,"Direction","Base","Fall","Rise"]
[null,{"$f":"G17","v":{"$error":"#N/A"}},{"$f":"B20","v":{"$error":"#N/A"}}]
[0,{"$error":"#N/A"},{"$f":"IF(WfallEDB=$P$10,S49,B21)","v":812302.68133376073},"MAR 2015/16",1,{"$f":"C21/$C$21","v":1},null,0,0,1]
[1,{"$error":"#N/A"},817399.42550593033,"CPI for revals",{"$f":"A22","v":1},{"$f":"C22/$C$21","v":1.0062744396753696},{"$f":"IF(F22>F21,\">\",\"<\")","v":">"},{"$f":"H21+J21-I22-0.00002%*0","v":0.99999000000000005},{"$f":"IF(F22<F21,F21-F22+0.00001,0.00001)","v":1.0000000000000001E-5},{"$f":"IF(F22>=F21,F22-F21+0.00001,0.00001)","v":6.2844396753695582E-3}]
[2,{"$error":"#N/A"},929307.97411971516,"RAB, Depn",2,1.1440414952143672,">",{"$f":"H22+J22-I23-0.00002%*0","v":1.0062644396753695},{"$f":"IF(F23<F22,F22-F23+0.00001,0.00001)","v":1.0000000000000001E-5},{"$f":"IF(F23>=F22,F23-F22+0.00001,0.00001)","v":0.13777705553899761}]
[3,{"$error":"#N/A"},911686.18307956052,"Tax",3,1.1223478686326838,"<",1.1223378686326837,2.1703626581683389E-2,1.0000000000000001E-5]
[4,{"$error":"#N/A"},940465.6512408834,"Capex",4,1.1577773567073366,">",{"$f":"H24+J24-I25-0.00002%*0","v":1.1223378686326837},1.0000000000000001E-5,3.5439488074652852E-2]
[5,{"$error":"#N/A"},939666.40353050362,"Disposals",5,1.1567934282669337,"<",1.1567834282669336,9.9392844040295915E-4,1.0000000000000001E-5]
[6,{"$error":"#N/A"},1010645.4049506895,"Opex",6,1.2441734198036376,">",1.1567834282669336,1.0000000000000001E-5,8.7389991536703945E-2]
[7,{"$error":"#N/A"},1012487.9761244844,"OR Income",7,1.2464417505824668,">",1.2441634198036375,1.0000000000000001E-5,2.2783307788291529E-3]
[8,{"$error":"#N/A"},1016751.2067292703,"TCSD",8,1.2516900782105203,">",1.2464317505824667,1.0000000000000001E-5,5.2583276280534948E-3]
[9,{"$error":"#N/A"},1016608.6517443825,"Add. Allow.",9,1.2515145833018322,"<",1.2515045833018321,1.854949086880675E-4,1.0000000000000001E-5]
[10,{"$error":"#N/A"},829862.03953602479,"WACC",10,1.0216167675003023,"<",1.0216067675003022,0.22990781580152991,1.0000000000000001E-5]
[11,{"$error":"#N/A"},829862.03953602479,"Accel'ed Depn",11,1.0216167675003023,"<",1.0216067675003022,1.0000000000000001E-5,1.0000000000000001E-5]
[12,{"$error":"#N/A"},826363.68878132873,"CPI, price path",12,1.0173100591327366,"<",1.0173000591327366,4.3167083675656366E-3,1.0000000000000001E-5]
[13,{"$error":"#N/A"},836349.92404998839,"CPRG",13,1.0296037958125945,">",1.0173000591327366,1.0000000000000001E-5,1.2303736679857891E-2]
[14,{"$error":"#N/A"},851993.2586972781,"X (CPI-X)",14,1.048861807643362,{"$f":"IF(F35>F34,\">\",\"<\")","v":">"},1.0295937958125945,1.0000000000000001E-5,1.9268011830767474E-2]
[null,null,null,"MAR 2020/21",null,null,null,1.048861807643362,null,null,{"$f":"K42/C21","v":1.1276710976044186}]
[null,null,null,null,null,null,"Check value, should = 0",{"$f":"F35-H36","v":0}]
[]
[]
[null,null,null,null,"Text for textbox in chart and data for orange dot"]
[null,null,null,null,null,null,null,null,null,"2020/21 revenue",{"$f":"C35","v":851993.2586972781}]
[null,null,null,null,null,null,null,null,null,"Est 2019/20 allowable revenue",{"$f":"INDEX(B11:P11,1,SuppNum)","v":916010.25624665432}]
[null,null,null,null,null,null,null,null,null,"MAR increase, 2020/21 MAR from est 2019/20 allowable rev",{"$f":"(K41-K42)/K42","v":-6.9886769403309332E-2}]
[]
[null,null,null,null,null,null,null,null,null,null,{"$f":"\"Revenue increase,  est 2019/20 allow. revenue to 2020/21 MAR: \" & TEXT(K43,\"0.00%\")","v":"Revenue increase,  est 2019/20 allow. revenue to 2020/21 MAR: -6.99%"}]
[]
[]
[null,null,null,"Named range, Anchor2",{"$f":"B10","v":"Alpine Energy"},{"$f":"C10","v":"Aurora Energy"},"Centralines","EA Networks",{"$f":"F10","v":"Eastland Network"},"Electricity Invercargill","Horizon Energy","Nelson Electricity","Network Tasman","OtagoNet","The Lines Company","Top Energy","Unison Networks","Vector Lines","Total for selected EDBs"]
[null,null,null,"MAR 2015/16",30458.392210827311,56511.666026359613,9983.3114857180717,33046.583323684572,22731.958455348748,13565.260381139384,22026.850628408567,6824.4074148528416,28091.763360324669,24779.535094930379,34705.263224095725,34231.368482363374,100101.51513214251,395244.80611356499,{"$f":"SUM(E49:R49)","v":812302.68133376073}]
[null,null,null,"CPI for revals",30593.616915737693,56854.987917559345,10034.421281602275,33286.332924093942,22871.346288962435,13637.424016524785,22146.224135720622,6863.878182587453,28254.109517304714,24938.516915595945,34897.733970665904,34436.060791865442,100677.32178034574,397907.45086736407,{"$f":"SUM(E50:R50)","v":817399.42550593033}]
[null,null,null,"RAB, Depn",35844.426535796192,70803.825434180588,9836.5186009133831,39120.817760598293,26444.280589193535,15938.730657628606,25814.831913018766,6691.1146393688068,29004.653621845049,29606.521431362624,37195.76382319336,39691.297199554851,114558.0748852322,448757.11702782894,929307.97411971516]
[null,null,null,"Tax",34717.330475903495,68897.913459026764,9780.1382952243493,37937.058663459989,26202.009404414097,15543.758302821729,25748.226326663411,6511.4400049735877,28866.555269191475,27831.762024190939,36468.598228057388,38484.533798220684,112220.52888137856,442476.32994603406,911686.18307956052]
[null,null,null,"VCA",35708.837963268343,77328.736206602538,10180.389085461778,38183.867954537855,25163.902509410633,15320.777989312593,25634.037148924588,6839.7355260941931,29225.447100867412,29658.392173474749,37653.84974214992,38520.803384145271,113497.11935598738,457549.75510064606,940465.6512408834]
[null,null,null,"Disposals",35766.807987997956,77321.854576516271,10173.950879878408,38249.806218592195,25212.121898642603,15353.398729186472,25653.337332072759,6821.5201714958403,29177.922842397875,29596.160984516744,37510.187333573573,38521.456496545259,113145.7957999307,457162.08227915701,939666.40353050362]
[null,null,null,"Opex",39715.647378862668,101032.16317966215,9923.7959169580208,41647.062847036512,27653.889412215212,15057.280357536047,27902.766586530808,6592.6972050448649,31242.037911888779,31321.35736036961,41930.253425647032,40744.625295533777,119227.81555626774,476654.01251713629,1010645.4049506895]
[null,null,null,"OR Income",39484.36609324818,103031.94813046888,10034.216125710758,41574.569124816488,27576.01142787237,14958.585661021581,28009.160456765407,6682.0771666003247,31674.764209382651,31889.413077933059,41939.801281731976,41067.534740812043,118706.17832118667,475859.35030693409,1012487.9761244844]
[null,null,null,"TCSD",39484.36609324818,103031.94813046888,10034.216125710758,41574.569124816488,27576.01142787237,14958.585661021581,28009.160456765407,6682.0771666003247,31674.764209382651,31889.413077933059,41937.466475450958,41067.534740812043,119194.81656453304,479636.27747465455,1016751.2067292703]
[null,null,null,"Add. Allow.",39379.548019229565,103031.94813046888,10034.216125710758,41574.569124816488,27576.01142787237,14958.585661021581,28009.160456765407,6682.0771666003247,31674.764209382651,31875.216998075677,41913.925644439165,41067.534740812043,119194.81656453304,479636.27747465455,1016608.6517443825]
[null,null,null,"WACC",34381.649454731902,86738.590607197795,8316.25244172149,33187.872410343254,22848.301064537307,12279.74006880299,24003.214289779036,5462.2953291450158,26320.874318474176,25717.402753282149,35193.663943637679,33476.467242454208,99855.652667733142,382080.06294418464,829862.03953602479]
[null,null,null,"Accel'ed Depn",34381.649454731902,86738.590607197795,8316.25244172149,33187.872410343254,22848.301064537307,12279.74006880299,24003.214289779036,5462.2953291450158,26320.874318474176,25717.402753282149,35193.663943637679,33476.467242454208,99855.652667733142,382080.06294418464,829862.03953602479]
[null,null,null,"CPI, price path",34230.720735019917,86374.451947078764,8280.4304756433849,33048.710021888452,22751.369305544526,12228.300115319718,23902.715159051135,5439.3619631756619,26210.427509737892,25609.557919247905,35046.690543611039,33332.022486053924,99436.992943331948,380471.93765662448,826363.68878132873]
[null,null,null,"CPRG",34421.594079640614,87334.541934299879,8171.6293266847224,33258.712663227125,22662.67134560916,12257.510432166828,23912.123990469623,5501.7672347113685,26452.460342221599,25779.342298051128,34707.869062223712,33163.325912353874,100019.29918800581,388707.0762403229,836349.92404998839]
[null,null,null,"X (CPI-X)",42652.594084747587,87334.541934299879,9366.9935780126234,33258.712663227125,24028.436099748465,12257.510432166828,23912.123990469623,5501.7672347113685,26452.460342221599,25779.342298051128,34707.869062223712,38014.531549069543,100019.29918800581,388707.0762403229,851993.2586972781]

{"sheet":"WfallCht","index":4,"n_rows":5,"n_cols":50,"rows_kept":5,"cut":false,"hidden":false,"merged":[]}
["Waterfall charts for 14 EDBs"]
[]
[null,null,null,null,null,null,null,null,null,null,null,null,null,null,null,null,null,null,null,null,null,null,null,null,null,null,null,null,null,null,null,null,null,null,null,null,null,null,null,null,null,null,null,null,null,null,null,null,null,"Waterfall Charts"]
[null,null,null,null,null,null,null,null,null,null,null,null,null,null,null,null,null,null,null,null,null,null,null,null,null,null,null,null,null,null,null,null,null,null,null,null,null,null,null,null,null,null,null,null,null,null,null,null,null,"An aid to interpreting these charts is on the Description sheet, under the headings 'Waterfall Chart' and 'Input categories'."]
[null,null,null,null,null,null,null,null,null,null,null,null,null,null,null,null,null,null,null,null,null,null,null,null,null,null,null,null,null,null,null,null,null,null,null,null,null,null,null,null,null,null,null,null,null,null,null,null,null,"The chart \"Total for selected EDBs\" is for all non-exempt EDBs except those on a CPP between April 2015 and March 2019, ie, except Orion, Powerco and Wellington Electricity."]

{"sheet":"Inputs","index":5,"n_rows":97,"n_cols":55,"rows_kept":97,"cut":false,"hidden":false,"merged":[]}
["Inputs"]
["A","Choice of which EDB to consider and the chosen 'mode'."]
[null,"All input data is entered into this worksheet"]
[null,"Waterfall chart parameters"]
[null,"Chosen mode",{"$f":"Waterfall!D5","v":0}]
[]
[]
[]
[]
["B","Values for chosen mode",null,null,null,null,null,null,null,null,null,null,null,null,null,null,null,null,null,null,"C","Values from Financial model",null,null,null,null,null,null,null,null,null,null,null,null,null,null,null,null,"D","Values for 2015 reset model"]
["Mode","Inputs that are the same for all distributors"]
[1,"2020 reset timeline","Value",{"$f":"IF($C$5<$A12,AN12,V12)","v":"2013/14"},"2014/15","2015/16","2016/17","2017/18","2018/19","2019/20",null,null,null,null,null,null,null,null,null,null,null,{"$f":"[1]Inputs!C4","v":"2018/19"},{"$f":"[1]Inputs!D4","v":"2019/20"},{"$f":"[1]Inputs!E4","v":"2020/21"},{"$f":"[1]Inputs!F4","v":"2021/22"},{"$f":"[1]Inputs!G4","v":"2022/23"},{"$f":"[1]Inputs!H4","v":"2023/24"},{"$f":"[1]Inputs!I4","v":"2024/25"},null,null,null,null,null,null,null,null,null,null,null,"2013/14",{"$f":"LEFT(AN12,4)+1 & \"/\" & RIGHT(AN12,2)+1","v":"2014/15"},{"$f":"LEFT(AO12,4)+1 & \"/\" & RIGHT(AO12,2)+1","v":"2015/16"},"2016/17","2017/18","2018/19","2019/20"]
[0,"Year in modelling period",null,1,2,3,4,5,6,7,null,null,null,null,null,null,null,null,null,null,null,{"$f":"[1]Inputs!C5","v":1},{"$f":"[1]Inputs!D5","v":2},{"$f":"[1]Inputs!E5","v":3},{"$f":"[1]Inputs!F5","v":4},{"$f":"[1]Inputs!G5","v":5},{"$f":"[1]Inputs!H5","v":6},{"$f":"[1]Inputs!I5","v":7},null,null,null,null,null,null,null,null,null,null,null,1,2,3,4,5,6,7]
[0,"Year in regulatory period",null,null,null,1,2,3,4,5,null,null,null,null,null,null,null,null,null,null,null,null,null,{"$f":"[1]Inputs!E6","v":1},{"$f":"[1]Inputs!F6","v":2},{"$f":"[1]Inputs!G6","v":3},{"$f":"[1]Inputs!H6","v":4},{"$f":"[1]Inputs!I6","v":5},null,null,null,null,null,null,null,null,null,null,null,null,null,1,2,3,4,5]
[1,"Forecast changes in CPI used for revaluations",null,{"$f":"IF($C$5<$A15,AN15,V15)","v":1.5332197614991383E-2},1.4261744966443057E-2,1.7369727047146455E-2,2.1138211382113914E-2,2.1669341894061001E-2,2.1112894596040599E-2,2.0556447298020419E-2,null,null,null,null,null,null,null,null,null,null,null,{"$f":"[1]Inputs!C7","v":1.4836795252225476E-2},{"$f":"[1]Inputs!D7","v":1.6999999999999904E-2},{"$f":"[1]Inputs!E7","v":1.8999999999999906E-2},{"$f":"[1]Inputs!F7","v":2.0000000000000018E-2},{"$f":"[1]Inputs!G7","v":2.0000000000000018E-2},{"$f":"[1]Inputs!H7","v":2.0000000000000018E-2},{"$f":"[1]Inputs!I7","v":2.0000000000000018E-2},null,null,null,null,null,null,null,null,null,null,null,1.5332197614991383E-2,1.4261744966443057E-2,1.7369727047146455E-2,2.1138211382113914E-2,2.1669341894061001E-2,2.1112894596040599E-2,2.0556447298020419E-2]
[{"$f":"A44+1","v":12},"Forecast changes in the CPI element of the price path",null,null,null,{"$f":"IF($C$5<$A16,AP16,X16)","v":1.5299617509562324E-2},{"$f":"IF($C$5<$A16,AQ16,Y16)","v":1.506906655504392E-2},{"$f":"IF($C$5<$A16,AR16,Z16)","v":1.7731958762886579E-2},{"$f":"IF($C$5<$A16,AS16,AA16)","v":2.1069692058346856E-2},{"$f":"IF($C$5<$A16,AT16,AB16)","v":2.1528794788826966E-2},null,null,null,null,null,null,null,null,null,null,null,null,null,{"$f":"[1]Inputs!E8","v":1.7504378984726898E-2},{"$f":"[1]Inputs!F8","v":1.9502114592602871E-2},{"$f":"[1]Inputs!G8","v":2.0248058977042183E-2},{"$f":"[1]Inputs!H8","v":2.0000000000000018E-2},{"$f":"[1]Inputs!I8","v":2.0000000000000018E-2},null,null,null,null,null,null,null,null,null,null,null,null,null,1.5299617509562324E-2,1.506906655504392E-2,1.7731958762886579E-2,2.1069692058346856E-2,2.1528794788826966E-2]
[0,"Company tax rate",null,0.28000000000000003,{"$f":"IF($C$5<$A17,AO17,W17)","v":0.28000000000000003},0.28000000000000003,0.28000000000000003,0.28000000000000003,0.28000000000000003,0.28000000000000003,null,null,null,null,null,null,null,null,null,null,null,{"$f":"[1]Inputs!C9","v":0.28000000000000003},{"$f":"[1]Inputs!D9","v":0.28000000000000003},{"$f":"[1]Inputs!E9","v":0.28000000000000003},{"$f":"[1]Inputs!F9","v":0.28000000000000003},{"$f":"[1]Inputs!G9","v":0.28000000000000003},{"$f":"[1]Inputs!H9","v":0.28000000000000003},{"$f":"[1]Inputs!I9","v":0.28000000000000003},null,null,null,null,null,null,null,null,null,null,null,0.28000000000000003,0.28000000000000003,0.28000000000000003,0.28000000000000003,0.28000000000000003,0.28000000000000003,0.28000000000000003]
[0,"Days in a year",{"$f":"IF($C$5<$A18,AM18,U18)","v":365},null,null,null,null,null,null,null,null,null,null,"Working area",null,null,null,null,null,null,{"$f":"[1]Inputs!B10","v":365},null,null,null,null,null,null,null,null,null,null,null,null,null,null,null,null,null,365]
[0,"Days from mid-year to year-end",182,null,null,null,null,null,null,null,null,null,null,{"$f":"D12","v":"2013/14"},null,null,null,null,null,null,{"$f":"[1]Inputs!B11","v":182},null,null,null,null,null,null,null,null,null,null,null,null,null,null,null,null,null,182]
[0,"Days from revenue date to year-end",148,null,null,null,null,null,null,null,null,null,null,{"$f":"E12","v":"2014/15"},null,null,null,null,null,null,{"$f":"[1]Inputs!B12","v":148},null,null,null,null,null,null,null,null,null,null,null,null,null,null,null,null,null,148]
[0,"Last day of year 1 of the DPP period","2021-03-31",null,null,null,null,null,null,null,null,null,null,{"$f":"F12","v":"2015/16"},null,null,null,null,null,null,{"$f":"[1]Inputs!B13","v":"2021-03-31"},null,null,null,null,null,null,null,null,null,null,null,null,null,null,null,null,null,"2016-03-31"]
[{"$f":"A45+1","v":10},"Vanilla WACC (67th percentile)",7.1900000000000006E-2,null,null,null,null,null,null,null,null,null,null,{"$f":"G12","v":"2016/17"},null,null,null,null,null,null,{"$f":"[1]Inputs!B14","v":4.5699999999999998E-2},null,null,null,null,null,null,null,null,null,null,null,null,null,null,null,null,null,7.1900000000000006E-2]
[{"$f":"A22","v":10},"Cost of debt",6.0900000000000003E-2,null,null,null,null,null,null,null,null,null,null,{"$f":"H12","v":"2017/18"},null,null,null,null,null,null,{"$f":"[1]Inputs!B15","v":2.92E-2},null,null,null,null,null,null,null,null,null,null,null,null,null,null,null,null,null,6.0900000000000003E-2]
[{"$f":"A31+1","v":3},"Leverage",0.44,null,null,null,null,null,null,null,null,null,null,{"$f":"I12","v":"2018/19"},null,null,null,null,null,null,{"$f":"[1]Inputs!B16","v":0.42},null,null,null,null,null,null,null,null,null,null,null,null,null,null,null,null,null,0.44]
[0,"Years of remaining life for newly commissioned assets",44,null,null,null,null,null,null,null,null,null,null,{"$f":"J12","v":"2019/20"},null,null,null,null,null,null,{"$f":"[1]Inputs!B17","v":44},null,null,null,null,null,null,null,null,null,null,null,null,null,null,null,null,null,44]
[{"$f":"A56+1","v":14},"Industry-wide X factor",0,null,null,null,null,null,null,null,null,null,null,null,null,null,null,null,null,null,{"$f":"[1]Inputs!B18","v":0},null,null,null,null,null,null,null,null,null,null,null,null,null,null,null,null,null,0]
[null,"Inputs that are specific to individual distributors"]
[null,"Name","Alpine Energy","Aurora Energy","Centralines","EA Networks","Eastland Network","Electricity Invercargill","Horizon Energy","Nelson Electricity","Network Tasman","Orion","OtagoNet","Powerco","The Lines Company","Top Energy","Unison Networks","Vector Lines","Wellington Electricity",null,{"$f":"[1]Inputs!B20","v":"Alpine Energy"},{"$f":"[1]Inputs!C20","v":"Aurora Energy"},{"$f":"[1]Inputs!D20","v":"Centralines"},{"$f":"[1]Inputs!E20","v":"EA Networks"},{"$f":"[1]Inputs!F20","v":"Eastland Network"},{"$f":"[1]Inputs!G20","v":"Electricity Invercargill"},{"$f":"[1]Inputs!H20","v":"Horizon Energy"},{"$f":"[1]Inputs!I20","v":"Nelson Electricity"},{"$f":"[1]Inputs!J20","v":"Network Tasman"},{"$f":"[1]Inputs!K20","v":"Orion NZ"},{"$f":"[1]Inputs!L20","v":"OtagoNet"},{"$f":"[1]Inputs!M20","v":"Powerco"},{"$f":"[1]Inputs!N20","v":"The Lines Company"},{"$f":"[1]Inputs!O20","v":"Top Energy"},{"$f":"[1]Inputs!P20","v":"Unison Networks"},{"$f":"[1]Inputs!Q20","v":"Vector Lines"},{"$f":"[1]Inputs!R20","v":"Wellington Electricity"},null,"Alpine Energy","Aurora Energy","Centralines","EA Networks","Eastland Network","Electricity Invercargill","Horizon Energy","Nelson Electricity","Network Tasman","Orion","OtagoNet","Powerco","The Lines Company","Top Energy","Unison Networks","Vector Lines","Wellington Electricity"]
[null,"Distributor number",1,2,3,4,5,6,7,8,9,10,11,12,13,14,15,16,17,null,{"$f":"[1]Inputs!B21","v":1},{"$f":"[1]Inputs!C21","v":2},{"$f":"[1]Inputs!D21","v":3},{"$f":"[1]Inputs!E21","v":4},{"$f":"[1]Inputs!F21","v":5},{"$f":"[1]Inputs!G21","v":6},{"$f":"[1]Inputs!H21","v":7},{"$f":"[1]Inputs!I21","v":8},{"$f":"[1]Inputs!J21","v":9},{"$f":"[1]Inputs!K21","v":10},{"$f":"[1]Inputs!L21","v":11},{"$f":"[1]Inputs!M21","v":12},{"$f":"[1]Inputs!N21","v":13},{"$f":"[1]Inputs!O21","v":14},{"$f":"[1]Inputs!P21","v":15},{"$f":"[1]Inputs!Q21","v":16},{"$f":"[1]Inputs!R21","v":17},null,1,2,3,4,5,6,7,8,9,10,11,12,13,14,15,16,17]
[null,"Initial conditions"]
[{"$f":"A15+1","v":2},"Opening RAB",{"$f":"IF($C$5<$A31,AM31,U31)","v":153233.2190546873},{"$f":"IF($C$5<$A31,AN31,V31)","v":318316},{"$f":"IF($C$5<$A31,AO31,W31)","v":54463.919798897623},{"$f":"IF($C$5<$A31,AP31,X31)","v":207829},{"$f":"IF($C$5<$A31,AQ31,Y31)","v":123188.7994467004},{"$f":"IF($C$5<$A31,AR31,Z31)","v":65348.378411252183},{"$f":"IF($C$5<$A31,AS31,AA31)","v":104497.75640097049},{"$f":"IF($C$5<$A31,AT31,AB31)","v":30348.79331863406},{"$f":"IF($C$5<$A31,AU31,AC31)","v":150493},{"$f":"IF($C$5<$A31,AV31,AD31)","v":864649},{"$f":"IF($C$5<$A31,AW31,AE31)","v":144589},{"$f":"IF($C$5<$A31,AX31,AF31)","v":1385118.8},{"$f":"IF($C$5<$A31,AY31,AG31)","v":173379.11916801109},{"$f":"IF($C$5<$A31,AZ31,AH31)","v":183788.51},{"$f":"IF($C$5<$A31,BA31,AI31)","v":491717.72098376288},{"$f":"IF($C$5<$A31,BB31,AJ31)","v":2536404},{"$f":"IF($C$5<$A31,BC31,AK31)","v":555989.83744430926},null,{"$f":"[1]Inputs!B23","v":199621},{"$f":"[1]Inputs!C23","v":394155.20342001849},{"$f":"[1]Inputs!D23","v":54013},{"$f":"[1]Inputs!E23","v":259359.00095871449},{"$f":"[1]Inputs!F23","v":154613.20585},{"$f":"[1]Inputs!G23","v":84071.69550885816},{"$f":"[1]Inputs!H23","v":124949.9691070461},{"$f":"[1]Inputs!I23","v":41110.981972024987},{"$f":"[1]Inputs!J23","v":165522},{"$f":"[1]Inputs!K23","v":1051194},{"$f":"[1]Inputs!L23","v":186531.16401204519},{"$f":"[1]Inputs!M23","v":1657736.857110675},{"$f":"[1]Inputs!N23","v":188818.5385963225},{"$f":"[1]Inputs!O23","v":251488.1610056299},{"$f":"[1]Inputs!P23","v":586195},{"$f":"[1]Inputs!Q23","v":2951716},{"$f":"[1]Inputs!R23","v":611855.08145023219},null,153233.2190546873,318316,54463.919798897623,207829,123188.7994467004,65348.378411252183,104497.75640097049,30348.79331863406,150493,864649,144589,1385118.8,173379.11916801109,183788.51,491717.72098376288,2536404,555989.83744430926]
[{"$f":"A31","v":2},"Lost assets",0,0,0,0,0,0,0,0,0,0,0,0,0,0,0,0,0,null,0,0,0,0,0,0,0,0,0,0,0,0,0,0,0,0,0,null,0,0,0,0,0,0,0,0,0,0,0,0,0,0,0,0,0]
[{"$f":"A31","v":2},"Found assets",0,0,0,0,0,0,0,0,0,0,0,0,0,0,0,0,0,null,0,0,0,0,0,0,0,0,0,0,0,0,0,0,0,0,0,null,0,0,0,0,0,0,0,0,0,0,0,0,0,0,0,0,0]
[{"$f":"A31","v":2},"Total depreciation",9784.5645807422716,11473,2561.6034799999979,6958.4492641642501,5090.053904675583,2526.462,4656.239889999787,1172.9069463226481,6574,34384.22,6607,59856.676680658027,8968,7326.4904744508522,21312,90831,26602,null,{"$f":"[1]Inputs!B24","v":12793.13117340678},{"$f":"[1]Inputs!C24","v":15058.02417019832},{"$f":"[1]Inputs!D24","v":2033},{"$f":"[1]Inputs!E24","v":9529.6230377798529},{"$f":"[1]Inputs!F24","v":6088.9489571422637},{"$f":"[1]Inputs!G24","v":3119.7714543870602},{"$f":"[1]Inputs!H24","v":6456.2217299999993},{"$f":"[1]Inputs!I24","v":1446.5562303904751},{"$f":"[1]Inputs!J24","v":6807},{"$f":"[1]Inputs!K24","v":40615.817049999998},{"$f":"[1]Inputs!L24","v":7711.9157134074912},{"$f":"[1]Inputs!M24","v":67007.59800619095},{"$f":"[1]Inputs!N24","v":8412.1005965908771},{"$f":"[1]Inputs!O24","v":9155.4759701400144},{"$f":"[1]Inputs!P24","v":27555.254000000001},{"$f":"[1]Inputs!Q24","v":108729},{"$f":"[1]Inputs!R24","v":26323.291818737282},null,9784.5645807422716,11473,2561.6034799999979,6958.4492641642501,5090.053904675583,2526.462,4656.239889999787,1172.9069463226481,6574,34384.22,6607,59856.676680658027,8968,7326.4904744508522,21312,90831,26602]
[{"$f":"A31","v":2},"Revaluations",2346.8188939219372,4878.5059625212634,834.45124129541352,3158.5814587303839,1881.6653367653189,993.16868092208824,1604.1290485162669,465.31369653782752,2306.698466780224,12839.5042589437,2194.580676905151,21062.764088138851,2654.9711627122479,2816.9203305926849,7424.5510883370316,38684,8517.8468143713471,null,null,null,null,null,null,null,null,null,null,null,null,null,null,null,null,null,null,null,2346.8188939219372,4878.5059625212634,834.45124129541352,3158.5814587303839,1881.6653367653189,993.16868092208824,1604.1290485162669,465.31369653782752,2306.698466780224,12839.5042589437,2194.580676905151,21062.764088138851,2654.9711627122479,2816.9203305926849,7424.5510883370316,38684,8517.8468143713471]
[{"$f":"A31","v":2},"Closing RAB",156778.6950982842,324967,55053.954589999987,220520.60797803651,125598.5523815543,64392,110624.30894875689,42202.807985340398,155232,890508,147442.64802131549,1439790,175959,199303.1545995771,521046.00441000052,2618855,569510.18948670686,null,{"$f":"[1]Inputs!B25","v":201494.54378921399},{"$f":"[1]Inputs!C25","v":447072.18120423768},{"$f":"[1]Inputs!D25","v":57848},{"$f":"[1]Inputs!E25","v":268447.16463339521},{"$f":"[1]Inputs!F25","v":161677.5522211091},{"$f":"[1]Inputs!G25","v":86604.996813859601},{"$f":"[1]Inputs!H25","v":133085.9},{"$f":"[1]Inputs!I25","v":41933.729163771379},{"$f":"[1]Inputs!J25","v":165472},{"$f":"[1]Inputs!K25","v":1088531.37215},{"$f":"[1]Inputs!L25","v":194442.08945185869},{"$f":"[1]Inputs!M25","v":1787099.8403374299},{"$f":"[1]Inputs!N25","v":206316.43741173169},{"$f":"[1]Inputs!O25","v":261426.14654201409},{"$f":"[1]Inputs!P25","v":620045.32999999996},{"$f":"[1]Inputs!Q25","v":3075471},{"$f":"[1]Inputs!R25","v":629322.99258132093},null,156778.6950982842,324967,55053.954589999987,220520.60797803651,125598.5523815543,64392,110624.30894875689,42202.807985340398,155232,890508,147442.64802131549,1439790,175959,199303.1545995771,521046.00441000052,2618855,569510.18948670686]
[{"$f":"A24","v":3},"Opening RAB excluding revaluations",145352.6386487681,299146,51405.495909999976,197005,116251.30986106988,61562.159,98492.502731696863,28617,140998,813508.7,137117,1302563,161685,174771,462687,2379108,521133.33449404512,null,{"$f":"[1]Inputs!B26","v":170446.47},{"$f":"[1]Inputs!C26","v":361569.54422574752},{"$f":"[1]Inputs!D26","v":48772},{"$f":"[1]Inputs!E26","v":240111.30192480088},{"$f":"[1]Inputs!F26","v":141779.87942000001},{"$f":"[1]Inputs!G26","v":77250.2},{"$f":"[1]Inputs!H26","v":114466.56377703784},{"$f":"[1]Inputs!I26","v":37930},{"$f":"[1]Inputs!J26","v":150203},{"$f":"[1]Inputs!K26","v":965046.96399999992},{"$f":"[1]Inputs!L26","v":173737},{"$f":"[1]Inputs!M26","v":1517689.7834197362},{"$f":"[1]Inputs!N26","v":166614.80105177328},{"$f":"[1]Inputs!O26","v":224217.63158074598},{"$f":"[1]Inputs!P26","v":536379},{"$f":"[1]Inputs!Q26","v":2695210},{"$f":"[1]Inputs!R26","v":556622.52018648502},null,145352.6386487681,299146,51405.495909999976,197005,116251.30986106988,61562.159,98492.502731696863,28617,140998,813508.7,137117,1302563,161685,174771,462687,2379108,521133.33449404512]
[{"$f":"$A$36+1","v":3},"Adjusted depreciation",9044.8335228191881,10727,2422.7205299999978,6459,4594.4920010231417,2326.4580000000001,4378.6461700009932,1078,6184.0269695235347,32282.400000000001,6400,56102,8599,6297,20012,85581,25002.705953980876,null,{"$f":"[1]Inputs!B27","v":10635.430916170135},{"$f":"[1]Inputs!C27","v":13630.7986916892},{"$f":"[1]Inputs!D27","v":1934},{"$f":"[1]Inputs!E27","v":8731.3741433898904},{"$f":"[1]Inputs!F27","v":5287.9484400000001},{"$f":"[1]Inputs!G27","v":2844.8539999999998},{"$f":"[1]Inputs!H27","v":5022.3270200007209},{"$f":"[1]Inputs!I27","v":1354},{"$f":"[1]Inputs!J27","v":6290},{"$f":"[1]Inputs!K27","v":36341.389000000003},{"$f":"[1]Inputs!L27","v":7161},{"$f":"[1]Inputs!M27","v":60760.817678568899},{"$f":"[1]Inputs!N27","v":7730.9831109175566},{"$f":"[1]Inputs!O27","v":7999.2173910088077},{"$f":"[1]Inputs!P27","v":25169},{"$f":"[1]Inputs!Q27","v":99210},{"$f":"[1]Inputs!R27","v":23190.279411230553},null,9044.8335228191881,10727,2422.7205299999978,6459,4594.4920010231417,2326.4580000000001,4378.6461700009932,1078,6184.0269695235347,32282.400000000001,6400,56102,8599,6297,20012,85581,25002.705953980876]
[3,"Tax depreciation",8307.997801038553,14927,2462.2910609461051,10145,6884.5093809769442,2173.4059999999999,3708,891,3490,32886.799999999996,7427.5870000000004,69941,4007,7367.897964144895,25109,90303,28396.70973000002,null,{"$f":"[1]Inputs!B28","v":14782.759912538904},{"$f":"[1]Inputs!C28","v":21650},{"$f":"[1]Inputs!D28","v":2186},{"$f":"[1]Inputs!E28","v":11910.710938979737},{"$f":"[1]Inputs!F28","v":6271.2953399997159},{"$f":"[1]Inputs!G28","v":3313.98},{"$f":"[1]Inputs!H28","v":5404.5006091970481},{"$f":"[1]Inputs!I28","v":1297},{"$f":"[1]Inputs!J28","v":5114},{"$f":"[1]Inputs!K28","v":32004.274999999998},{"$f":"[1]Inputs!L28","v":15388},{"$f":"[1]Inputs!M28","v":79612.315544819998},{"$f":"[1]Inputs!N28","v":4330.0359719999988},{"$f":"[1]Inputs!O28","v":11576.768156254197},{"$f":"[1]Inputs!P28","v":30035},{"$f":"[1]Inputs!Q28","v":103486},{"$f":"[1]Inputs!R28","v":28793.117962970849},null,8307.997801038553,14927,2462.2910609461051,10145,6884.5093809769442,2173.4059999999999,3708,891,3490,32886.799999999996,7427.5870000000004,69941,4007,7367.897964144895,25109,90303,28396.70973000002]
[3,"Opening regulatory tax asset value",86577.364686041721,163270,25808.016472927589,106837,72106.669156553209,25280.257902471829,31886.655452793289,9314.9439999999977,42509.937824539091,270627.68400000001,90115,896706.0350188564,41312,85698.493497666612,266951.68196640036,966964,345886.83052999992,null,{"$f":"[1]Inputs!B29","v":122940.02874936687},{"$f":"[1]Inputs!C29","v":222185.91470027712},{"$f":"[1]Inputs!D29","v":24349},{"$f":"[1]Inputs!E29","v":134591.63086295308},{"$f":"[1]Inputs!F29","v":70250.535713750753},{"$f":"[1]Inputs!G29","v":41317.030000000006},{"$f":"[1]Inputs!H29","v":51284.962998490366},{"$f":"[1]Inputs!I29","v":18165},{"$f":"[1]Inputs!J29","v":63134},{"$f":"[1]Inputs!K29","v":400019.63159},{"$f":"[1]Inputs!L29","v":95268},{"$f":"[1]Inputs!M29","v":1025176.28156504},{"$f":"[1]Inputs!N29","v":45756},{"$f":"[1]Inputs!O29","v":136251.1718910354},{"$f":"[1]Inputs!P29","v":313784},{"$f":"[1]Inputs!Q29","v":1224826},{"$f":"[1]Inputs!R29","v":351370.70442136371},null,86577.364686041721,163270,25808.016472927589,106837,72106.669156553209,25280.257902471829,31886.655452793289,9314.9439999999977,42509.937824539091,270627.68400000001,90115,896706.0350188564,41312,85698.493497666612,266951.68196640036,966964,345886.83052999992]
[3,"Amortisation of initial differences in asset values",2834.6039573955459,3587.2448979591836,1286.6279950565795,2215.5339233653094,1045.9000577615802,1333.0705360076558,4218.9445353069659,704.21174575737894,2753.8698741671392,15754.341926729987,1366.8888888888889,10748.870856771116,4085.2943700291548,3399.086956521739,5741.5162875289561,35098.305555555555,6153.7079716688913,null,{"$f":"[1]Inputs!B30","v":2756.1747845868776},{"$f":"[1]Inputs!C30","v":4989.9524061343209},{"$f":"[1]Inputs!D30","v":1254.5},{"$f":"[1]Inputs!E30","v":2142.610348679998},{"$f":"[1]Inputs!F30","v":1900.5760598863596},{"$f":"[1]Inputs!G30","v":1268.3684210526317},{"$f":"[1]Inputs!H30","v":4218.9445353069541},{"$f":"[1]Inputs!I30","v":693.05},{"$f":"[1]Inputs!J30","v":3239.1631535884967},{"$f":"[1]Inputs!K30","v":15323.202053922892},{"$f":"[1]Inputs!L30","v":1343.5454545454545},{"$f":"[1]Inputs!M30","v":10201.180992856574},{"$f":"[1]Inputs!N30","v":4085.2698642630403},{"$f":"[1]Inputs!O30","v":3399.105263157895},{"$f":"[1]Inputs!P30","v":5670.1},{"$f":"[1]Inputs!Q30","v":34300.677419354841},{"$f":"[1]Inputs!R30","v":7150.7843480592637},null,2834.6039573955459,3587.2448979591836,1286.6279950565795,2215.5339233653094,1045.9000577615802,1333.0705360076558,4218.9445353069659,704.21174575737894,2753.8698741671392,15754.341926729987,1366.8888888888889,10748.870856771116,4085.2943700291548,3399.086956521739,5741.5162875289561,35098.305555555555,6153.7079716688913]
[{"$f":"A80+1","v":8},"Term credit spread differential allowance",0,0,0,0,0,0,0,0,0,0,0,0,1.9487099708037641,0,0.46207651139021039,518.32958466109892,563.41004268234099,null,{"$f":"[1]Inputs!B31","v":0},{"$f":"[1]Inputs!C31","v":0},{"$f":"[1]Inputs!D31","v":0},{"$f":"[1]Inputs!E31","v":0},{"$f":"[1]Inputs!F31","v":0},{"$f":"[1]Inputs!G31","v":0},{"$f":"[1]Inputs!H31","v":0},{"$f":"[1]Inputs!I31","v":0},{"$f":"[1]Inputs!J31","v":0},{"$f":"[1]Inputs!K31","v":788.45529410731547},{"$f":"[1]Inputs!L31","v":0},{"$f":"[1]Inputs!M31","v":1966.526362123079},{"$f":"[1]Inputs!N31","v":0},{"$f":"[1]Inputs!O31","v":0},{"$f":"[1]Inputs!P31","v":440.18873192767637},{"$f":"[1]Inputs!Q31","v":3983.6873940243322},{"$f":"[1]Inputs!R31","v":362.46155455940988},null,0,0,0,0,0,0,0,0,0,0,0,0,1.9487099708037641,0,0.46207651139021039,518.32958466109892,563.41004268234099]
[{"$f":"A37","v":3},"Opening deferred tax balance",-1026.7934873134191,-2683,-1326.0287931361331,-3876.24,-3312.5886727629886,-1536.3879904854653,-2873.3114919049694,-428.39227426402908,-473.45011438517145,-20636.53,-3135,-23571.719999999998,-3843.5890204507068,-2693,-14382.885814165747,-43155,-17901.385461738835,null,{"$f":"[1]Inputs!B32","v":-6546.4247455849472},{"$f":"[1]Inputs!C32","v":-18008.439662752455},{"$f":"[1]Inputs!D32","v":-2740},{"$f":"[1]Inputs!E32","v":-12614.867288168751},{"$f":"[1]Inputs!F32","v":-7364},{"$f":"[1]Inputs!G32","v":-3433.9625072251488},{"$f":"[1]Inputs!H32","v":0},{"$f":"[1]Inputs!I32","v":-1441},{"$f":"[1]Inputs!J32","v":-1612.3519205251705},{"$f":"[1]Inputs!K32","v":-43149.148637470855},{"$f":"[1]Inputs!L32","v":-12352},{"$f":"[1]Inputs!M32","v":-60532.961543424855},{"$f":"[1]Inputs!N32","v":-12008},{"$f":"[1]Inputs!O32","v":-10180.726118980281},{"$f":"[1]Inputs!P32","v":-29786},{"$f":"[1]Inputs!Q32","v":-83664},{"$f":"[1]Inputs!R32","v":-33852.900993842857},null,-1026.7934873134191,-2683,-1326.0287931361331,-3876.24,-3312.5886727629886,-1536.3879904854653,-2873.3114919049694,-428.39227426402908,-473.45011438517145,-20636.53,-3135,-23571.719999999998,-3843.5890204507068,-2693,-14382.885814165747,-43155,-17901.385461738835]
[{"$f":"A22+1","v":11},"Adjustment factor (for accelerated depreciation)",1,1,1,1,1,1,1,1,1,1,1,1,1,1,1,1,1,null,{"$f":"[1]Inputs!B33","v":1},{"$f":"[1]Inputs!C33","v":1},{"$f":"[1]Inputs!D33","v":1},{"$f":"[1]Inputs!E33","v":1},{"$f":"[1]Inputs!F33","v":1},{"$f":"[1]Inputs!G33","v":1},{"$f":"[1]Inputs!H33","v":1},{"$f":"[1]Inputs!I33","v":1},{"$f":"[1]Inputs!J33","v":1},{"$f":"[1]Inputs!K33","v":1},{"$f":"[1]Inputs!L33","v":1},{"$f":"[1]Inputs!M33","v":1},{"$f":"[1]Inputs!N33","v":1},{"$f":"[1]Inputs!O33","v":1},{"$f":"[1]Inputs!P33","v":1},{"$f":"[1]Inputs!Q33","v":1},{"$f":"[1]Inputs!R33","v":1},null,1,1,1,1,1,1,1,1,1,1,1,1,1,1,1,1,1]
[{"$f":"A42+1","v":9},"Additional allowance in 1 April 2015 PV terms",563.21950926363934,0,0,0,0,0,0,0,0,0,61.952903490280733,0,101.1145677184104,0,0,0,0,null,{"$f":"[1]Inputs!B34","v":0},{"$f":"[1]Inputs!C34","v":0},{"$f":"[1]Inputs!D34","v":0},{"$f":"[1]Inputs!E34","v":0},{"$f":"[1]Inputs!F34","v":0},{"$f":"[1]Inputs!G34","v":0},{"$f":"[1]Inputs!H34","v":0},{"$f":"[1]Inputs!I34","v":0},{"$f":"[1]Inputs!J34","v":0},{"$f":"[1]Inputs!K34","v":0},{"$f":"[1]Inputs!L34","v":0},{"$f":"[1]Inputs!M34","v":0},{"$f":"[1]Inputs!N34","v":0},{"$f":"[1]Inputs!O34","v":0},{"$f":"[1]Inputs!P34","v":0},{"$f":"[1]Inputs!Q34","v":0},{"$f":"[1]Inputs!R34","v":0},null,563.21950926363934,0,0,0,0,0,0,0,0,0,61.952903490280733,0,101.1145677184104,0,0,0,0]
[{"$f":"A26","v":14},"Alternative X factor",-0.11,0,-7.0000000000000007E-2,0,-0.03,0,0,0,0,0,0,0,0,-7.0000000000000007E-2,0,0,0,null,{"$f":"[1]Inputs!B35","v":0},{"$f":"[1]Inputs!C35","v":0},{"$f":"[1]Inputs!D35","v":0},{"$f":"[1]Inputs!E35","v":0},{"$f":"[1]Inputs!F35","v":0},{"$f":"[1]Inputs!G35","v":0},{"$f":"[1]Inputs!H35","v":0},{"$f":"[1]Inputs!I35","v":0},{"$f":"[1]Inputs!J35","v":0},{"$f":"[1]Inputs!K35","v":0},{"$f":"[1]Inputs!L35","v":0},{"$f":"[1]Inputs!M35","v":0},{"$f":"[1]Inputs!N35","v":0},{"$f":"[1]Inputs!O35","v":0},{"$f":"[1]Inputs!P35","v":0},{"$f":"[1]Inputs!Q35","v":0},{"$f":"[1]Inputs!R35","v":0},null,-0.11,0,-7.0000000000000007E-2,0,-0.03,0,0,0,0,0,0,0,0,-7.0000000000000007E-2,0,0,0]
[null,"Operating expenditure",null,null,null,null,null,null,null,null,null,null,null,null,null,null,null,null,null,null,"2015 values plus:"]
[{"$f":"A72+1","v":6},{"$f":"\"Operating expenditure, \" & N19","v":"Operating expenditure, 2013/14"},{"$f":"IF($C$5<$A48,AM48,U48)","v":15271.56043},22317,4333,8214,7809.8741499999996,4814.067,7731,2232,8543,50934,{"$f":"IF($C$5<$A48,AW48,AE48)","v":7679.5959999999995},67817.648873944156,10693,12617.3259424278,34853.785604490084,106706,29611.046130000002,null,{"$error":"#N/A"},{"$error":"#N/A"},{"$error":"#N/A"},{"$error":"#N/A"},{"$error":"#N/A"},{"$error":"#N/A"},{"$error":"#N/A"},{"$error":"#N/A"},{"$error":"#N/A"},{"$error":"#N/A"},{"$error":"#N/A"},{"$error":"#N/A"},{"$error":"#N/A"},{"$error":"#N/A"},{"$error":"#N/A"},{"$error":"#N/A"},{"$error":"#N/A"},null,15271.56043,22317,4333,8214,7809.8741499999996,4814.067,7731,2232,8543,50934,7679.5959999999995,67817.648873944156,10693,12617.3259424278,34853.785604490084,106706,29611.046130000002]
[{"$f":"$A$48","v":6},"Operating expenditure, 2014/15",14209.93160452411,21223.498792315375,4340.9046401687829,8234.319145468151,7839.3329027602285,5257.4002812657418,7543.4474035912608,2366.7712523380897,8798.7128505805613,51168.285409365402,7191.930763919222,68411.041649322928,10417.890660751798,13112.335496795615,34603.452053471177,103926.51146065461,29751.795765258117,null,{"$error":"#N/A"},{"$error":"#N/A"},{"$error":"#N/A"},{"$error":"#N/A"},{"$error":"#N/A"},{"$error":"#N/A"},{"$error":"#N/A"},{"$error":"#N/A"},{"$error":"#N/A"},{"$error":"#N/A"},{"$error":"#N/A"},{"$error":"#N/A"},{"$error":"#N/A"},{"$error":"#N/A"},{"$error":"#N/A"},{"$error":"#N/A"},{"$error":"#N/A"},null,14209.93160452411,21223.498792315375,4340.9046401687829,8234.319145468151,7839.3329027602285,5257.4002812657418,7543.4474035912608,2366.7712523380897,8798.7128505805613,51168.285409365402,7191.930763919222,68411.041649322928,10417.890660751798,13112.335496795615,34603.452053471177,103926.51146065461,29751.795765258117]
[6,"Operating expenditure, 2015/16",14721.621133600251,22066.860057716447,4488.3441341896032,8561.4606002343298,8100.7749630744456,5444.1635052691263,7780.6671256952195,2462.6776588932416,9144.4129629233503,53114.884253437558,7457.3286161967844,70948.053117525007,10710.817589093906,13594.834435840494,35854.239332737496,108576.89157687448,30899.220603378686,null,{"$f":"[1]Inputs!B37","v":19420.272954529883},{"$f":"[1]Inputs!C37","v":44723.360920152074},{"$f":"[1]Inputs!D37","v":4226.3554367558718},{"$f":"[1]Inputs!E37","v":11823.138001241525},{"$f":"[1]Inputs!F37","v":10615.39048330826},{"$f":"[1]Inputs!G37","v":5180.7118078829417},{"$f":"[1]Inputs!H37","v":9885.6120036048451},{"$f":"[1]Inputs!I37","v":2246.8374172983913},{"$f":"[1]Inputs!J37","v":11157.711965454881},{"$f":"[1]Inputs!K37","v":64153.54839840129},{"$f":"[1]Inputs!L37","v":9162.9239113704207},{"$f":"[1]Inputs!M37","v":93422.96777908341},{"$f":"[1]Inputs!N37","v":14911.902690078447},{"$f":"[1]Inputs!O37","v":16021.47849146213},{"$f":"[1]Inputs!P37","v":41582.387166609762},{"$f":"[1]Inputs!Q37","v":127351.13794047505},{"$f":"[1]Inputs!R37","v":35667.657349661255},null,14721.621133600251,22066.860057716447,4488.3441341896032,8561.4606002343298,8100.7749630744456,5444.1635052691263,7780.6671256952195,2462.6776588932416,9144.4129629233503,53114.884253437558,7457.3286161967844,70948.053117525007,10710.817589093906,13594.834435840494,35854.239332737496,108576.89157687448,30899.220603378686]
[6,"Operating expenditure, 2016/17",15182.347638382114,22846.170405320772,4620.3471024237024,8856.7149522426425,8341.4174897711928,5609.7131950652647,7994.8970003700133,2550.1414315248185,9458.0429053631324,54967.775456297844,7695.3042749975866,73328.771408192479,{"$f":"IF($C$5<$A51,AY51,AG51)","v":10977.503499463683},14045.848864840515,36996.186172104593,113032.75844648163,31949.915703800572,null,{"$f":"[1]Inputs!B38","v":20012.120279799667},{"$f":"[1]Inputs!C38","v":46248.530101285549},{"$f":"[1]Inputs!D38","v":4334.1752993991695},{"$f":"[1]Inputs!E38","v":12215.64195402153},{"$f":"[1]Inputs!F38","v":10898.081808208053},{"$f":"[1]Inputs!G38","v":5310.5866354806431},{"$f":"[1]Inputs!H38","v":10170.692704882435},{"$f":"[1]Inputs!I38","v":2316.9756478733179},{"$f":"[1]Inputs!J38","v":11513.079497756995},{"$f":"[1]Inputs!K38","v":66487.65442505297},{"$f":"[1]Inputs!L38","v":9425.276484157599},{"$f":"[1]Inputs!M38","v":96485.788832775754},{"$f":"[1]Inputs!N38","v":15303.187164084151},{"$f":"[1]Inputs!O38","v":16537.344449902448},{"$f":"[1]Inputs!P38","v":42904.143031967935},{"$f":"[1]Inputs!Q38","v":132448.68478800423},{"$f":"[1]Inputs!R38","v":36792.115466627467},null,15182.347638382114,22846.170405320772,4620.3471024237024,8856.7149522426425,8341.4174897711928,5609.7131950652647,7994.8970003700133,2550.1414315248185,9458.0429053631324,54967.775456297844,7695.3042749975866,73328.771408192479,10977.503499463683,14045.848864840515,36996.186172104593,113032.75844648163,31949.915703800572]
[6,"Operating expenditure, 2017/18",15599.291129873338,23565.079796409307,4738.552418113788,9128.0955047043863,8557.2808783147557,5758.8105474126924,8184.4961429163322,2630.9073590513653,9746.0665573421375,56674.009517527404,7911.3901512908124,75507.662863879756,11209.05654250219,14457.925013720964,38032.604455029454,117234.29622393576,32913.542844321601,null,{"$f":"[1]Inputs!B39","v":20629.432088719677},{"$f":"[1]Inputs!C39","v":48129.315518557181},{"$f":"[1]Inputs!D39","v":4446.3502257826885},{"$f":"[1]Inputs!E39","v":12625.159114988157},{"$f":"[1]Inputs!F39","v":11192.331982694157},{"$f":"[1]Inputs!G39","v":5445.680405811705},{"$f":"[1]Inputs!H39","v":10485.3193626175},{"$f":"[1]Inputs!I39","v":2390.165824962854},{"$f":"[1]Inputs!J39","v":11880.376540380918},{"$f":"[1]Inputs!K39","v":68931.505534761251},{"$f":"[1]Inputs!L39","v":9698.6497569249568},{"$f":"[1]Inputs!M39","v":99415.113273788185},{"$f":"[1]Inputs!N39","v":15708.68537776473},{"$f":"[1]Inputs!O39","v":17051.661586794446},{"$f":"[1]Inputs!P39","v":44325.326030975797},{"$f":"[1]Inputs!Q39","v":137800.82316421505},{"$f":"[1]Inputs!R39","v":37965.379905078691},null,15599.291129873338,23565.079796409307,4738.552418113788,9128.0955047043863,8557.2808783147557,5758.8105474126924,8184.4961429163322,2630.9073590513653,9746.0665573421375,56674.009517527404,7911.3901512908124,75507.662863879756,11209.05654250219,14457.925013720964,38032.604455029454,117234.29622393576,32913.542844321601]
[6,"Operating expenditure, 2018/19",16026.384903925755,24304.639623821298,4859.3876196237725,9407.0298588206097,8778.0184829240443,5911.391147921855,8377.9197927889472,2714.0233226266469,10042.046922217847,58428.6305187119,8132.9187520007799,77745.001653806801,11444.614865419746,14880.927153692932,39094.888690981199,121582.36950674365,33903.490229867937,null,{"$f":"[1]Inputs!B40","v":21237.104508905344},{"$f":"[1]Inputs!C40","v":50194.342279207958},{"$f":"[1]Inputs!D40","v":4555.1256011520263},{"$f":"[1]Inputs!E40","v":13063.733466005098},{"$f":"[1]Inputs!F40","v":11497.233733516021},{"$f":"[1]Inputs!G40","v":5585.0372989621037},{"$f":"[1]Inputs!H40","v":10832.659285539019},{"$f":"[1]Inputs!I40","v":2464.9982164724033},{"$f":"[1]Inputs!J40","v":12252.618877414719},{"$f":"[1]Inputs!K40","v":71320.638016152108},{"$f":"[1]Inputs!L40","v":9957.7843427989283},{"$f":"[1]Inputs!M40","v":102609.67054767133},{"$f":"[1]Inputs!N40","v":16108.546154128071},{"$f":"[1]Inputs!O40","v":17569.351795284168},{"$f":"[1]Inputs!P40","v":45716.096451782498},{"$f":"[1]Inputs!Q40","v":142973.17103060253},{"$f":"[1]Inputs!R40","v":39168.447023023255},null,16026.384903925755,24304.639623821298,4859.3876196237725,9407.0298588206097,8778.0184829240443,5911.391147921855,8377.9197927889472,2714.0233226266469,10042.046922217847,58428.6305187119,8132.9187520007799,77745.001653806801,11444.614865419746,14880.927153692932,39094.888690981199,121582.36950674365,33903.490229867937]
[{"$f":"$A$48","v":6},"Operating expenditure, 2019/20",16401.803784250267,24970.934160742465,4964.125221764768,9657.1788136897067,8969.795329315506,6044.6608452802484,8542.9170007781904,2789.0024320843036,10307.194324866268,60005.910537143383,8328.5088945580501,79740.567081763351,11640.20185106574,15257.403226093204,40032.182050100469,125606.65690250133,34788.813003133313,null,{"$f":"[1]Inputs!B41","v":21815.917390452156},{"$f":"[1]Inputs!C41","v":51957.912857729047},{"$f":"[1]Inputs!D41","v":4656.5817269339068},{"$f":"[1]Inputs!E41","v":13485.875623804186},{"$f":"[1]Inputs!F41","v":11783.558278263976},{"$f":"[1]Inputs!G41","v":5715.7104429980354},{"$f":"[1]Inputs!H41","v":11113.449993116894},{"$f":"[1]Inputs!I41","v":2536.7168571561815},{"$f":"[1]Inputs!J41","v":12609.498185049688},{"$f":"[1]Inputs!K41","v":73634.73385941294},{"$f":"[1]Inputs!L41","v":10201.98054950084},{"$f":"[1]Inputs!M41","v":106186.76391969755},{"$f":"[1]Inputs!N41","v":16483.229017258454},{"$f":"[1]Inputs!O41","v":18063.176010234187},{"$f":"[1]Inputs!P41","v":47028.877622765081},{"$f":"[1]Inputs!Q41","v":148015.88957073344},{"$f":"[1]Inputs!R41","v":40320.616474967421},null,16401.803784250267,24970.934160742465,4964.125221764768,9657.1788136897067,8969.795329315506,6044.6608452802484,8542.9170007781904,2789.0024320843036,10307.194324866268,60005.910537143383,8328.5088945580501,79740.567081763351,11640.20185106574,15257.403226093204,40032.182050100469,125606.65690250133,34788.813003133313]
[null,"Constant price revenue growth",null,null,null,null,null,null,null,null,null,null,null,null,null,null,null,null,null,null,"Zeroed"]
[{"$f":"A16+1","v":13},{"$f":"\"Constant price revenue growth, \" & N19","v":"Constant price revenue growth, 2013/14"},{"$f":"IF($C$5<$A56,AM56,U56)","v":2.6759444082874303E-3},5.5355582484285324E-3,-6.3415516110259026E-3,3.4460417064763921E-3,-2.6371513044971791E-3,1.6874571127879477E-3,-2.253440683545856E-4,6.1231501649797095E-3,5.0281106792126572E-3,0,{"$f":"IF($C$5<$A56,AW56,AE56)","v":3.6846920782675359E-3},-5.4301175204408622E-4,-5.7801163313146555E-3,-3.5900683809597014E-3,2.7957173458623176E-3,1.0317307390726106E-2,4.4609461137203156E-3,null,0,0,0,0,0,0,0,0,0,0,0,0,0,0,0,0,0,null,2.6759444082874303E-3,5.5355582484285324E-3,-6.3415516110259026E-3,3.4460417064763921E-3,-2.6371513044971791E-3,1.6874571127879477E-3,-2.253440683545856E-4,6.1231501649797095E-3,5.0281106792126572E-3,0,3.6846920782675359E-3,-5.4301175204408622E-4,-5.7801163313146555E-3,-3.5900683809597014E-3,2.7957173458623176E-3,1.0317307390726106E-2,4.4609461137203156E-3]
[{"$f":"$A$56","v":13},"Constant price revenue growth, 2014/15",2.6759444082874303E-3,5.5355582484285324E-3,-6.3415516110259026E-3,3.4460417064763921E-3,-2.6371513044971791E-3,1.6874571127879477E-3,-2.253440683545856E-4,6.1231501649797095E-3,5.0281106792126572E-3,0,3.6846920782675359E-3,-5.4301175204408622E-4,-5.7801163313146555E-3,-3.5900683809597014E-3,2.7957173458623176E-3,1.0317307390726106E-2,4.4609461137203156E-3,null,0,0,0,0,0,0,0,0,0,0,0,0,0,0,0,0,0,null,2.6759444082874303E-3,5.5355582484285324E-3,-6.3415516110259026E-3,3.4460417064763921E-3,-2.6371513044971791E-3,1.6874571127879477E-3,-2.253440683545856E-4,6.1231501649797095E-3,5.0281106792126572E-3,0,3.6846920782675359E-3,-5.4301175204408622E-4,-5.7801163313146555E-3,-3.5900683809597014E-3,2.7957173458623176E-3,1.0317307390726106E-2,4.4609461137203156E-3]
[13,"Constant price revenue growth, 2015/16",2.6759444082874303E-3,5.5355582484285324E-3,-6.3415516110259026E-3,3.4460417064763921E-3,-2.6371513044971791E-3,1.6874571127879477E-3,-2.253440683545856E-4,6.1231501649797095E-3,5.0281106792126572E-3,0,3.6846920782675359E-3,-5.4301175204408622E-4,-5.7801163313146555E-3,-3.5900683809597014E-3,2.7957173458623176E-3,1.0317307390726106E-2,4.4609461137203156E-3,null,0,0,0,0,0,0,0,0,0,0,0,0,0,0,0,0,0,null,2.6759444082874303E-3,5.5355582484285324E-3,-6.3415516110259026E-3,3.4460417064763921E-3,-2.6371513044971791E-3,1.6874571127879477E-3,-2.253440683545856E-4,6.1231501649797095E-3,5.0281106792126572E-3,0,3.6846920782675359E-3,-5.4301175204408622E-4,-5.7801163313146555E-3,-3.5900683809597014E-3,2.7957173458623176E-3,1.0317307390726106E-2,4.4609461137203156E-3]
[13,"Constant price revenue growth, 2016/17",2.5764323694281374E-3,5.6678506813341517E-3,-6.3415516110259026E-3,3.2478791569194761E-3,-1.9440497348567471E-3,1.2233987376708321E-3,2.0180151670667022E-4,5.8490772728519921E-3,4.7130433282988127E-3,0,3.3881692759438484E-3,5.8612510223557119E-4,-4.9817611510852037E-3,-2.4329104998304487E-3,2.9939324141135112E-3,1.0978986210538146E-2,4.4716882519264074E-3,null,0,0,0,0,0,0,0,0,0,0,0,0,0,0,0,0,0,null,2.5764323694281374E-3,5.6678506813341517E-3,-6.3415516110259026E-3,3.2478791569194761E-3,-1.9440497348567471E-3,1.2233987376708321E-3,2.0180151670667022E-4,5.8490772728519921E-3,4.7130433282988127E-3,0,3.3881692759438484E-3,5.8612510223557119E-4,-4.9817611510852037E-3,-2.4329104998304487E-3,2.9939324141135112E-3,1.0978986210538146E-2,4.4716882519264074E-3]
[13,"Constant price revenue growth, 2017/18",2.5764323694281374E-3,5.66785068133415E-3,-6.3415516110259026E-3,3.2478791569194761E-3,-1.9440497348567471E-3,1.2233987376708321E-3,2.0180151670667022E-4,5.8490772728519921E-3,4.7130433282988127E-3,0,3.3881692759438484E-3,5.8612510223557119E-4,-4.9817611510852037E-3,-2.4329104998304487E-3,2.9939324141135112E-3,1.0978986210538146E-2,4.4716882519264074E-3,null,0,0,0,0,0,0,0,0,0,0,0,0,0,0,0,0,0,null,2.5764323694281374E-3,5.66785068133415E-3,-6.3415516110259026E-3,3.2478791569194761E-3,-1.9440497348567471E-3,1.2233987376708321E-3,2.0180151670667022E-4,5.8490772728519921E-3,4.7130433282988127E-3,0,3.3881692759438484E-3,5.8612510223557119E-4,-4.9817611510852037E-3,-2.4329104998304487E-3,2.9939324141135112E-3,1.0978986210538146E-2,4.4716882519264074E-3]
[13,"Constant price revenue growth, 2018/19",2.5764323694281374E-3,5.6678506813341517E-3,-6.3415516110259026E-3,3.2478791569194761E-3,-1.9440497348567471E-3,1.2233987376708321E-3,2.0180151670667022E-4,5.8490772728519921E-3,4.7130433282988127E-3,0,3.3881692759438484E-3,5.8612510223557119E-4,-4.9817611510852037E-3,-2.4329104998304487E-3,2.9939324141135112E-3,1.0978986210538146E-2,4.4716882519264074E-3,null,0,0,0,0,0,0,0,0,0,0,0,0,0,0,0,0,0,null,2.5764323694281374E-3,5.6678506813341517E-3,-6.3415516110259026E-3,3.2478791569194761E-3,-1.9440497348567471E-3,1.2233987376708321E-3,2.0180151670667022E-4,5.8490772728519921E-3,4.7130433282988127E-3,0,3.3881692759438484E-3,5.8612510223557119E-4,-4.9817611510852037E-3,-2.4329104998304487E-3,2.9939324141135112E-3,1.0978986210538146E-2,4.4716882519264074E-3]
[13,"Constant price revenue growth, 2019/20",2.5764323694281374E-3,5.6678506813341517E-3,-6.3415516110259026E-3,3.2478791569194761E-3,-1.9440497348567471E-3,1.2233987376708321E-3,2.0180151670667022E-4,5.8490772728519921E-3,4.7130433282988127E-3,0,3.3881692759438484E-3,5.8612510223557119E-4,-4.9817611510852037E-3,-2.4329104998304487E-3,2.9939324141135112E-3,1.0978986210538146E-2,4.4716882519264074E-3,null,0,0,0,0,0,0,0,0,0,0,0,0,0,0,0,0,0,null,2.5764323694281374E-3,5.6678506813341517E-3,-6.3415516110259026E-3,3.2478791569194761E-3,-1.9440497348567471E-3,1.2233987376708321E-3,2.0180151670667022E-4,5.8490772728519921E-3,4.7130433282988127E-3,0,3.3881692759438484E-3,5.8612510223557119E-4,-4.9817611510852037E-3,-2.4329104998304487E-3,2.9939324141135112E-3,1.0978986210538146E-2,4.4716882519264074E-3]
[null,"Value of commissioned assets",null,null,null,null,null,null,null,null,null,null,null,null,null,null,null,null,null,null,"VCA ex AMPs"]
[{"$f":"A37+1","v":4},{"$f":"\"Value of commissioned assets, \" & N19","v":"Value of commissioned assets, 2013/14"},{"$f":"IF($C$5<$A64,AM64,U64)","v":14228.648620499998},11832,2286,16115,4819.8193810000012,4450.0689999999995,9083.3370349358302,12561.332849999997,5601.5941400000002,77224,{"$f":"IF($C$5<$A64,AW64,AE64)","v":9490.8759999999984},98687.179644265911,9425,18906.102559999999,39348.766588761282,149212,31580.532907743382,null,{"$f":"[1]Inputs!B43","v":17961.779926267081},{"$f":"[1]Inputs!C43","v":63004.353999999992},{"$f":"[1]Inputs!D43","v":5064},{"$f":"[1]Inputs!E43","v":16375.665660000061},{"$f":"[1]Inputs!F43","v":11755.60458000001},{"$f":"[1]Inputs!G43","v":4533.37},{"$f":"[1]Inputs!H43","v":12884.01},{"$f":"[1]Inputs!I43","v":1659.3481999999999},{"$f":"[1]Inputs!J43","v":6557},{"$f":"[1]Inputs!K43","v":63636.967999999993},{"$f":"[1]Inputs!L43","v":12936.768609999999},{"$f":"[1]Inputs!M43","v":185312.73427243941},{"$f":"[1]Inputs!N43","v":23462.783690000011},{"$f":"[1]Inputs!O43","v":15378.413930000001},{"$f":"[1]Inputs!P43","v":53881.408000000003},{"$f":"[1]Inputs!Q43","v":203460},{"$f":"[1]Inputs!R43","v":37191.001710000019},null,14228.648620499998,11832,2286,16115,4819.8193810000012,4450.0689999999995,9083.3370349358302,12561.332849999997,5601.5941400000002,77224,9490.8759999999984,98687.179644265911,9425,18906.102559999999,39348.766588761282,149212,31580.532907743382]
[{"$f":"$A$64","v":4},"Value of commissioned assets, 2014/15",12882.837513377981,23934.647116838121,3044.0879238804982,15357.721253044867,20464.636260745116,11508.127013673731,9534.455725060172,826.7746914854996,16593.805993455342,87576.775266756275,10257.963399868444,109227.64536499629,13561.716937873152,25141.12741905767,48984.096057736693,162927.35745659409,33380.775054962309,null,{"$f":"[1]Inputs!B44","v":14014},{"$f":"[1]Inputs!C44","v":76195.241831549603},{"$f":"[1]Inputs!D44","v":6913.2636087999999},{"$f":"[1]Inputs!E44","v":21629.30733276367},{"$f":"[1]Inputs!F44","v":9803.8482899999999},{"$f":"[1]Inputs!G44","v":5750.2225108244311},{"$f":"[1]Inputs!H44","v":8296.868167577617},{"$f":"[1]Inputs!I44","v":1552},{"$f":"[1]Inputs!J44","v":15593},{"$f":"[1]Inputs!K44","v":66443.232000000004},{"$f":"[1]Inputs!L44","v":23187.72481631265},{"$f":"[1]Inputs!M44","v":180476},{"$f":"[1]Inputs!N44","v":18922.355345399999},{"$f":"[1]Inputs!O44","v":31785.322032399999},{"$f":"[1]Inputs!P44","v":50412.921529999992},{"$f":"[1]Inputs!Q44","v":240761},{"$f":"[1]Inputs!R44","v":52409.994278901962},null,12882.837513377981,23934.647116838121,3044.0879238804982,15357.721253044867,20464.636260745116,11508.127013673731,9534.455725060172,826.7746914854996,16593.805993455342,87576.775266756275,10257.963399868444,109227.64536499629,13561.716937873152,25141.12741905767,48984.096057736693,162927.35745659409,33380.775054962309]
[4,"Value of commissioned assets, 2015/16",9564.4826426300915,26256.21723921004,3367.3158494987106,16033.80447482582,9892.9562224722267,5476.0305679863231,8231.4715348245609,823.84004989284028,6793.2203779824868,82150.6763033147,11238.732876015069,94624.739823183918,14358.466803494664,17151.592527142649,47734.635170159243,150980.16235498802,27257.411162926204,null,{"$f":"[1]Inputs!B45","v":16663.084987074293},{"$f":"[1]Inputs!C45","v":50947.773510247447},{"$f":"[1]Inputs!D45","v":6059.7473996468661},{"$f":"[1]Inputs!E45","v":18050.3141257922},{"$f":"[1]Inputs!F45","v":9684.9777776781502},{"$f":"[1]Inputs!G45","v":4655.6235108371211},{"$f":"[1]Inputs!H45","v":8322.4692415684531},{"$f":"[1]Inputs!I45","v":1627.4748243189306},{"$f":"[1]Inputs!J45","v":10289.860370686423},{"$f":"[1]Inputs!K45","v":72172.38359853992},{"$f":"[1]Inputs!L45","v":13989.584671125622},{"$f":"[1]Inputs!M45","v":{"$error":"#N/A"}},{"$f":"[1]Inputs!N45","v":18320.860042033932},{"$f":"[1]Inputs!O45","v":14593.153311847902},{"$f":"[1]Inputs!P45","v":46746.124751395197},{"$f":"[1]Inputs!Q45","v":211119.9718515854},{"$f":"[1]Inputs!R45","v":37748.022005345745},null,9564.4826426300915,26256.21723921004,3367.3158494987106,16033.80447482582,9892.9562224722267,5476.0305679863231,8231.4715348245609,823.84004989284028,6793.2203779824868,82150.6763033147,11238.732876015069,94624.739823183918,14358.466803494664,17151.592527142649,47734.635170159243,150980.16235498802,27257.411162926204]
[4,"Value of commissioned assets, 2016/17",9433.7893241505353,16970.80905572707,3007.6051088494173,23358.398817639107,14592.836759507669,3338.1917762238695,7417.4929846528576,1018.8768547342463,8524.9213953890139,56147.909859235435,9728.0642086293556,100364.32825347129,9993.0349952466477,20556.275269905462,38522.498637246979,156692.88138966693,28408.341185439869,null,{"$f":"[1]Inputs!B46","v":16978.399454502294},{"$f":"[1]Inputs!C46","v":50750.308330537278},{"$f":"[1]Inputs!D46","v":2773.8307717314538},{"$f":"[1]Inputs!E46","v":17941.493243003944},{"$f":"[1]Inputs!F46","v":10136.401061103601},{"$f":"[1]Inputs!G46","v":5052.9447714077578},{"$f":"[1]Inputs!H46","v":6720.079498778955},{"$f":"[1]Inputs!I46","v":1709.8203732676643},{"$f":"[1]Inputs!J46","v":12261.460641572261},{"$f":"[1]Inputs!K46","v":63777.111872759626},{"$f":"[1]Inputs!L46","v":13504.173049339088},{"$f":"[1]Inputs!M46","v":{"$error":"#N/A"}},{"$f":"[1]Inputs!N46","v":16919.227905563937},{"$f":"[1]Inputs!O46","v":15127.253970962542},{"$f":"[1]Inputs!P46","v":52524.928561752349},{"$f":"[1]Inputs!Q46","v":209600.00629559506},{"$f":"[1]Inputs!R46","v":35509.954336362658},null,9433.7893241505353,16970.80905572707,3007.6051088494173,23358.398817639107,14592.836759507669,3338.1917762238695,7417.4929846528576,1018.8768547342463,8524.9213953890139,56147.909859235435,9728.0642086293556,100364.32825347129,9993.0349952466477,20556.275269905462,38522.498637246979,156692.88138966693,28408.341185439869]
[4,"Value of commissioned assets, 2017/18",10826.837234549381,15873.947143832474,3224.4912081306206,18899.627550089452,8224.0417107271951,2897.0378241914837,6974.7253658223271,1489.9900132357134,10739.305047332884,49385.375448311534,10573.501264175555,115022.3327738347,10050.043536583715,17830.150529636325,37410.9370307465,160728.93450262668,34853.11278943684,null,{"$f":"[1]Inputs!B47","v":15377.140956497071},{"$f":"[1]Inputs!C47","v":48245.581949487467},{"$f":"[1]Inputs!D47","v":3967.7815608953551},{"$f":"[1]Inputs!E47","v":17796.759119063441},{"$f":"[1]Inputs!F47","v":8982.1740783163259},{"$f":"[1]Inputs!G47","v":5567.5747524279859},{"$f":"[1]Inputs!H47","v":8075.3672553967899},{"$f":"[1]Inputs!I47","v":1663.731588304842},{"$f":"[1]Inputs!J47","v":9042.3641329302391},{"$f":"[1]Inputs!K47","v":89623.654410387855},{"$f":"[1]Inputs!L47","v":18002.808964582848},{"$f":"[1]Inputs!M47","v":{"$error":"#N/A"}},{"$f":"[1]Inputs!N47","v":15873.676646380469},{"$f":"[1]Inputs!O47","v":16514.785707311417},{"$f":"[1]Inputs!P47","v":50530.601455491415},{"$f":"[1]Inputs!Q47","v":213423.98232804175},{"$f":"[1]Inputs!R47","v":37677.090517057499},null,10826.837234549381,15873.947143832474,3224.4912081306206,18899.627550089452,8224.0417107271951,2897.0378241914837,6974.7253658223271,1489.9900132357134,10739.305047332884,49385.375448311534,10573.501264175555,115022.3327738347,10050.043536583715,17830.150529636325,37410.9370307465,160728.93450262668,34853.11278943684]
[4,"Value of commissioned assets, 2018/19",8006.4357462069029,17293.50685256088,3016.5466916706864,18319.397528585723,6679.4002953617264,2148.5626663500871,6499.3845496635777,1594.891489075239,7354.016229542277,38675.876936884008,10734.534006977072,114441.67979740739,9638.9452593267579,16338.210220565175,37365.445314883444,166664.49121648545,31196.833220227065,null,{"$f":"[1]Inputs!B48","v":14672.777154184731},{"$f":"[1]Inputs!C48","v":38772.738517131242},{"$f":"[1]Inputs!D48","v":2840.7102307855239},{"$f":"[1]Inputs!E48","v":15710.84150223012},{"$f":"[1]Inputs!F48","v":9383.3630278770361},{"$f":"[1]Inputs!G48","v":5578.0770141048597},{"$f":"[1]Inputs!H48","v":8520.7632766490988},{"$f":"[1]Inputs!I48","v":1665.5343513423325},{"$f":"[1]Inputs!J48","v":10071.951141968706},{"$f":"[1]Inputs!K48","v":79929.574002059759},{"$f":"[1]Inputs!L48","v":23071.296835907422},{"$f":"[1]Inputs!M48","v":{"$error":"#N/A"}},{"$f":"[1]Inputs!N48","v":16558.302274241945},{"$f":"[1]Inputs!O48","v":16264.117073022302},{"$f":"[1]Inputs!P48","v":46851.604858224193},{"$f":"[1]Inputs!Q48","v":209518.18392710513},{"$f":"[1]Inputs!R48","v":39911.186049068143},null,8006.4357462069029,17293.50685256088,3016.5466916706864,18319.397528585723,6679.4002953617264,2148.5626663500871,6499.3845496635777,1594.891489075239,7354.016229542277,38675.876936884008,10734.534006977072,114441.67979740739,9638.9452593267579,16338.210220565175,37365.445314883444,166664.49121648545,31196.833220227065]
[4,"Value of commissioned assets, 2019/20",8895.7689507102095,13134.164467439925,2820.1403312875887,13076.031754981379,7138.7932753800933,3077.7231665241866,6682.3492010368118,1951.9683580743069,6713.1043830358676,65377.664751973942,10546.221048595917,121831.94915367212,11321.921798795309,18443.545422393803,34263.298311868995,162527.05630339621,31209.071584394187,null,{"$f":"[1]Inputs!B49","v":14150.711147161515},{"$f":"[1]Inputs!C49","v":43211.493557946123},{"$f":"[1]Inputs!D49","v":2963.6864818674044},{"$f":"[1]Inputs!E49","v":14722.518947443514},{"$f":"[1]Inputs!F49","v":10052.315192213098},{"$f":"[1]Inputs!G49","v":5125.7868259029583},{"$f":"[1]Inputs!H49","v":8567.1005445935371},{"$f":"[1]Inputs!I49","v":1671.9158090065555},{"$f":"[1]Inputs!J49","v":8471.990542954245},{"$f":"[1]Inputs!K49","v":84444.365243546883},{"$f":"[1]Inputs!L49","v":13934.599644582944},{"$f":"[1]Inputs!M49","v":{"$error":"#N/A"}},{"$f":"[1]Inputs!N49","v":15250.2101420237},{"$f":"[1]Inputs!O49","v":16597.07093675133},{"$f":"[1]Inputs!P49","v":48041.410078531495},{"$f":"[1]Inputs!Q49","v":197131.64960191568},{"$f":"[1]Inputs!R49","v":42077.362820820395},null,8895.7689507102095,13134.164467439925,2820.1403312875887,13076.031754981379,7138.7932753800933,3077.7231665241866,6682.3492010368118,1951.9683580743069,6713.1043830358676,65377.664751973942,10546.221048595917,121831.94915367212,11321.921798795309,18443.545422393803,34263.298311868995,162527.05630339621,31209.071584394187]
[null,"Disposed assets"]
[{"$f":"A64+1","v":5},{"$f":"\"Value of disposed assets, \" & N19","v":"Value of disposed assets, 2013/14"},{"$f":"IF($C$5<$A72,AM72,U72)","v":168},129,0,1614,146.0962554985295,214,100,0,274,25717,{"$f":"IF($C$5<$A72,AW72,AE72)","v":19},8275,14,63,5461,8447,371,null,{"$f":"[1]Inputs!B51","v":0},{"$f":"[1]Inputs!C51","v":853.06700000000001},{"$f":"[1]Inputs!D51","v":38},{"$f":"[1]Inputs!E51","v":773.18725158335349},{"$f":"[1]Inputs!F51","v":162.02709496968251},{"$f":"[1]Inputs!G51","v":125.5172148877932},{"$f":"[1]Inputs!H51","v":142.4},{"$f":"[1]Inputs!I51","v":0},{"$f":"[1]Inputs!J51","v":393},{"$f":"[1]Inputs!K51","v":1377.9363699999999},{"$f":"[1]Inputs!L51","v":79.501966691335895},{"$f":"[1]Inputs!M51","v":12095.958583283449},{"$f":"[1]Inputs!N51","v":346.58528799999999},{"$f":"[1]Inputs!O51","v":15.95},{"$f":"[1]Inputs!P51","v":1812},{"$f":"[1]Inputs!Q51","v":7412},{"$f":"[1]Inputs!R51","v":0},null,168,129,0,1614,146.0962554985295,214,100,0,274,25717,19,8275,14,63,5461,8447,371]
[{"$f":"$A$72","v":5},"Value of disposed assets, 2014/15",326.95299250294715,234.79044877773163,0,1363.2441454241728,359.62240430217145,246.86078975203091,336.30327775274554,0,376.41300674252807,6551.0391121559978,65.98410699563118,8205.9434660196584,16.392567651518732,32.230391234872577,1659.9924195972574,9355.2127952054125,94.277688958073711,null,{"$f":"[1]Inputs!B52","v":130.56285494152584},{"$f":"[1]Inputs!C52","v":291.1814713869436},{"$f":"[1]Inputs!D52","v":28.185792018269709},{"$f":"[1]Inputs!E52","v":1081.6181052012112},{"$f":"[1]Inputs!F52","v":178.47885662895501},{"$f":"[1]Inputs!G52","v":122.54430261356083},{"$f":"[1]Inputs!H52","v":279.52838509019517},{"$f":"[1]Inputs!I52","v":69.673769697336382},{"$f":"[1]Inputs!J52","v":549.03917777641948},{"$f":"[1]Inputs!K52","v":1719.4553983460369},{"$f":"[1]Inputs!L52","v":286.71673089558186},{"$f":"[1]Inputs!M52","v":11719.776367633081},{"$f":"[1]Inputs!N52","v":506.71221055210697},{"$f":"[1]Inputs!O52","v":27.481768532562345},{"$f":"[1]Inputs!P52","v":2627.6108777379654},{"$f":"[1]Inputs!Q52","v":10769.994983532757},{"$f":"[1]Inputs!R52","v":3.2834490266159988},null,326.95299250294715,234.79044877773163,0,1363.2441454241728,359.62240430217145,246.86078975203091,336.30327775274554,0,376.41300674252807,6551.0391121559978,65.98410699563118,8205.9434660196584,16.392567651518732,32.230391234872577,1659.9924195972574,9355.2127952054125,94.277688958073711]
[{"$f":"$A$72","v":5},"Value of disposed assets, 2015/16",332.63207673997107,238.86869478627787,0,1386.9233241288111,365.86894730493873,251.14869428866672,342.14477389237146,0,382.95119792664156,6664.8288734093294,67.130232923595003,8348.4784641887363,16.677302077227498,32.790224333245057,1688.8260348259942,9517.710287926102,95.915266681911234,null,{"$f":"[1]Inputs!B53","v":133.04354918541483},{"$f":"[1]Inputs!C53","v":296.71391934329552},{"$f":"[1]Inputs!D53","v":28.721322066616835},{"$f":"[1]Inputs!E53","v":1102.1688492000342},{"$f":"[1]Inputs!F53","v":181.86995490490517},{"$f":"[1]Inputs!G53","v":124.87264436321848},{"$f":"[1]Inputs!H53","v":284.8394244069089},{"$f":"[1]Inputs!I53","v":70.997571321585767},{"$f":"[1]Inputs!J53","v":559.47092215417149},{"$f":"[1]Inputs!K53","v":1752.1250509146116},{"$f":"[1]Inputs!L53","v":292.16434878259787},{"$f":"[1]Inputs!M53","v":11942.452118618108},{"$f":"[1]Inputs!N53","v":516.33974255259704},{"$f":"[1]Inputs!O53","v":28.00392213468103},{"$f":"[1]Inputs!P53","v":2677.535484414987},{"$f":"[1]Inputs!Q53","v":10974.62488821988},{"$f":"[1]Inputs!R53","v":3.3458345581217026},null,332.63207673997107,238.86869478627787,0,1386.9233241288111,365.86894730493873,251.14869428866672,342.14477389237146,0,382.95119792664156,6664.8288734093294,67.130232923595003,8348.4784641887363,16.677302077227498,32.790224333245057,1688.8260348259942,9517.710287926102,95.915266681911234]
[5,"Value of disposed assets, 2016/17",339.66332389057214,243.91795174923985,0,1416.24040252503,373.60276245122208,256.45752847688249,349.37710244619399,0,391.04610129744862,6805.711434961072,68.549245977264505,8524.9503666837845,17.029830413819301,33.483351026468128,1724.5247965377632,9718.8976598660047,97.942743863805291,null,{"$f":"[1]Inputs!B54","v":135.70442016912315},{"$f":"[1]Inputs!C54","v":302.64819773016143},{"$f":"[1]Inputs!D54","v":29.295748507949174},{"$f":"[1]Inputs!E54","v":1124.212226184035},{"$f":"[1]Inputs!F54","v":185.50735400300329},{"$f":"[1]Inputs!G54","v":127.37009725048287},{"$f":"[1]Inputs!H54","v":290.53621289504707},{"$f":"[1]Inputs!I54","v":72.41752274801749},{"$f":"[1]Inputs!J54","v":570.66034059725496},{"$f":"[1]Inputs!K54","v":1787.167551932904},{"$f":"[1]Inputs!L54","v":298.00763575824988},{"$f":"[1]Inputs!M54","v":12181.301160990472},{"$f":"[1]Inputs!N54","v":526.66653740364904},{"$f":"[1]Inputs!O54","v":28.564000577374653},{"$f":"[1]Inputs!P54","v":2731.0861941032867},{"$f":"[1]Inputs!Q54","v":11194.117385984278},{"$f":"[1]Inputs!R54","v":3.412751249284137},null,339.66332389057214,243.91795174923985,0,1416.24040252503,373.60276245122208,256.45752847688249,349.37710244619399,0,391.04610129744862,6805.711434961072,68.549245977264505,8524.9503666837845,17.029830413819301,33.483351026468128,1724.5247965377632,9718.8976598660047,97.942743863805291]
[5,"Value of disposed assets, 2017/18",347.02360458483008,249.20349323979318,0,1446.9294000115274,381.69848844334319,262.01479434275393,356.9478743290569,0,399.51981296280263,6953.1867228775636,70.034663024925919,8709.6804308093542,17.398855631454229,34.208913207619524,1761.8941139587259,9929.4997760910301,100.06509866663254,null,{"$f":"[1]Inputs!B55","v":138.41850857250563},{"$f":"[1]Inputs!C55","v":308.70116168476471},{"$f":"[1]Inputs!D55","v":29.881663478108159},{"$f":"[1]Inputs!E55","v":1146.6964707077157},{"$f":"[1]Inputs!F55","v":189.21750108306335},{"$f":"[1]Inputs!G55","v":129.91749919549252},{"$f":"[1]Inputs!H55","v":296.34693715294804},{"$f":"[1]Inputs!I55","v":73.865873202977852},{"$f":"[1]Inputs!J55","v":582.07354740920016},{"$f":"[1]Inputs!K55","v":1822.9109029715623},{"$f":"[1]Inputs!L55","v":303.96778847341488},{"$f":"[1]Inputs!M55","v":12424.927184210283},{"$f":"[1]Inputs!N55","v":537.19986815172206},{"$f":"[1]Inputs!O55","v":29.135280588922146},{"$f":"[1]Inputs!P55","v":2785.7079179853531},{"$f":"[1]Inputs!Q55","v":11417.999733703964},{"$f":"[1]Inputs!R55","v":3.48100627426982},null,347.02360458483008,249.20349323979318,0,1446.9294000115274,381.69848844334319,262.01479434275393,356.9478743290569,0,399.51981296280263,6953.1867228775636,70.034663024925919,8709.6804308093542,17.398855631454229,34.208913207619524,1761.8941139587259,9929.4997760910301,100.06509866663254]
[5,"Value of disposed assets, 2018/19",354.35027737076769,254.46490032553007,0,1477.4782679218831,389.75724839731555,267.54668507831576,364.48407717604704,0,407.95483266291615,7099.9886212642668,71.513297483440411,8893.5669957102309,17.766195836492848,34.931162386417093,1799.092798676121,10139.140258255049,102.17776254752356,null,{"$f":"[1]Inputs!B56","v":141.18687874395573},{"$f":"[1]Inputs!C56","v":314.87518491845998},{"$f":"[1]Inputs!D56","v":30.479296747670322},{"$f":"[1]Inputs!E56","v":1169.63040012187},{"$f":"[1]Inputs!F56","v":193.00185110472464},{"$f":"[1]Inputs!G56","v":132.51584917940238},{"$f":"[1]Inputs!H56","v":302.27387589600698},{"$f":"[1]Inputs!I56","v":75.343190667037405},{"$f":"[1]Inputs!J56","v":593.71501835738411},{"$f":"[1]Inputs!K56","v":1859.3691210309935},{"$f":"[1]Inputs!L56","v":310.04714424288318},{"$f":"[1]Inputs!M56","v":12673.425727894488},{"$f":"[1]Inputs!N56","v":547.94386551475645},{"$f":"[1]Inputs!O56","v":29.71798620070059},{"$f":"[1]Inputs!P56","v":2841.4220763450598},{"$f":"[1]Inputs!Q56","v":11646.359728378044},{"$f":"[1]Inputs!R56","v":3.5506263997552168},null,354.35027737076769,254.46490032553007,0,1477.4782679218831,389.75724839731555,267.54668507831576,364.48407717604704,0,407.95483266291615,7099.9886212642668,71.513297483440411,8893.5669957102309,17.766195836492848,34.931162386417093,1799.092798676121,10139.140258255049,102.17776254752356]
[5,"Value of disposed assets, 2019/20",361.63446017257883,259.69579463826784,0,1507.8499720703899,397.76927273301646,273.04649440988823,371.97657489948409,0,416.34093468052413,7245.9391631738308,72.983356814266415,9076.3871369489625,18.131405704892025,35.649222985072072,1836.0757549763548,10347.564960621106,104.27817433836137,null,{"$f":"[1]Inputs!B57","v":144.01061631883488},{"$f":"[1]Inputs!C57","v":321.17268861682925},{"$f":"[1]Inputs!D57","v":31.088882682623733},{"$f":"[1]Inputs!E57","v":1193.0230081243076},{"$f":"[1]Inputs!F57","v":196.86188812681914},{"$f":"[1]Inputs!G57","v":135.16616616299044},{"$f":"[1]Inputs!H57","v":308.31935341392716},{"$f":"[1]Inputs!I57","v":76.850054480378162},{"$f":"[1]Inputs!J57","v":605.58931872453184},{"$f":"[1]Inputs!K57","v":1896.5565034516135},{"$f":"[1]Inputs!L57","v":316.24808712774086},{"$f":"[1]Inputs!M57","v":12926.894242452379},{"$f":"[1]Inputs!N57","v":558.90274282505163},{"$f":"[1]Inputs!O57","v":30.312345924714606},{"$f":"[1]Inputs!P57","v":2898.2505178719616},{"$f":"[1]Inputs!Q57","v":11879.286922945606},{"$f":"[1]Inputs!R57","v":3.6216389277503214},null,361.63446017257883,259.69579463826784,0,1507.8499720703899,397.76927273301646,273.04649440988823,371.97657489948409,0,416.34093468052413,7245.9391631738308,72.983356814266415,9076.3871369489625,18.131405704892025,35.649222985072072,1836.0757549763548,10347.564960621106,104.27817433836137]
[null,"Other regulated income",null,null,null,null,null,null,null,null,null,null,null,null,null,null,null,null,null,null,"Zeroed"]
[{"$f":"A48+1","v":7},{"$f":"\"Other regulated income, \" & N19","v":"Other regulated income, 2013/14"},{"$f":"IF($C$5<$A80,AM80,U80)","v":-141},2862,122,642,104,-127,346,51,59,-3812,{"$f":"IF($C$5<$A80,AW80,AE80)","v":540},-7879,11,545,-3185,-4235,191,null,0,0,0,0,0,0,0,0,0,0,0,0,0,0,0,0,0,null,-141,2862,122,642,104,-127,346,51,59,-3812,540,-7879,11,545,-3185,-4235,191]
[{"$f":"$A$80","v":7},"Other regulated income, 2014/15",-277.32696031885433,1955.9907123542764,120.48513925740089,-70.581034043523914,-79.473740451833521,-95.72203403792065,102.98934599391211,87.452681796874117,422.48303601727747,6173.2079132197796,553.21538703521765,-7882.5864216963646,9.1518288231457277,355.15561788490328,-507.62940595096995,-785.14013779018387,425.25610555734534,null,0,0,0,0,0,0,0,0,0,0,0,0,0,0,0,0,0,null,-277.32696031885433,1955.9907123542764,120.48513925740089,-70.581034043523914,-79.473740451833521,-95.72203403792065,102.98934599391211,87.452681796874117,422.48303601727747,6173.2079132197796,553.21538703521765,-7882.5864216963646,9.1518288231457277,355.15561788490328,-507.62940595096995,-785.14013779018387,425.25610555734534]
[{"$f":"$A$80","v":7},"Other regulated income, 2015/16",-282.14405392240769,1989.9657371346241,122.57793323953939,-71.807007339565416,-80.854177630897652,-97.384699641557035,104.7782428225905,88.97171100922678,429.82145103494736,6280.4348496776929,562.82458730630094,-8019.504796266775,9.310793591785977,361.32457402682473,-516.44679017344356,-798.77780767735658,432.64268803600896,null,0,0,0,0,0,0,0,0,0,0,0,0,0,0,0,0,0,null,-282.14405392240769,1989.9657371346241,122.57793323953939,-71.807007339565416,-80.854177630897652,-97.384699641557035,104.7782428225905,88.97171100922678,429.82145103494736,6280.4348496776929,562.82458730630094,-8019.504796266775,9.310793591785977,361.32457402682473,-516.44679017344356,-798.77780767735658,432.64268803600896]
[7,"Other regulated income, 2016/17",-288.1080745744261,2032.03005352934,125.16901150313942,-73.324879039426037,-82.563290328786593,-99.443238007963956,106.99306746762088,90.852413843568172,438.90710772349098,6413.1920091017746,574.72169240383244,-8189.0227838301389,9.5076071148643813,368.96232925015602,-527.36355159174411,-815.66254182338253,441.78798062864018,null,0,0,0,0,0,0,0,0,0,0,0,0,0,0,0,0,0,null,-288.1080745744261,2032.03005352934,125.16901150313942,-73.324879039426037,-82.563290328786593,-99.443238007963956,106.99306746762088,90.852413843568172,438.90710772349098,6413.1920091017746,574.72169240383244,-8189.0227838301389,9.5076071148643813,368.96232925015602,-527.36355159174411,-815.66254182338253,441.78798062864018]
[7,"Other regulated income, 2017/18",-294.35118694481889,2076.0628074982742,127.88134160794259,-74.913780912672109,-84.352382494819608,-101.598107531411,109.31153682687109,92.821125861045161,448.41793590048462,6552.1616593792596,587.17553325046458,-8366.473518311208,9.7136307040307841,376.95750010870671,-538.7911726936519,-833.33741231233216,451.36123542556891,null,0,0,0,0,0,0,0,0,0,0,0,0,0,0,0,0,0,null,-294.35118694481889,2076.0628074982742,127.88134160794259,-74.913780912672109,-84.352382494819608,-101.598107531411,109.31153682687109,92.821125861045161,448.41793590048462,6552.1616593792596,587.17553325046458,-8366.473518311208,9.7136307040307841,376.95750010870671,-538.7911726936519,-833.33741231233216,451.36123542556891]
[7,"Other regulated income, 2018/19",-300.56579252900428,2119.8945027277455,130.58128689411134,-76.495427672872097,-86.133305455357743,-103.74313766687889,111.61941978202803,94.780848507635227,457.88533651612573,6690.4967578699543,599.57250839335563,-8543.1139918438785,9.918713565229849,384.91616407568881,-550.16661393201014,-850.93157726141908,460.8907776138476,null,0,0,0,0,0,0,0,0,0,0,0,0,0,0,0,0,0,null,-300.56579252900428,2119.8945027277455,130.58128689411134,-76.495427672872097,-86.133305455357743,-103.74313766687889,111.61941978202803,94.780848507635227,457.88533651612573,6690.4967578699543,599.57250839335563,-8543.1139918438785,9.918713565229849,384.91616407568881,-550.16661393201014,-850.93157726141908,460.8907776138476]
[7,"Other regulated income, 2019/20",-306.74435740271457,2163.4720023504315,133.26557423625783,-78.067901900369066,-87.903900209555104,-105.87572800885935,113.91391850221291,96.729206024844103,467.29783230475584,6828.0296018706831,611.8975890634855,-8718.7300643781982,10.122607077897658,392.82867291666696,-561.47608493643384,-868.42370738361569,470.36505459401042,null,0,0,0,0,0,0,0,0,0,0,0,0,0,0,0,0,0,null,-306.74435740271457,2163.4720023504315,133.26557423625783,-78.067901900369066,-87.903900209555104,-105.87572800885935,113.91391850221291,96.729206024844103,467.29783230475584,6828.0296018706831,611.8975890634855,-8718.7300643781982,10.122607077897658,392.82867291666696,-561.47608493643384,-868.42370738361569,470.36505459401042]
[null,"Allowable notional revenue "]
[null,"Allowable notional revenue 2014/2015",{"$f":"IF($C$5<$A88,AM88,U88)","v":31278.350875339984},57665.065999999999,9928.8727799999997,21449.537,29790.5601384523,13121,21308.973000000002,6884.4949376431496,29374.553,0,{"$f":"IF($C$5<$A88,AW88,AE88)","v":25230},244422,38054,33930,101327.41,395990,104846.16012433299,null,31278.350875339984,57665.065999999999,9928.8727799999997,21449.537,29790.5601384523,13121,21308.973000000002,6884.4949376431496,29374.553,0,25230,244422,38054,33930,101327.41,395990,104846.16012433299,null,31278.350875339984,57665.065999999999,9928.8727799999997,29790.5601384523,21449.537,13121,21308.973000000002,6884.4949376431496,29374.553,0,25230,244422,38054,33930,101327.41,395990,104846.16012433299]
[null,"Pass-through costs 2014/15",302.10500000000002,1137.5830000000001,88,365,358,193,304.7,84,240,0,235,3076,342,5824,1271,11551,2907,null,302.10500000000002,1137.5830000000001,88,365,358,193,304.7,84,240,0,235,3076,342,5824,1271,11551,2907,null,302.10500000000002,1137.5830000000001,88,358,365,193,304.7,84,240,0,235,3076,342,5824,1271,11551,2907]
[null,"Claw-back"]
[1,"Claw-back 2014/15",{"$f":"IF($C$5<$A91,AM91,U91)","v":0},415.93299999999999,0,1143.73498176,34.377000000000002,762,-661.99699999999996,474.96927743999998,2793,0,{"$f":"IF($C$5<$A91,AW91,AE91)","v":1099},6001,0,0,0,-15780,8050.8540104580597,null,0,0,0,0,0,0,0,0,0,0,0,0,0,0,0,0,0,null,0,415.93299999999999,0,1143.73498176,34.377000000000002,762,-661.99699999999996,474.96927743999998,2793,0,1099,6001,0,0,0,-15780,8050.8540104580597]
[1,"Claw-back 2015/16",4983.6535757521096,0,627.85006423413813,0,0,0,0,0,0,0,0,0,0,2132.1835219903965,2009.4171474780235,0,0,null,0,0,0,0,0,0,0,0,0,0,0,0,0,0,0,0,0,null,4983.6535757521096,0,627.85006423413813,0,0,0,0,0,0,0,0,0,0,2132.1835219903965,2009.4171474780235,0,0]
[]
[]
[null,"Estimated 2019/20 allowable revenue ex Revenue change model"]
[null,null,{"$f":"[2]Outputs!B5","v":"Alpine Energy"},{"$f":"[2]Outputs!C5","v":"Aurora Energy"},{"$f":"[2]Outputs!D5","v":"Centralines"},{"$f":"[2]Outputs!E5","v":"EA Networks"},{"$f":"[2]Outputs!F5","v":"Eastland Network"},{"$f":"[2]Outputs!G5","v":"Electricity Invercargill"},{"$f":"[2]Outputs!H5","v":"Horizon Energy"},{"$f":"[2]Outputs!I5","v":"Nelson Electricity"},{"$f":"[2]Outputs!J5","v":"Network Tasman"},{"$f":"[2]Outputs!L5","v":"OtagoNet"},{"$f":"[2]Outputs!M5","v":"The Lines Company"},{"$f":"[2]Outputs!N5","v":"Top Energy"},{"$f":"[2]Outputs!O5","v":"Unison Networks"},{"$f":"[2]Outputs!P5","v":"Vector Lines"}]
[null,"Estimated 2019/20 allowable revenue",{"$f":"[2]Outputs!B7","v":49719.82702663089},{"$f":"[2]Outputs!C7","v":67031.770067225996},{"$f":"[2]Outputs!D7","v":14465.452982598339},{"$f":"[2]Outputs!E7","v":37120.373212502302},{"$f":"[2]Outputs!F7","v":27873.521952147665},{"$f":"[2]Outputs!G7","v":13951.543341108681},{"$f":"[2]Outputs!H7","v":23616.338568634361},{"$f":"[2]Outputs!I7","v":6803.15723580746},{"$f":"[2]Outputs!J7","v":28269.633421484999},{"$f":"[2]Outputs!L7","v":27205.404248709074},{"$f":"[2]Outputs!M7","v":40848.168135214502},{"$f":"[2]Outputs!N7","v":48585.636766442934},{"$f":"[2]Outputs!O7","v":112883.51224466226},{"$f":"[2]Outputs!P7","v":417635.91704348486}]

{"sheet":"EDB data","index":6,"n_rows":88,"n_cols":8,"rows_kept":88,"cut":false,"hidden":false,"merged":[]}
["Inputs for the selected distributor",null,null,null,null,null,null,{"$f":"EDB_Name","v":"Total for selected EDBs"}]
["Data from the Inputs sheet that relates to the selected distributor. The distributor's name is user-selected in cell C4."]
["Distributor",null,"Scenario"]
["Name",null,{"$f":"Waterfall!D3","v":"Total for selected EDBs"}]
["Distributor number",null,{"$f":"Reconciliation!C6","v":{"$error":"#N/A"}}]
["Distributor number (for output data table)",null,{"$f":"HLOOKUP(EDB_Name,Inputs!$C$28:$S$29,2,FALSE)","v":{"$error":"#N/A"}}]
[]
["General data"]
["Non business-specific single inputs","Value"]
[{"$f":"Inputs!B22","v":"Vanilla WACC (67th percentile)"},{"$f":"Inputs!C22","v":7.1900000000000006E-2}]
[{"$f":"Inputs!B23","v":"Cost of debt"},{"$f":"Inputs!C23","v":6.0900000000000003E-2}]
[{"$f":"Inputs!B24","v":"Leverage"},{"$f":"Inputs!C24","v":0.44}]
[{"$f":"Inputs!B25","v":"Years of remaining life for newly commissioned assets"},{"$f":"Inputs!C25","v":44},"years"]
[{"$f":"Inputs!B26","v":"Industry-wide X factor"},{"$f":"Inputs!C26","v":0}]
[{"$f":"Inputs!B18","v":"Days in a year"},{"$f":"Inputs!C18","v":365},"days"]
[{"$f":"Inputs!B19","v":"Days from mid-year to year-end"},{"$f":"Inputs!C19","v":182},"days"]
[{"$f":"Inputs!B20","v":"Days from revenue date to year-end"},{"$f":"Inputs!C20","v":148},"days"]
[{"$f":"Inputs!B21","v":"Last day of year 1 of the DPP period"},{"$f":"Inputs!C21","v":"2021-03-31"}]
["General time-series data"]
[null,{"$f":"Inputs!D12","v":"2013/14"},{"$f":"Inputs!E12","v":"2014/15"},{"$f":"Inputs!F12","v":"2015/16"},{"$f":"Inputs!G12","v":"2016/17"},{"$f":"Inputs!H12","v":"2017/18"},{"$f":"Inputs!I12","v":"2018/19"},{"$f":"Inputs!J12","v":"2019/20"}]
[{"$f":"Inputs!B13","v":"Year in modelling period"},{"$f":"Inputs!D13","v":1},{"$f":"Inputs!E13","v":2},{"$f":"Inputs!F13","v":3},{"$f":"Inputs!G13","v":4},{"$f":"Inputs!H13","v":5},{"$f":"Inputs!I13","v":6},{"$f":"Inputs!J13","v":7}]
[{"$f":"Inputs!B14","v":"Year in regulatory period"},null,null,{"$f":"Inputs!F14","v":1},{"$f":"Inputs!G14","v":2},{"$f":"Inputs!H14","v":3},{"$f":"Inputs!I14","v":4},{"$f":"Inputs!J14","v":5}]
[{"$f":"Inputs!B15","v":"Forecast changes in CPI used for revaluations"},{"$f":"Inputs!D15","v":1.5332197614991383E-2},{"$f":"Inputs!E15","v":1.4261744966443057E-2},{"$f":"Inputs!F15","v":1.7369727047146455E-2},{"$f":"Inputs!G15","v":2.1138211382113914E-2},{"$f":"Inputs!H15","v":2.1669341894061001E-2},{"$f":"Inputs!I15","v":2.1112894596040599E-2},{"$f":"Inputs!J15","v":2.0556447298020419E-2}]
[{"$f":"Inputs!B16","v":"Forecast changes in the CPI element of the price path"},{"$f":"Inputs!D16","v":0},{"$f":"Inputs!E16","v":0},{"$f":"Inputs!F16","v":1.5299617509562324E-2},{"$f":"Inputs!G16","v":1.506906655504392E-2},{"$f":"Inputs!H16","v":1.7731958762886579E-2},{"$f":"Inputs!I16","v":2.1069692058346856E-2},{"$f":"Inputs!J16","v":2.1528794788826966E-2}]
[{"$f":"Inputs!B17","v":"Company tax rate"},{"$f":"Inputs!D17","v":0.28000000000000003},{"$f":"Inputs!E17","v":0.28000000000000003},{"$f":"Inputs!F17","v":0.28000000000000003},{"$f":"Inputs!G17","v":0.28000000000000003},{"$f":"Inputs!H17","v":0.28000000000000003},{"$f":"Inputs!I17","v":0.28000000000000003},{"$f":"Inputs!J17","v":0.28000000000000003}]
["Business-specific data"]
["Initial conditions"]
[{"$f":"Inputs!B31","v":"Opening RAB"},{"$f":"INDEX(Indiv_Data,MATCH(A28,Inputs!B:B,0),$C$5)","v":{"$error":"#N/A"}}]
[{"$f":"Inputs!B32","v":"Lost assets"},{"$f":"INDEX(Indiv_Data,MATCH(A29,Inputs!B:B,0),$C$5)","v":{"$error":"#N/A"}}]
[{"$f":"Inputs!B33","v":"Found assets"},{"$f":"INDEX(Indiv_Data,MATCH(A30,Inputs!B:B,0),$C$5)","v":{"$error":"#N/A"}}]
[{"$f":"Inputs!B34","v":"Total depreciation"},{"$f":"INDEX(Indiv_Data,MATCH(A31,Inputs!B:B,0),$C$5)","v":{"$error":"#N/A"}}]
[{"$f":"Inputs!B35","v":"Revaluations"},{"$f":"INDEX(Indiv_Data,MATCH(A32,Inputs!B:B,0),$C$5)","v":{"$error":"#N/A"}}]
[{"$f":"Inputs!B36","v":"Closing RAB"},{"$f":"INDEX(Indiv_Data,MATCH(A33,Inputs!B:B,0),$C$5)","v":{"$error":"#N/A"}}]
[{"$f":"Inputs!B37","v":"Opening RAB excluding revaluations"},{"$f":"INDEX(Indiv_Data,MATCH(A34,Inputs!B:B,0),$C$5)","v":{"$error":"#N/A"}}]
[{"$f":"Inputs!B38","v":"Adjusted depreciation"},{"$f":"INDEX(Indiv_Data,MATCH(A35,Inputs!B:B,0),$C$5)","v":{"$error":"#N/A"}}]
[{"$f":"Inputs!B39","v":"Tax depreciation"},{"$f":"INDEX(Indiv_Data,MATCH(A36,Inputs!B:B,0),$C$5)","v":{"$error":"#N/A"}}]
[{"$f":"Inputs!B40","v":"Opening regulatory tax asset value"},{"$f":"INDEX(Indiv_Data,MATCH(A37,Inputs!B:B,0),$C$5)","v":{"$error":"#N/A"}}]
[{"$f":"Inputs!B41","v":"Amortisation of initial differences in asset values"},{"$f":"INDEX(Indiv_Data,MATCH(A38,Inputs!B:B,0),$C$5)","v":{"$error":"#N/A"}}]
[{"$f":"Inputs!B42","v":"Term credit spread differential allowance"},{"$f":"INDEX(Indiv_Data,MATCH(A39,Inputs!B:B,0),$C$5)","v":{"$error":"#N/A"}}]
[{"$f":"Inputs!B43","v":"Opening deferred tax balance"},{"$f":"INDEX(Indiv_Data,MATCH(A40,Inputs!B:B,0),$C$5)","v":{"$error":"#N/A"}}]
[{"$f":"Inputs!B44","v":"Adjustment factor (for accelerated depreciation)"},{"$f":"INDEX(Indiv_Data,MATCH(A41,Inputs!B:B,0),$C$5)","v":{"$error":"#N/A"}}]
[{"$f":"Inputs!B45","v":"Additional allowance in 1 April 2015 PV terms"},{"$f":"INDEX(Indiv_Data,MATCH(A42,Inputs!B:B,0),$C$5)","v":{"$error":"#N/A"}}]
[{"$f":"Inputs!B46","v":"Alternative X factor"},{"$f":"IF(ISNUMBER(INDEX(Indiv_Data,MATCH(A43,Inputs!B:B,0),$C$5)),INDEX(Indiv_Data,MATCH(A43,Inputs!B:B,0),$C$5),\"\")","v":""}]
[]
["Operating expenditure"]
[{"$f":"Inputs!B48","v":"Operating expenditure, 2013/14"},{"$f":"INDEX(Indiv_Data,MATCH(A46,Inputs!B:B,0),$C$5)","v":{"$error":"#N/A"}}]
[{"$f":"Inputs!B49","v":"Operating expenditure, 2014/15"},{"$f":"INDEX(Indiv_Data,MATCH(A47,Inputs!B:B,0),$C$5)","v":{"$error":"#N/A"}}]
[{"$f":"Inputs!B50","v":"Operating expenditure, 2015/16"},{"$f":"INDEX(Indiv_Data,MATCH(A48,Inputs!B:B,0),$C$5)","v":{"$error":"#N/A"}}]
[{"$f":"Inputs!B51","v":"Operating expenditure, 2016/17"},{"$f":"INDEX(Indiv_Data,MATCH(A49,Inputs!B:B,0),$C$5)","v":{"$error":"#N/A"}}]
[{"$f":"Inputs!B52","v":"Operating expenditure, 2017/18"},{"$f":"INDEX(Indiv_Data,MATCH(A50,Inputs!B:B,0),$C$5)","v":{"$error":"#N/A"}}]
[{"$f":"Inputs!B53","v":"Operating expenditure, 2018/19"},{"$f":"INDEX(Indiv_Data,MATCH(A51,Inputs!B:B,0),$C$5)","v":{"$error":"#N/A"}}]
[{"$f":"Inputs!B54","v":"Operating expenditure, 2019/20"},{"$f":"INDEX(Indiv_Data,MATCH(A52,Inputs!B:B,0),$C$5)","v":{"$error":"#N/A"}}]
[]
["Constant price revenue growth"]
[{"$f":"Inputs!B56","v":"Constant price revenue growth, 2013/14"},{"$f":"INDEX(Indiv_Data,MATCH(A55,Inputs!B:B,0),$C$5)","v":{"$error":"#N/A"}}]
[{"$f":"Inputs!B57","v":"Constant price revenue growth, 2014/15"},{"$f":"INDEX(Indiv_Data,MATCH(A56,Inputs!B:B,0),$C$5)","v":{"$error":"#N/A"}}]
[{"$f":"Inputs!B58","v":"Constant price revenue growth, 2015/16"},{"$f":"INDEX(Indiv_Data,MATCH(A57,Inputs!B:B,0),$C$5)","v":{"$error":"#N/A"}}]
[{"$f":"Inputs!B59","v":"Constant price revenue growth, 2016/17"},{"$f":"INDEX(Indiv_Data,MATCH(A58,Inputs!B:B,0),$C$5)","v":{"$error":"#N/A"}}]
[{"$f":"Inputs!B60","v":"Constant price revenue growth, 2017/18"},{"$f":"INDEX(Indiv_Data,MATCH(A59,Inputs!B:B,0),$C$5)","v":{"$error":"#N/A"}}]
[{"$f":"Inputs!B61","v":"Constant price revenue growth, 2018/19"},{"$f":"INDEX(Indiv_Data,MATCH(A60,Inputs!B:B,0),$C$5)","v":{"$error":"#N/A"}}]
[{"$f":"Inputs!B62","v":"Constant price revenue growth, 2019/20"},{"$f":"INDEX(Indiv_Data,MATCH(A61,Inputs!B:B,0),$C$5)","v":{"$error":"#N/A"}}]
[]
["Value of commissioned assets"]
[{"$f":"Inputs!B64","v":"Value of commissioned assets, 2013/14"},{"$f":"INDEX(Indiv_Data,MATCH(A64,Inputs!B:B,0),$C$5)","v":{"$error":"#N/A"}}]
[{"$f":"Inputs!B65","v":"Value of commissioned assets, 2014/15"},{"$f":"INDEX(Indiv_Data,MATCH(A65,Inputs!B:B,0),$C$5)","v":{"$error":"#N/A"}}]
[{"$f":"Inputs!B66","v":"Value of commissioned assets, 2015/16"},{"$f":"INDEX(Indiv_Data,MATCH(A66,Inputs!B:B,0),$C$5)","v":{"$error":"#N/A"}}]
[{"$f":"Inputs!B67","v":"Value of commissioned assets, 2016/17"},{"$f":"INDEX(Indiv_Data,MATCH(A67,Inputs!B:B,0),$C$5)","v":{"$error":"#N/A"}}]
[{"$f":"Inputs!B68","v":"Value of commissioned assets, 2017/18"},{"$f":"INDEX(Indiv_Data,MATCH(A68,Inputs!B:B,0),$C$5)","v":{"$error":"#N/A"}}]
[{"$f":"Inputs!B69","v":"Value of commissioned assets, 2018/19"},{"$f":"INDEX(Indiv_Data,MATCH(A69,Inputs!B:B,0),$C$5)","v":{"$error":"#N/A"}}]
[{"$f":"Inputs!B70","v":"Value of commissioned assets, 2019/20"},{"$f":"INDEX(Indiv_Data,MATCH(A70,Inputs!B:B,0),$C$5)","v":{"$error":"#N/A"}}]
[]
["Disposed assets"]
[{"$f":"Inputs!B72","v":"Value of disposed assets, 2013/14"},{"$f":"INDEX(Indiv_Data,MATCH(A73,Inputs!B:B,0),$C$5)","v":{"$error":"#N/A"}}]
[{"$f":"Inputs!B73","v":"Value of disposed assets, 2014/15"},{"$f":"INDEX(Indiv_Data,MATCH(A74,Inputs!B:B,0),$C$5)","v":{"$error":"#N/A"}}]
[{"$f":"Inputs!B74","v":"Value of disposed assets, 2015/16"},{"$f":"INDEX(Indiv_Data,MATCH(A75,Inputs!B:B,0),$C$5)","v":{"$error":"#N/A"}}]
[{"$f":"Inputs!B75","v":"Value of disposed assets, 2016/17"},{"$f":"INDEX(Indiv_Data,MATCH(A76,Inputs!B:B,0),$C$5)","v":{"$error":"#N/A"}}]
[{"$f":"Inputs!B76","v":"Value of disposed assets, 2017/18"},{"$f":"INDEX(Indiv_Data,MATCH(A77,Inputs!B:B,0),$C$5)","v":{"$error":"#N/A"}}]
[{"$f":"Inputs!B77","v":"Value of disposed assets, 2018/19"},{"$f":"INDEX(Indiv_Data,MATCH(A78,Inputs!B:B,0),$C$5)","v":{"$error":"#N/A"}}]
[{"$f":"Inputs!B78","v":"Value of disposed assets, 2019/20"},{"$f":"INDEX(Indiv_Data,MATCH(A79,Inputs!B:B,0),$C$5)","v":{"$error":"#N/A"}}]
[]
["Other regulated income"]
[{"$f":"Inputs!B80","v":"Other regulated income, 2013/14"},{"$f":"INDEX(Indiv_Data,MATCH(A82,Inputs!B:B,0),$C$5)","v":{"$error":"#N/A"}}]
[{"$f":"Inputs!B81","v":"Other regulated income, 2014/15"},{"$f":"INDEX(Indiv_Data,MATCH(A83,Inputs!B:B,0),$C$5)","v":{"$error":"#N/A"}}]
[{"$f":"Inputs!B82","v":"Other regulated income, 2015/16"},{"$f":"INDEX(Indiv_Data,MATCH(A84,Inputs!B:B,0),$C$5)","v":{"$error":"#N/A"}}]
[{"$f":"Inputs!B83","v":"Other regulated income, 2016/17"},{"$f":"INDEX(Indiv_Data,MATCH(A85,Inputs!B:B,0),$C$5)","v":{"$error":"#N/A"}}]
[{"$f":"Inputs!B84","v":"Other regulated income, 2017/18"},{"$f":"INDEX(Indiv_Data,MATCH(A86,Inputs!B:B,0),$C$5)","v":{"$error":"#N/A"}}]
[{"$f":"Inputs!B85","v":"Other regulated income, 2018/19"},{"$f":"INDEX(Indiv_Data,MATCH(A87,Inputs!B:B,0),$C$5)","v":{"$error":"#N/A"}}]
[{"$f":"Inputs!B86","v":"Other regulated income, 2019/20"},{"$f":"INDEX(Indiv_Data,MATCH(A88,Inputs!B:B,0),$C$5)","v":{"$error":"#N/A"}}]

{"sheet":"TIMING","index":7,"n_rows":43,"n_cols":15,"rows_kept":43,"cut":false,"hidden":false,"merged":[]}
["Intra-year timing"]
["Derivation of the five timing factors TFopex, TFtax, TFVCA, TFori and TFrev."]
["Inputs"]
[null,"From","Value"]
["Last day of year 1 of the DPP period","EDB data",{"$f":"'EDB data'!B18","v":"2021-03-31"}]
["Days in a year","EDB data",{"$f":"'EDB data'!B15","v":365}]
["Days from mid-year to year-end","EDB data",{"$f":"'EDB data'!B16","v":182}]
["Days from revenue date to year-end","EDB data",{"$f":"'EDB data'!B17","v":148}]
["Vanilla WACC (67th percentile)","EDB data",{"$f":"WACC","v":7.1900000000000006E-2}]
["Calculations"]
[null,null,"Value"]
["Mid-year date",null,{"$f":"EOMONTH(C5,-6)","v":"2020-09-30"}]
["Revenue date",null,{"$f":"C5-C8","v":"2020-11-03"},"As demonstrated below, 12 equal monthly transactions on the 20th of the following month can be approximated by a single payment on the revenue date."]
["Operating expenditure date",null,{"$f":"C12","v":"2020-09-30"},"i.e. mid-year"]
["Tax date",null,{"$f":"C12","v":"2020-09-30"},"i.e. mid-year"]
["Asset commissioning date",null,{"$f":"C12","v":"2020-09-30"},"i.e. mid-year"]
["Interest date",null,{"$f":"C12","v":"2020-09-30"},"i.e. mid-year"]
["Asset disposal date",null,{"$f":"C12","v":"2020-09-30"},"i.e. mid-year"]
["TF for mid-year cash flows",null,{"$f":"(1+$C$9)^(C7/C6)","v":1.0352275669181401},"Intra-year timing factors: discount from mid year to end of year values"]
["TFrev",null,{"$f":"(1+$C$9)^(C8/C6)","v":1.0285536205330978},"Intra-year timing factor: discount from revenue date to end of year values"]
["Outputs"]
[null,null,"Value"]
["TFopex",null,{"$f":"$C$19","v":1.0352275669181401}]
["TFtax",null,{"$f":"$C$19","v":1.0352275669181401}]
["TFVCA",null,1.0352275669181401]
["TFori",null,1.0352275669181401]
["TFrev",null,{"$f":"$C$20","v":1.0285536205330978}]
["Check for timing of revenue receipt"]
["Demonstration that a 4 November receipt date for all revenues in a year ending 31 March is almost identical to"]
["receiving 12 equal revenue amounts on the 20th of the month following the provision of service."]
["Monthly cash flows"]
["Dates of receipt of revenues",null,{"$f":"EDATE(C5,-12)","v":"2020-03-31"},{"$f":"EOMONTH(C32,1)+20","v":"2020-05-20"},{"$f":"EDATE(D32,1)","v":"2020-06-20"},{"$f":"EDATE(E32,1)","v":"2020-07-20"},"2020-08-20","2020-09-20","2020-10-20","2020-11-20","2020-12-20","2021-01-20","2021-02-20",{"$f":"EDATE(M32,1)","v":"2021-03-20"},{"$f":"EDATE(N32,1)","v":"2021-04-20"}]
["Indexed amount of revenue",null,0,1,1,1,1,1,1,1,1,1,1,1,1]
[]
["Equivalent single cash flow"]
["Dates of receipt of revenues",null,{"$f":"C32","v":"2020-03-31"},{"$f":"C13","v":"2020-11-03"}]
["Indexed amount of revenue",null,0,12]
[]
["Present value",null,"Value"]
[{"$f":"\"PV as at \"&TEXT(C5,\"dd mmm yy\")&\" of the series of unit amounts\"","v":"PV as at 31 Mar 21 of the series of unit amounts"},null,{"$f":"XNPV(WACC,C33:O33,C32:O32)","v":11.514484565750546}]
["PV of the equivalent single amount",null,{"$f":"XNPV(WACC,C37:D37,C36:D36)","v":11.514734066981221}]
[{"$f":"\"Difference in PV for a date of \" & TEXT(D36,\"d mmm\")","v":"Difference in PV for a date of 3 Nov"},null,{"$f":"C40-C41","v":-2.4950123067490892E-4}]
["Percentage difference",null,{"$f":"C42/C40","v":-2.1668467159792986E-5}]

{"sheet":"RAB","index":8,"n_rows":95,"n_cols":10,"rows_kept":95,"cut":false,"hidden":false,"merged":[]}
["Regulatory asset base",null,null,null,null,null,null,null,null,{"$f":"EDB_Name","v":"Total for selected EDBs"}]
["Calculations involving the roll-forward of asset values."]
["Inputs"]
[null,"From","Value",{"$f":"Inputs!D$12","v":"2013/14"},{"$f":"Inputs!E$12","v":"2014/15"},{"$f":"Inputs!F$12","v":"2015/16"},{"$f":"Inputs!G$12","v":"2016/17"},{"$f":"Inputs!H$12","v":"2017/18"},{"$f":"Inputs!I$12","v":"2018/19"},{"$f":"Inputs!J$12","v":"2019/20"}]
["Opening RAB","EDB data",{"$f":"'EDB data'!B28","v":{"$error":"#N/A"}}]
["Total depreciation","EDB data",{"$f":"'EDB data'!B31","v":{"$error":"#N/A"}}]
["Revaluations","EDB data",{"$f":"'EDB data'!B32","v":{"$error":"#N/A"}}]
["Closing RAB","EDB data",{"$f":"'EDB data'!B33","v":{"$error":"#N/A"}}]
["Disposed assets","EDB data",null,{"$f":"'EDB data'!$B73","v":{"$error":"#N/A"}},{"$f":"'EDB data'!$B74","v":{"$error":"#N/A"}},{"$f":"'EDB data'!$B75","v":{"$error":"#N/A"}},{"$f":"'EDB data'!$B76","v":{"$error":"#N/A"}},{"$f":"'EDB data'!$B77","v":{"$error":"#N/A"}},{"$f":"'EDB data'!$B78","v":{"$error":"#N/A"}},{"$f":"'EDB data'!$B79","v":{"$error":"#N/A"}}]
["Value of commissioned assets","EDB data",null,{"$f":"'EDB data'!$B64","v":{"$error":"#N/A"}},{"$f":"'EDB data'!$B65","v":{"$error":"#N/A"}},{"$f":"'EDB data'!$B66","v":{"$error":"#N/A"}},{"$f":"'EDB data'!$B67","v":{"$error":"#N/A"}},{"$f":"'EDB data'!$B68","v":{"$error":"#N/A"}},{"$f":"'EDB data'!$B69","v":{"$error":"#N/A"}},{"$f":"'EDB data'!$B70","v":{"$error":"#N/A"}}]
["Remaining life of newly commissioned assets","EDB data",{"$f":"'EDB data'!B13","v":44}]
["Forecast changes in CPI used for revaluations","EDB data",null,{"$f":"'EDB data'!B23","v":1.5332197614991383E-2},{"$f":"'EDB data'!C23","v":1.4261744966443057E-2},{"$f":"'EDB data'!D23","v":1.7369727047146455E-2},{"$f":"'EDB data'!E23","v":2.1138211382113914E-2},{"$f":"'EDB data'!F23","v":2.1669341894061001E-2},{"$f":"'EDB data'!G23","v":2.1112894596040599E-2},{"$f":"'EDB data'!H23","v":2.0556447298020419E-2}]
["Adjustment factor (for accelerated depreciation)","EDB data",{"$f":"'EDB data'!B41","v":{"$error":"#N/A"}}]
["Calculations"]
[]
["Roll forward of existing assets"]
[null,null,null,{"$f":"Inputs!D$12","v":"2013/14"},{"$f":"Inputs!E$12","v":"2014/15"},{"$f":"Inputs!F$12","v":"2015/16"},{"$f":"Inputs!G$12","v":"2016/17"},{"$f":"Inputs!H$12","v":"2017/18"},{"$f":"Inputs!I$12","v":"2018/19"},{"$f":"Inputs!J$12","v":"2019/20"}]
["Remaining asset life of existing assets",null,null,null,{"$f":"100%*C5/C6-1","v":{"$error":"#N/A"}},{"$f":"C13*C5/C6-2","v":{"$error":"#N/A"}},{"$f":"F18-1","v":{"$error":"#N/A"}},{"$error":"#N/A"},{"$error":"#N/A"},{"$error":"#N/A"}]
["Opening RAB value of existing assets",null,null,null,{"$f":"D23","v":{"$error":"#N/A"}},{"$f":"E23","v":{"$error":"#N/A"}},{"$f":"F23","v":{"$error":"#N/A"}},{"$f":"G23","v":{"$error":"#N/A"}},{"$f":"H23","v":{"$error":"#N/A"}},{"$f":"I23","v":{"$error":"#N/A"}}]
["Disposed assets",null,null,null,{"$f":"E9","v":{"$error":"#N/A"}},{"$error":"#N/A"},{"$error":"#N/A"},{"$error":"#N/A"},{"$error":"#N/A"},{"$error":"#N/A"}]
["Revaluation of existing assets",null,null,null,{"$f":"(E19*0.999-E20)*E28","v":{"$error":"#N/A"}},{"$error":"#N/A"},{"$error":"#N/A"},{"$error":"#N/A"},{"$error":"#N/A"},{"$error":"#N/A"}]
["Depreciation of existing assets",null,null,null,{"$f":"E19/E18","v":{"$error":"#N/A"}},{"$error":"#N/A"},{"$error":"#N/A"},{"$error":"#N/A"},{"$error":"#N/A"},{"$error":"#N/A"}]
["Closing RAB value of existing assets",null,null,{"$f":"C8","v":{"$error":"#N/A"}},{"$f":"E19-E20+E21-E22","v":{"$error":"#N/A"}},{"$error":"#N/A"},{"$error":"#N/A"},{"$error":"#N/A"},{"$error":"#N/A"},{"$error":"#N/A"}]
[]
["Individual roll forward of additional assets"]
[null,null,null,{"$f":"Inputs!D$12","v":"2013/14"},{"$f":"Inputs!E$12","v":"2014/15"},{"$f":"Inputs!F$12","v":"2015/16"},{"$f":"Inputs!G$12","v":"2016/17"},{"$f":"Inputs!H$12","v":"2017/18"},{"$f":"Inputs!I$12","v":"2018/19"},{"$f":"Inputs!J$12","v":"2019/20"}]
["Year in modelling period",null,null,1,{"$f":"D27+1","v":2},{"$f":"E27+1","v":3},4,5,{"$f":"H27+1","v":6},{"$f":"I27+1","v":7}]
["Revaluation rate",null,null,{"$f":"D12","v":1.5332197614991383E-2},1.4261744966443057E-2,1.7369727047146455E-2,2.1138211382113914E-2,2.1669341894061001E-2,2.1112894596040599E-2,2.0556447298020419E-2]
["Commissioned assets",null,null,{"$f":"D$10","v":{"$error":"#N/A"}},{"$error":"#N/A"},{"$error":"#N/A"},{"$error":"#N/A"},{"$error":"#N/A"},{"$error":"#N/A"},{"$error":"#N/A"}]
[" Assets commissioned in 2014/15:"]
["Year asset is added during modelling period",null,{"$f":"E27","v":2}]
["Opening RAB",null,null,0,{"$f":"D36","v":0},{"$error":"#N/A"},{"$error":"#N/A"},{"$error":"#N/A"},{"$error":"#N/A"},{"$error":"#N/A"}]
["Years of remaining life",null,null,{"$f":"$C$11+$C31","v":46},{"$f":"D33-1","v":45},{"$f":"E33-1","v":44},43,{"$f":"G33-1","v":42},{"$f":"H33-1","v":41},{"$f":"I33-1","v":40}]
["Revaluation of assets",null,null,{"$f":"D32*D$28","v":0},0,{"$error":"#N/A"},{"$error":"#N/A"},{"$error":"#N/A"},{"$error":"#N/A"},{"$error":"#N/A"}]
["Depreciation of assets",null,null,{"$f":"D32/D33","v":0},0,{"$error":"#N/A"},{"$error":"#N/A"},{"$error":"#N/A"},{"$error":"#N/A"},{"$error":"#N/A"}]
["Closing RAB",null,null,{"$f":"D32+D34-D35+IF($C31=D$27,D$29,0)","v":0},{"$error":"#N/A"},{"$error":"#N/A"},{"$error":"#N/A"},{"$error":"#N/A"},{"$error":"#N/A"},{"$error":"#N/A"}]
[" Assets commissioned in 2015/16:"]
["Year asset is added during modelling period",null,{"$f":"F27","v":3}]
["Opening RAB",null,null,0,{"$f":"D43","v":0},0,{"$error":"#N/A"},{"$error":"#N/A"},{"$error":"#N/A"},{"$error":"#N/A"}]
["Years of remaining life",null,null,{"$f":"$C$11+$C38","v":47},{"$f":"D40-1","v":46},45,44,43,42,41]
["Revaluation of assets",null,null,{"$f":"D39*D$28","v":0},0,0,{"$error":"#N/A"},{"$error":"#N/A"},{"$error":"#N/A"},{"$error":"#N/A"}]
["Depreciation of assets",null,null,{"$f":"D39/D40","v":0},0,0,{"$error":"#N/A"},{"$error":"#N/A"},{"$error":"#N/A"},{"$error":"#N/A"}]
["Closing RAB",null,null,{"$f":"D39+D41-D42+IF($C38=D$27,D$29,0)","v":0},0,{"$error":"#N/A"},{"$error":"#N/A"},{"$error":"#N/A"},{"$error":"#N/A"},{"$error":"#N/A"}]
[" Assets commissioned in 2016/17:"]
["Year asset is added during modelling period",null,{"$f":"G27","v":4}]
["Opening RAB",null,null,0,{"$f":"D50","v":0},0,0,{"$error":"#N/A"},{"$error":"#N/A"},{"$error":"#N/A"}]
["Years of remaining life",null,null,{"$f":"$C$11+$C45","v":48},{"$f":"D47-1","v":47},46,45,44,43,42]
["Revaluation of assets",null,null,{"$f":"D46*D$28","v":0},0,0,0,{"$error":"#N/A"},{"$error":"#N/A"},{"$error":"#N/A"}]
["Depreciation of assets",null,null,{"$f":"D46/D47","v":0},0,0,0,{"$error":"#N/A"},{"$error":"#N/A"},{"$error":"#N/A"}]
["Closing RAB",null,null,{"$f":"D46+D48-D49+IF($C45=D$27,D$29,0)","v":0},0,0,{"$error":"#N/A"},{"$error":"#N/A"},{"$error":"#N/A"},{"$error":"#N/A"}]
[" Assets commissioned in 2017/18:"]
["Year asset is added during modelling period",null,{"$f":"H27","v":5}]
["Opening RAB",null,null,0,{"$f":"D57","v":0},0,0,0,{"$error":"#N/A"},{"$error":"#N/A"}]
["Years of remaining life",null,null,{"$f":"$C$11+$C52","v":49},{"$f":"D54-1","v":48},47,46,45,44,43]
["Revaluation of assets",null,null,{"$f":"D53*D$28","v":0},0,0,0,0,{"$error":"#N/A"},{"$error":"#N/A"}]
["Depreciation of assets",null,null,{"$f":"D53/D54","v":0},0,0,0,0,{"$error":"#N/A"},{"$error":"#N/A"}]
["Closing RAB",null,null,{"$f":"D53+D55-D56+IF($C52=D$27,D$29,0)","v":0},0,0,0,{"$error":"#N/A"},{"$error":"#N/A"},{"$error":"#N/A"}]
[" Assets commissioned in 2018/19:"]
["Year asset is added during modelling period",null,{"$f":"I27","v":6}]
["Opening RAB",null,null,0,{"$f":"D64","v":0},0,0,0,0,{"$error":"#N/A"}]
["Years of remaining life",null,null,{"$f":"$C$11+$C59","v":50},{"$f":"D61-1","v":49},48,47,46,45,44]
["Revaluation of assets",null,null,{"$f":"D60*D$28","v":0},0,0,0,0,0,{"$error":"#N/A"}]
["Depreciation of assets",null,null,{"$f":"D60/D61","v":0},0,0,0,0,0,{"$error":"#N/A"}]
["Closing RAB",null,null,{"$f":"D60+D62-D63+IF($C59=D$27,D$29,0)","v":0},0,0,0,0,{"$error":"#N/A"},{"$error":"#N/A"}]
[" Assets commissioned in 2019/20:"]
["Year asset is added during modelling period",null,{"$f":"J27","v":7}]
["Opening RAB",null,null,0,{"$f":"D71","v":0},0,0,0,0,0]
["Years of remaining life",null,null,{"$f":"$C$11+$C66","v":51},{"$f":"D68-1","v":50},{"$f":"E68-1","v":49},48,{"$f":"G68-1","v":47},{"$f":"H68-1","v":46},{"$f":"I68-1","v":45}]
["Revaluation of assets",null,null,{"$f":"D67*D$28","v":0},0,0,0,0,0,0]
["Depreciation of assets",null,null,{"$f":"D67/D68","v":0},0,0,0,0,0,0]
["Closing RAB",null,null,{"$f":"D67+D69-D70+IF($C66=D$27,D$29,0)","v":0},0,0,0,0,0,{"$error":"#N/A"}]
[]
["Aggregate roll forward of additional assets"]
[]
["Opening RAB of commissioned additional assets",null,null,{"$f":"D32+D39+D46+D53+D60+D67","v":0},0,{"$f":"F32+F39+F46+F53+F60+F67","v":{"$error":"#N/A"}},{"$error":"#N/A"},{"$error":"#N/A"},{"$error":"#N/A"},{"$error":"#N/A"}]
["Revaluation of commissioned additional assets",null,null,{"$f":"D34+D41+D48+D55+D62+D69","v":0},0,{"$f":"F34+F41+F48+F55+F62+F69","v":{"$error":"#N/A"}},{"$error":"#N/A"},{"$error":"#N/A"},{"$error":"#N/A"},{"$error":"#N/A"}]
["Depreciation of commissioned additional assets",null,null,0,0,{"$f":"F35+F42+F49+F56+F63+F70","v":{"$error":"#N/A"}},{"$error":"#N/A"},{"$error":"#N/A"},{"$error":"#N/A"},{"$error":"#N/A"}]
["Closing RAB of commissioned additional assets",null,null,0,{"$error":"#N/A"},{"$f":"F36+F43+F50+F57+F64+F71","v":{"$error":"#N/A"}},{"$error":"#N/A"},{"$error":"#N/A"},{"$error":"#N/A"},{"$error":"#N/A"}]
[]
["Combined roll forward of existing and additional assets"]
[]
[null,null,null,{"$f":"Inputs!D$12","v":"2013/14"},{"$f":"Inputs!E$12","v":"2014/15"},{"$f":"Inputs!F$12","v":"2015/16"},{"$f":"Inputs!G$12","v":"2016/17"},{"$f":"Inputs!H$12","v":"2017/18"},{"$f":"Inputs!I$12","v":"2018/19"},{"$f":"Inputs!J$12","v":"2019/20"}]
["Aggregate opening RAB value",null,null,{"$f":"C5","v":{"$error":"#N/A"}},{"$f":"E19+E75","v":{"$error":"#N/A"}},{"$error":"#N/A"},{"$error":"#N/A"},{"$error":"#N/A"},{"$error":"#N/A"},{"$error":"#N/A"}]
["Total revaluation",null,null,{"$f":"C7","v":{"$error":"#N/A"}},{"$f":"E21+E76","v":{"$error":"#N/A"}},{"$error":"#N/A"},{"$error":"#N/A"},{"$error":"#N/A"},{"$error":"#N/A"},{"$error":"#N/A"}]
["Total depreciation",null,null,{"$f":"C6","v":{"$error":"#N/A"}},{"$error":"#N/A"},{"$error":"#N/A"},{"$error":"#N/A"},{"$error":"#N/A"},{"$error":"#N/A"},{"$error":"#N/A"}]
["Aggregate closing RAB value",null,null,{"$f":"D23+D78","v":{"$error":"#N/A"}},{"$error":"#N/A"},{"$error":"#N/A"},{"$error":"#N/A"},{"$error":"#N/A"},{"$error":"#N/A"},{"$error":"#N/A"}]
["Check that closing value is as expected. Should = 0",null,null,null,{"$f":"E83+E29+E84-E85-E20-E86","v":{"$error":"#N/A"}},{"$f":"F83+F29+F84-F85-F20-F86","v":{"$error":"#N/A"}},{"$error":"#N/A"},{"$error":"#N/A"},{"$error":"#N/A"},{"$error":"#N/A"}]
["Outputs"]
[]
[null,null,null,{"$f":"Inputs!D$12","v":"2013/14"},{"$f":"Inputs!E$12","v":"2014/15"},{"$f":"Inputs!F$12","v":"2015/16"},{"$f":"Inputs!G$12","v":"2016/17"},{"$f":"Inputs!H$12","v":"2017/18"},{"$f":"Inputs!I$12","v":"2018/19"},{"$f":"Inputs!J$12","v":"2019/20"}]
["Remaining asset life of existing assets",null,null,null,{"$f":"E18","v":{"$error":"#N/A"}},{"$error":"#N/A"},{"$error":"#N/A"},{"$error":"#N/A"},{"$error":"#N/A"},{"$error":"#N/A"}]
["Total depreciation",null,null,{"$f":"D85","v":{"$error":"#N/A"}},{"$error":"#N/A"},{"$error":"#N/A"},{"$error":"#N/A"},{"$error":"#N/A"},{"$error":"#N/A"},{"$error":"#N/A"}]
["Aggregate opening RAB value",null,null,{"$f":"D83","v":{"$error":"#N/A"}},{"$f":"E83","v":{"$error":"#N/A"}},{"$error":"#N/A"},{"$error":"#N/A"},{"$error":"#N/A"},{"$error":"#N/A"},{"$error":"#N/A"}]
["Total revaluation",null,null,{"$f":"D84","v":{"$error":"#N/A"}},{"$f":"E84","v":{"$error":"#N/A"}},{"$error":"#N/A"},{"$error":"#N/A"},{"$error":"#N/A"},{"$error":"#N/A"},{"$error":"#N/A"}]
["Aggregate closing RAB value",null,null,{"$f":"D86","v":{"$error":"#N/A"}},{"$f":"E86","v":{"$error":"#N/A"}},{"$error":"#N/A"},{"$error":"#N/A"},{"$error":"#N/A"},{"$error":"#N/A"},{"$error":"#N/A"}]

{"sheet":"TAX","index":9,"n_rows":98,"n_cols":10,"rows_kept":98,"cut":false,"hidden":false,"merged":[]}
["Tax calculations",null,null,null,null,null,null,null,null,{"$f":"EDB_Name","v":"Total for selected EDBs"}]
["Calculations involving the roll-forward of adjusted depreciation regulatory asset values, deferred tax and tax adjustments."]
["Inputs"]
[null,"Source","Value",{"$f":"Inputs!D$12","v":"2013/14"},{"$f":"Inputs!E$12","v":"2014/15"},{"$f":"Inputs!F$12","v":"2015/16"},{"$f":"Inputs!G$12","v":"2016/17"},{"$f":"Inputs!H$12","v":"2017/18"},{"$f":"Inputs!I$12","v":"2018/19"},{"$f":"Inputs!J$12","v":"2019/20"}]
["Year in modelling period","EDB data",null,{"$f":"'EDB data'!B21","v":1},{"$f":"'EDB data'!C21","v":2},{"$f":"'EDB data'!D21","v":3},{"$f":"'EDB data'!E21","v":4},{"$f":"'EDB data'!F21","v":5},{"$f":"'EDB data'!G21","v":6},{"$f":"'EDB data'!H21","v":7}]
["Tax rate","EDB data",null,{"$f":"'EDB data'!B25","v":0.28000000000000003},{"$f":"'EDB data'!C25","v":0.28000000000000003},{"$f":"'EDB data'!D25","v":0.28000000000000003},{"$f":"'EDB data'!E25","v":0.28000000000000003},{"$f":"'EDB data'!F25","v":0.28000000000000003},{"$f":"'EDB data'!G25","v":0.28000000000000003},{"$f":"'EDB data'!H25","v":0.28000000000000003}]
["Value of commissioned assets","EDB data",null,{"$f":"'EDB data'!$B64","v":{"$error":"#N/A"}},{"$f":"'EDB data'!$B65","v":{"$error":"#N/A"}},{"$f":"'EDB data'!$B66","v":{"$error":"#N/A"}},{"$f":"'EDB data'!$B67","v":{"$error":"#N/A"}},{"$f":"'EDB data'!$B68","v":{"$error":"#N/A"}},{"$f":"'EDB data'!$B69","v":{"$error":"#N/A"}},{"$f":"'EDB data'!$B70","v":{"$error":"#N/A"}}]
["Remaining life of newly commissioned assets","EDB data",null,{"$f":"'EDB data'!B13","v":44}]
["Amortisation of initial differences in asset values","EDB data",null,{"$f":"'EDB data'!B38","v":{"$error":"#N/A"}}]
["Lost assets","EDB data",null,{"$f":"'EDB data'!B29","v":{"$error":"#N/A"}}]
["Found assets","EDB data",null,{"$f":"'EDB data'!B30","v":{"$error":"#N/A"}}]
["Disposed assets","EDB data",null,{"$f":"'EDB data'!$B73","v":{"$error":"#N/A"}},{"$f":"'EDB data'!$B74","v":{"$error":"#N/A"}},{"$f":"'EDB data'!$B75","v":{"$error":"#N/A"}},{"$f":"'EDB data'!$B76","v":{"$error":"#N/A"}},{"$f":"'EDB data'!$B77","v":{"$error":"#N/A"}},{"$f":"'EDB data'!$B78","v":{"$error":"#N/A"}},{"$f":"'EDB data'!$B79","v":{"$error":"#N/A"}}]
["Opening RAB excluding revaluations","EDB data",null,{"$f":"'EDB data'!B34","v":{"$error":"#N/A"}}]
["Adjusted depreciation","EDB data",null,{"$f":"'EDB data'!B35","v":{"$error":"#N/A"}}]
["Tax depreciation","EDB data",null,{"$f":"'EDB data'!B36","v":{"$error":"#N/A"}}]
["Opening regulatory tax asset value","EDB data",null,{"$f":"'EDB data'!B37","v":{"$error":"#N/A"}}]
["Opening deferred tax balance","EDB data",null,{"$f":"'EDB data'!B40","v":{"$error":"#N/A"}}]
["Cost of debt","EDB data",null,{"$f":"'EDB data'!B11","v":6.0900000000000003E-2}]
["Leverage","EDB data",null,{"$f":"'EDB data'!B12","v":0.44}]
["Remaining asset life of existing assets","RAB",null,null,{"$f":"RAB!E91","v":{"$error":"#N/A"}},{"$f":"RAB!F91","v":{"$error":"#N/A"}},{"$f":"RAB!G91","v":{"$error":"#N/A"}},{"$f":"RAB!H91","v":{"$error":"#N/A"}},{"$f":"RAB!I91","v":{"$error":"#N/A"}},{"$f":"RAB!J91","v":{"$error":"#N/A"}}]
["Total depreciation","RAB",null,{"$f":"RAB!D92","v":{"$error":"#N/A"}},{"$f":"RAB!E92","v":{"$error":"#N/A"}},{"$f":"RAB!F92","v":{"$error":"#N/A"}},{"$f":"RAB!G92","v":{"$error":"#N/A"}},{"$f":"RAB!H92","v":{"$error":"#N/A"}},{"$f":"RAB!I92","v":{"$error":"#N/A"}},{"$f":"RAB!J92","v":{"$error":"#N/A"}}]
["Term credit spread differential allowance","BBAR",null,{"$f":"BBAR!D58","v":{"$error":"#N/A"}},{"$f":"BBAR!E58","v":{"$error":"#N/A"}},{"$f":"BBAR!F58","v":{"$error":"#N/A"}},{"$f":"BBAR!G58","v":{"$error":"#N/A"}},{"$f":"BBAR!H58","v":{"$error":"#N/A"}},{"$f":"BBAR!I58","v":{"$error":"#N/A"}},{"$f":"BBAR!J58","v":{"$error":"#N/A"}}]
["Opening investment value","BBAR",null,{"$f":"BBAR!D56","v":{"$error":"#N/A"}},{"$f":"BBAR!E56","v":{"$error":"#N/A"}},{"$f":"BBAR!F56","v":{"$error":"#N/A"}},{"$f":"BBAR!G56","v":{"$error":"#N/A"}},{"$f":"BBAR!H56","v":{"$error":"#N/A"}},{"$f":"BBAR!I56","v":{"$error":"#N/A"}},{"$f":"BBAR!J56","v":{"$error":"#N/A"}}]
["Calculations"]
["Adjusted RAB & depreciation of assets commissioned"]
[null,null,"Value",{"$f":"Inputs!D$12","v":"2013/14"},{"$f":"Inputs!E$12","v":"2014/15"},{"$f":"Inputs!F$12","v":"2015/16"},{"$f":"Inputs!G$12","v":"2016/17"},{"$f":"Inputs!H$12","v":"2017/18"},{"$f":"Inputs!I$12","v":"2018/19"},{"$f":"Inputs!J$12","v":"2019/20"}]
["Commissioned assets",null,null,{"$f":"D7","v":{"$error":"#N/A"}},{"$error":"#N/A"},{"$error":"#N/A"},{"$error":"#N/A"},{"$error":"#N/A"},{"$error":"#N/A"},{"$error":"#N/A"}]
[" Assets commissioned in 2014/15:",null,{"$f":"E5","v":2}]
["Opening RAB, adjusted depreciation",null,null,0,{"$f":"D32","v":0},{"$error":"#N/A"},{"$error":"#N/A"},{"$error":"#N/A"},{"$error":"#N/A"},{"$error":"#N/A"}]
["Years of remaining life",null,null,{"$f":"$D$8+$C28","v":46},{"$f":"D30-1","v":45},44,43,42,41,40]
["Adjusted depreciation",null,null,{"$f":"D29/D30","v":0},0,{"$error":"#N/A"},{"$error":"#N/A"},{"$error":"#N/A"},{"$error":"#N/A"},{"$error":"#N/A"}]
["Closing RAB, adjusted depreciation",null,null,{"$f":"D29-D31+IF($C28=D$5,D$27,0)","v":0},{"$error":"#N/A"},{"$error":"#N/A"},{"$error":"#N/A"},{"$error":"#N/A"},{"$error":"#N/A"},{"$error":"#N/A"}]
[" Assets commissioned in 2015/16:",null,{"$f":"F5","v":3}]
["Opening RAB, adjusted depreciation",null,null,0,{"$f":"D37","v":0},0,{"$error":"#N/A"},{"$error":"#N/A"},{"$error":"#N/A"},{"$error":"#N/A"}]
["Years of remaining life",null,null,{"$f":"$D$8+$C33","v":47},{"$f":"D35-1","v":46},45,44,43,42,41]
["Adjusted depreciation",null,null,{"$f":"D34/D35","v":0},0,0,{"$error":"#N/A"},{"$error":"#N/A"},{"$error":"#N/A"},{"$error":"#N/A"}]
["Closing RAB, adjusted depreciation",null,null,{"$f":"D34-D36+IF($C33=D$5,D$27,0)","v":0},0,{"$error":"#N/A"},{"$error":"#N/A"},{"$error":"#N/A"},{"$error":"#N/A"},{"$error":"#N/A"}]
[" Assets commissioned in 2016/17:",null,{"$f":"G5","v":4}]
["Opening RAB, adjusted depreciation",null,null,0,{"$f":"D42","v":0},0,0,{"$error":"#N/A"},{"$error":"#N/A"},{"$error":"#N/A"}]
["Years of remaining life",null,null,{"$f":"$D$8+$C38","v":48},{"$f":"D40-1","v":47},46,45,44,43,42]
["Adjusted depreciation",null,null,{"$f":"D39/D40","v":0},0,0,0,{"$error":"#N/A"},{"$error":"#N/A"},{"$error":"#N/A"}]
["Closing RAB, adjusted depreciation",null,null,{"$f":"D39-D41+IF($C38=D$5,D$27,0)","v":0},0,0,{"$error":"#N/A"},{"$error":"#N/A"},{"$error":"#N/A"},{"$error":"#N/A"}]
[" Assets commissioned in 2017/18:",null,{"$f":"H5","v":5}]
["Opening RAB, adjusted depreciation",null,null,0,{"$f":"D47","v":0},0,0,0,{"$error":"#N/A"},{"$error":"#N/A"}]
["Years of remaining life",null,null,{"$f":"$D$8+$C43","v":49},{"$f":"D45-1","v":48},47,46,45,44,43]
["Adjusted depreciation",null,null,{"$f":"D44/D45","v":0},0,0,0,0,{"$error":"#N/A"},{"$error":"#N/A"}]
["Closing RAB, adjusted depreciation",null,null,{"$f":"D44-D46+IF($C43=D$5,D$27,0)","v":0},0,0,0,{"$error":"#N/A"},{"$error":"#N/A"},{"$error":"#N/A"}]
[" Assets commissioned in 2018/19:",null,{"$f":"I5","v":6}]
["Opening RAB, adjusted depreciation",null,null,0,{"$f":"D52","v":0},0,0,0,0,{"$error":"#N/A"}]
["Years of remaining life",null,null,{"$f":"$D$8+$C48","v":50},{"$f":"D50-1","v":49},48,47,46,45,44]
["Adjusted depreciation",null,null,{"$f":"D49/D50","v":0},0,0,0,0,0,{"$error":"#N/A"}]
["Closing RAB, adjusted depreciation",null,null,{"$f":"D49-D51+IF($C48=D$5,D$27,0)","v":0},0,0,0,0,{"$error":"#N/A"},{"$error":"#N/A"}]
[" Assets commissioned in 2019/20:",null,{"$f":"J5","v":7}]
["Opening RAB, adjusted depreciation",null,null,0,{"$f":"D57","v":0},{"$f":"E57","v":0},0,{"$f":"G57","v":0},{"$f":"H57","v":0},{"$f":"I57","v":0}]
["Years of remaining life",null,null,{"$f":"$D$8+$C53","v":51},{"$f":"D55-1","v":50},{"$f":"E55-1","v":49},48,{"$f":"G55-1","v":47},{"$f":"H55-1","v":46},{"$f":"I55-1","v":45}]
["Adjusted depreciation",null,null,{"$f":"D54/D55","v":0},0,0,0,0,0,0]
["Closing RAB, adjusted depreciation",null,null,{"$f":"D54-D56+IF($C53=D$5,D$27,0)","v":0},0,0,0,0,0,{"$error":"#N/A"}]
["Total assets commissioned"]
["Total adjusted depreciation of commissioned assets",null,null,{"$f":"D31+D36+D41+D46+D51+D56","v":0},0,{"$error":"#N/A"},{"$error":"#N/A"},{"$error":"#N/A"},{"$error":"#N/A"},{"$error":"#N/A"}]
["Adjusted depreciation of existing assets"]
[null,null,"Value",{"$f":"Inputs!D$12","v":"2013/14"},{"$f":"Inputs!E$12","v":"2014/15"},{"$f":"Inputs!F$12","v":"2015/16"},{"$f":"Inputs!G$12","v":"2016/17"},{"$f":"Inputs!H$12","v":"2017/18"},{"$f":"Inputs!I$12","v":"2018/19"},{"$f":"Inputs!J$12","v":"2019/20"}]
["Opening RAB value of existing assets, adjusted depreciation",null,null,{"$f":"D13","v":{"$error":"#N/A"}},{"$f":"D68","v":{"$error":"#N/A"}},{"$f":"E68","v":{"$error":"#N/A"}},{"$f":"F68","v":{"$error":"#N/A"}},{"$f":"G68","v":{"$error":"#N/A"}},{"$f":"H68","v":{"$error":"#N/A"}},{"$f":"I68","v":{"$error":"#N/A"}}]
["Disposed assets",null,null,{"$f":"D12","v":{"$error":"#N/A"}},{"$error":"#N/A"},{"$error":"#N/A"},{"$error":"#N/A"},{"$error":"#N/A"},{"$error":"#N/A"},{"$error":"#N/A"}]
["Base year lost assets",null,null,{"$f":"D10","v":{"$error":"#N/A"}}]
["Base year found assets",null,null,{"$f":"D11","v":{"$error":"#N/A"}}]
["Adjusted depreciation of existing assets",null,null,{"$f":"D14","v":{"$error":"#N/A"}},{"$f":"E62/E20","v":{"$error":"#N/A"}},{"$error":"#N/A"},{"$error":"#N/A"},{"$error":"#N/A"},{"$error":"#N/A"},{"$error":"#N/A"}]
["Base year commissioned assets",null,null,{"$f":"D7","v":{"$error":"#N/A"}}]
["Closing RAB value of existing assets, adjusted depreciation",null,null,{"$f":"D62-D63-D64+D65-D66+D67","v":{"$error":"#N/A"}},{"$f":"E62-E63-E66","v":{"$error":"#N/A"}},{"$error":"#N/A"},{"$f":"G62-G63-G66","v":{"$error":"#N/A"}},{"$f":"H62-H63-H66","v":{"$error":"#N/A"}},{"$f":"I62-I63-I66","v":{"$error":"#N/A"}},{"$f":"J62-J63-J66","v":{"$error":"#N/A"}}]
["Regulatory tax asset value"]
[null,null,"Value",{"$f":"Inputs!D$12","v":"2013/14"},{"$f":"Inputs!E$12","v":"2014/15"},{"$f":"Inputs!F$12","v":"2015/16"},{"$f":"Inputs!G$12","v":"2016/17"},{"$f":"Inputs!H$12","v":"2017/18"},{"$f":"Inputs!I$12","v":"2018/19"},{"$f":"Inputs!J$12","v":"2019/20"}]
["Average DV rate",null,{"$f":"D15/D16","v":{"$error":"#N/A"}}]
["Opening regulatory tax asset value",null,null,{"$f":"D16","v":{"$error":"#N/A"}},{"$f":"D75","v":{"$error":"#N/A"}},{"$f":"E75","v":{"$error":"#N/A"}},{"$f":"F75","v":{"$error":"#N/A"}},{"$f":"G75","v":{"$error":"#N/A"}},{"$f":"H75","v":{"$error":"#N/A"}},{"$f":"I75","v":{"$error":"#N/A"}}]
["Tax depreciation",null,null,{"$f":"D15","v":{"$error":"#N/A"}},{"$f":"E72*$C71","v":{"$error":"#N/A"}},{"$f":"F72*$C71","v":{"$error":"#N/A"}},{"$f":"G72*$C71","v":{"$error":"#N/A"}},{"$f":"H72*$C71","v":{"$error":"#N/A"}},{"$f":"I72*$C71","v":{"$error":"#N/A"}},{"$f":"J72*$C71","v":{"$error":"#N/A"}}]
["Value of commissioned assets",null,null,{"$f":"D7","v":{"$error":"#N/A"}},{"$error":"#N/A"},{"$error":"#N/A"},{"$error":"#N/A"},{"$error":"#N/A"},{"$error":"#N/A"},{"$error":"#N/A"}]
["Closing regulatory tax asset value",null,null,{"$f":"D72-D73+D74","v":{"$error":"#N/A"}},{"$error":"#N/A"},{"$error":"#N/A"},{"$error":"#N/A"},{"$error":"#N/A"},{"$error":"#N/A"},{"$error":"#N/A"}]
["Depreciation temporary differences"]
[null,null,"Value",{"$f":"Inputs!D$12","v":"2013/14"},{"$f":"Inputs!E$12","v":"2014/15"},{"$f":"Inputs!F$12","v":"2015/16"},{"$f":"Inputs!G$12","v":"2016/17"},{"$f":"Inputs!H$12","v":"2017/18"},{"$f":"Inputs!I$12","v":"2018/19"},{"$f":"Inputs!J$12","v":"2019/20"}]
["Total adjusted depreciation of assets",null,null,{"$f":"D59+D66","v":{"$error":"#N/A"}},{"$error":"#N/A"},{"$error":"#N/A"},{"$error":"#N/A"},{"$error":"#N/A"},{"$error":"#N/A"},{"$error":"#N/A"}]
["Tax depreciation",null,null,{"$f":"D73","v":{"$error":"#N/A"}},{"$error":"#N/A"},{"$error":"#N/A"},{"$error":"#N/A"},{"$error":"#N/A"},{"$error":"#N/A"},{"$error":"#N/A"}]
["Depreciation temporary differences",null,null,{"$f":"D78-D79","v":{"$error":"#N/A"}},{"$error":"#N/A"},{"$error":"#N/A"},{"$error":"#N/A"},{"$error":"#N/A"},{"$error":"#N/A"},{"$error":"#N/A"}]
["Deductions for regulatory tax purposes"]
["Amortisation of initial differences in asset values",null,null,{"$f":"D9","v":{"$error":"#N/A"}},{"$f":"D82","v":{"$error":"#N/A"}},{"$f":"E82","v":{"$error":"#N/A"}},{"$error":"#N/A"},{"$error":"#N/A"},{"$error":"#N/A"},{"$error":"#N/A"}]
["Notional deductible interest",null,null,{"$f":"(D23*$D$19*$D$18+D22)/(1+$D$18)^0.5","v":{"$error":"#N/A"}},{"$error":"#N/A"},{"$error":"#N/A"},{"$error":"#N/A"},{"$error":"#N/A"},{"$error":"#N/A"},{"$error":"#N/A"}]
["Amortisation of revaluations",null,null,{"$f":"D21-D78","v":{"$error":"#N/A"}},{"$error":"#N/A"},{"$error":"#N/A"},{"$error":"#N/A"},{"$error":"#N/A"},{"$error":"#N/A"},{"$error":"#N/A"}]
["Regulatory tax adjustments",null,null,{"$f":"D82+D84-D83","v":{"$error":"#N/A"}},{"$f":"E82+E84-E83","v":{"$error":"#N/A"}},{"$error":"#N/A"},{"$error":"#N/A"},{"$error":"#N/A"},{"$error":"#N/A"},{"$error":"#N/A"}]
[]
["Deferred tax asset value"]
[null,null,"Value",{"$f":"Inputs!D$12","v":"2013/14"},{"$f":"Inputs!E$12","v":"2014/15"},{"$f":"Inputs!F$12","v":"2015/16"},{"$f":"Inputs!G$12","v":"2016/17"},{"$f":"Inputs!H$12","v":"2017/18"},{"$f":"Inputs!I$12","v":"2018/19"},{"$f":"Inputs!J$12","v":"2019/20"}]
["Opening deferred tax",null,null,{"$f":"D17","v":{"$error":"#N/A"}},{"$f":"D92","v":{"$error":"#N/A"}},{"$f":"E92","v":{"$error":"#N/A"}},{"$f":"F92","v":{"$error":"#N/A"}},{"$f":"G92","v":{"$error":"#N/A"}},{"$f":"H92","v":{"$error":"#N/A"}},{"$f":"I92","v":{"$error":"#N/A"}}]
["Depreciation temporary differences",null,null,{"$f":"D80","v":{"$error":"#N/A"}},{"$error":"#N/A"},{"$error":"#N/A"},{"$error":"#N/A"},{"$error":"#N/A"},{"$error":"#N/A"},{"$error":"#N/A"}]
["Amortisation of initial differences in asset values",null,null,{"$f":"D82","v":{"$error":"#N/A"}},{"$error":"#N/A"},{"$error":"#N/A"},{"$error":"#N/A"},{"$error":"#N/A"},{"$error":"#N/A"},{"$error":"#N/A"}]
["Closing deferred tax",null,null,{"$f":"D89+(D90-D91)*D6","v":{"$error":"#N/A"}},{"$error":"#N/A"},{"$error":"#N/A"},{"$error":"#N/A"},{"$error":"#N/A"},{"$error":"#N/A"},{"$error":"#N/A"}]
["Outputs"]
[null,null,"Value",{"$f":"Inputs!D$12","v":"2013/14"},{"$f":"Inputs!E$12","v":"2014/15"},{"$f":"Inputs!F$12","v":"2015/16"},{"$f":"Inputs!G$12","v":"2016/17"},{"$f":"Inputs!H$12","v":"2017/18"},{"$f":"Inputs!I$12","v":"2018/19"},{"$f":"Inputs!J$12","v":"2019/20"}]
["Total adjusted depreciation of commissioned assets",null,null,{"$f":"D59","v":0},0,{"$error":"#N/A"},{"$error":"#N/A"},{"$error":"#N/A"},{"$error":"#N/A"},{"$error":"#N/A"}]
["Opening deferred tax",null,null,{"$f":"D89","v":{"$error":"#N/A"}},{"$f":"E89","v":{"$error":"#N/A"}},{"$error":"#N/A"},{"$error":"#N/A"},{"$error":"#N/A"},{"$error":"#N/A"},{"$error":"#N/A"}]
["Closing deferred tax",null,null,{"$f":"D92","v":{"$error":"#N/A"}},{"$f":"E92","v":{"$error":"#N/A"}},{"$error":"#N/A"},{"$error":"#N/A"},{"$error":"#N/A"},{"$error":"#N/A"},{"$error":"#N/A"}]
["Regulatory tax adjustments",null,null,{"$f":"D85","v":{"$error":"#N/A"}},{"$f":"E85","v":{"$error":"#N/A"}},{"$error":"#N/A"},{"$error":"#N/A"},{"$error":"#N/A"},{"$error":"#N/A"},{"$error":"#N/A"}]

{"sheet":"BBAR","index":10,"n_rows":59,"n_cols":10,"rows_kept":59,"cut":false,"hidden":false,"merged":[]}
["Building blocks allowable revenue",null,null,null,null,null,null,null,null,{"$f":"EDB_Name","v":"Total for selected EDBs"}]
["Derivation of BBAR present value, opening investment value, and TCSD allowance."]
["Inputs"]
[null,"Source","Value",{"$f":"Inputs!D$12","v":"2013/14"},{"$f":"Inputs!E$12","v":"2014/15"},{"$f":"Inputs!F$12","v":"2015/16"},{"$f":"Inputs!G$12","v":"2016/17"},{"$f":"Inputs!H$12","v":"2017/18"},{"$f":"Inputs!I$12","v":"2018/19"},{"$f":"Inputs!J$12","v":"2019/20"}]
["Year in regulatory period","EDB data",null,null,null,{"$f":"'EDB data'!D22","v":1},{"$f":"'EDB data'!E22","v":2},{"$f":"'EDB data'!F22","v":3},{"$f":"'EDB data'!G22","v":4},{"$f":"'EDB data'!H22","v":5}]
["Tax rate","EDB data",null,{"$f":"'EDB data'!B25","v":0.28000000000000003},{"$f":"'EDB data'!C25","v":0.28000000000000003},{"$f":"'EDB data'!D25","v":0.28000000000000003},{"$f":"'EDB data'!E25","v":0.28000000000000003},{"$f":"'EDB data'!F25","v":0.28000000000000003},{"$f":"'EDB data'!G25","v":0.28000000000000003},{"$f":"'EDB data'!H25","v":0.28000000000000003}]
["Other regulated income","EDB data",null,{"$f":"'EDB data'!$B82","v":{"$error":"#N/A"}},{"$f":"'EDB data'!$B83","v":{"$error":"#N/A"}},{"$f":"'EDB data'!$B84","v":{"$error":"#N/A"}},{"$f":"'EDB data'!$B85","v":{"$error":"#N/A"}},{"$f":"'EDB data'!$B86","v":{"$error":"#N/A"}},{"$f":"'EDB data'!$B87","v":{"$error":"#N/A"}},{"$f":"'EDB data'!$B88","v":{"$error":"#N/A"}}]
["Term credit spread differential allowance","EDB data",null,{"$f":"'EDB data'!B39","v":{"$error":"#N/A"}}]
["Value of commissioned assets","EDB data",null,{"$f":"'EDB data'!$B64","v":{"$error":"#N/A"}},{"$f":"'EDB data'!$B65","v":{"$error":"#N/A"}},{"$f":"'EDB data'!$B66","v":{"$error":"#N/A"}},{"$f":"'EDB data'!$B67","v":{"$error":"#N/A"}},{"$f":"'EDB data'!$B68","v":{"$error":"#N/A"}},{"$f":"'EDB data'!$B69","v":{"$error":"#N/A"}},{"$f":"'EDB data'!$B70","v":{"$error":"#N/A"}}]
["Operating expenditure","EDB data",null,{"$f":"'EDB data'!$B46","v":{"$error":"#N/A"}},{"$f":"'EDB data'!$B47","v":{"$error":"#N/A"}},{"$f":"'EDB data'!$B48","v":{"$error":"#N/A"}},{"$f":"'EDB data'!$B49","v":{"$error":"#N/A"}},{"$f":"'EDB data'!$B50","v":{"$error":"#N/A"}},{"$f":"'EDB data'!$B51","v":{"$error":"#N/A"}},{"$f":"'EDB data'!$B52","v":{"$error":"#N/A"}}]
["Vanilla WACC (67th percentile)","EDB data",{"$f":"WACC","v":7.1900000000000006E-2}]
["TFopex","TIMING",{"$f":"TIMING!C23","v":1.0352275669181401}]
["TFtax","TIMING",{"$f":"TIMING!C24","v":1.0352275669181401}]
["TFVCA","TIMING",{"$f":"TIMING!C25","v":1.0352275669181401}]
["TFori","TIMING",{"$f":"TIMING!C26","v":1.0352275669181401}]
["TFrev","TIMING",{"$f":"TIMING!C27","v":1.0285536205330978}]
["Aggregate opening RAB value","RAB",null,{"$f":"RAB!D93","v":{"$error":"#N/A"}},{"$f":"RAB!E93","v":{"$error":"#N/A"}},{"$f":"RAB!F93","v":{"$error":"#N/A"}},{"$f":"RAB!G93","v":{"$error":"#N/A"}},{"$f":"RAB!H93","v":{"$error":"#N/A"}},{"$f":"RAB!I93","v":{"$error":"#N/A"}},{"$f":"RAB!J93","v":{"$error":"#N/A"}}]
["Total revaluation","RAB",null,{"$f":"RAB!D94","v":{"$error":"#N/A"}},{"$f":"RAB!E94","v":{"$error":"#N/A"}},{"$f":"RAB!F94","v":{"$error":"#N/A"}},{"$f":"RAB!G94","v":{"$error":"#N/A"}},{"$f":"RAB!H94","v":{"$error":"#N/A"}},{"$f":"RAB!I94","v":{"$error":"#N/A"}},{"$f":"RAB!J94","v":{"$error":"#N/A"}}]
["Total depreciation","RAB",null,{"$f":"RAB!D92","v":{"$error":"#N/A"}},{"$f":"RAB!E92","v":{"$error":"#N/A"}},{"$f":"RAB!F92","v":{"$error":"#N/A"}},{"$f":"RAB!G92","v":{"$error":"#N/A"}},{"$f":"RAB!H92","v":{"$error":"#N/A"}},{"$f":"RAB!I92","v":{"$error":"#N/A"}},{"$f":"RAB!J92","v":{"$error":"#N/A"}}]
["Opening deferred tax","TAX",null,{"$f":"TAX!D96","v":{"$error":"#N/A"}},{"$f":"TAX!E96","v":{"$error":"#N/A"}},{"$f":"TAX!F96","v":{"$error":"#N/A"}},{"$f":"TAX!G96","v":{"$error":"#N/A"}},{"$f":"TAX!H96","v":{"$error":"#N/A"}},{"$f":"TAX!I96","v":{"$error":"#N/A"}},{"$f":"TAX!J96","v":{"$error":"#N/A"}}]
["Closing deferred tax","TAX",null,{"$f":"TAX!D97","v":{"$error":"#N/A"}},{"$f":"TAX!E97","v":{"$error":"#N/A"}},{"$f":"TAX!F97","v":{"$error":"#N/A"}},{"$f":"TAX!G97","v":{"$error":"#N/A"}},{"$f":"TAX!H97","v":{"$error":"#N/A"}},{"$f":"TAX!I97","v":{"$error":"#N/A"}},{"$f":"TAX!J97","v":{"$error":"#N/A"}}]
["Regulatory tax adjustments","TAX",null,{"$f":"TAX!D98","v":{"$error":"#N/A"}},{"$f":"TAX!E98","v":{"$error":"#N/A"}},{"$f":"TAX!F98","v":{"$error":"#N/A"}},{"$f":"TAX!G98","v":{"$error":"#N/A"}},{"$f":"TAX!H98","v":{"$error":"#N/A"}},{"$f":"TAX!I98","v":{"$error":"#N/A"}},{"$f":"TAX!J98","v":{"$error":"#N/A"}}]
["Calculations"]
["Term credit spread differential allowance"]
[null,null,null,{"$f":"Inputs!D$12","v":"2013/14"},{"$f":"Inputs!E$12","v":"2014/15"},{"$f":"Inputs!F$12","v":"2015/16"},{"$f":"Inputs!G$12","v":"2016/17"},{"$f":"Inputs!H$12","v":"2017/18"},{"$f":"Inputs!I$12","v":"2018/19"},{"$f":"Inputs!J$12","v":"2019/20"}]
["Asset base scaling factor",null,null,{"$f":"D17/$D$17","v":{"$error":"#N/A"}},{"$error":"#N/A"},{"$error":"#N/A"},{"$error":"#N/A"},{"$error":"#N/A"},{"$error":"#N/A"},{"$error":"#N/A"}]
["Term credit spread differential allowance",null,null,{"$f":"IF(D8>0,D8,0)","v":{"$error":"#N/A"}},{"$f":"$D27*E26","v":{"$error":"#N/A"}},{"$error":"#N/A"},{"$error":"#N/A"},{"$error":"#N/A"},{"$error":"#N/A"},{"$error":"#N/A"}]
["Return on capital"]
[null,null,null,{"$f":"Inputs!D$12","v":"2013/14"},{"$f":"Inputs!E$12","v":"2014/15"},{"$f":"Inputs!F$12","v":"2015/16"},{"$f":"Inputs!G$12","v":"2016/17"},{"$f":"Inputs!H$12","v":"2017/18"},{"$f":"Inputs!I$12","v":"2018/19"},{"$f":"Inputs!J$12","v":"2019/20"}]
["Opening investment value",null,null,{"$f":"D17+D20","v":{"$error":"#N/A"}},{"$error":"#N/A"},{"$error":"#N/A"},{"$error":"#N/A"},{"$error":"#N/A"},{"$error":"#N/A"},{"$error":"#N/A"}]
["Value of commissioned assets",null,null,{"$f":"D9","v":{"$error":"#N/A"}},{"$error":"#N/A"},{"$error":"#N/A"},{"$error":"#N/A"},{"$error":"#N/A"},{"$error":"#N/A"},{"$error":"#N/A"}]
["Term credit spread differential allowance",null,null,{"$f":"D27","v":{"$error":"#N/A"}},{"$error":"#N/A"},{"$error":"#N/A"},{"$error":"#N/A"},{"$error":"#N/A"},{"$error":"#N/A"},{"$error":"#N/A"}]
["Total revaluation",null,null,{"$f":"D18","v":{"$error":"#N/A"}},{"$f":"E18","v":{"$error":"#N/A"}},{"$error":"#N/A"},{"$error":"#N/A"},{"$error":"#N/A"},{"$error":"#N/A"},{"$error":"#N/A"}]
["Return on capital",null,null,{"$f":"D30*$C$11+D31*($C$14-1)+D32-D33","v":{"$error":"#N/A"}},{"$f":"E30*$C$11+E31*($C$14-1)+E32-E33","v":{"$error":"#N/A"}},{"$error":"#N/A"},{"$error":"#N/A"},{"$error":"#N/A"},{"$error":"#N/A"},{"$error":"#N/A"}]
["Operating expenditure"]
[null,null,null,{"$f":"Inputs!D$12","v":"2013/14"},{"$f":"Inputs!E$12","v":"2014/15"},{"$f":"Inputs!F$12","v":"2015/16"},{"$f":"Inputs!G$12","v":"2016/17"},{"$f":"Inputs!H$12","v":"2017/18"},{"$f":"Inputs!I$12","v":"2018/19"},{"$f":"Inputs!J$12","v":"2019/20"}]
["Operating expenditure",null,null,{"$f":"D10","v":{"$error":"#N/A"}},{"$error":"#N/A"},{"$error":"#N/A"},{"$error":"#N/A"},{"$error":"#N/A"},{"$error":"#N/A"},{"$error":"#N/A"}]
["Operating expenditure allowance",null,null,{"$f":"D37*$C$12","v":{"$error":"#N/A"}},{"$error":"#N/A"},{"$error":"#N/A"},{"$error":"#N/A"},{"$error":"#N/A"},{"$error":"#N/A"},{"$error":"#N/A"}]
["Building block allowable revenue before tax (BBAR before tax)"]
[null,null,null,{"$f":"Inputs!D$12","v":"2013/14"},{"$f":"Inputs!E$12","v":"2014/15"},{"$f":"Inputs!F$12","v":"2015/16"},{"$f":"Inputs!G$12","v":"2016/17"},{"$f":"Inputs!H$12","v":"2017/18"},{"$f":"Inputs!I$12","v":"2018/19"},{"$f":"Inputs!J$12","v":"2019/20"}]
["Increase in deferred tax asset, ΔDT",null,null,{"$f":"D21-D20","v":{"$error":"#N/A"}},{"$error":"#N/A"},{"$error":"#N/A"},{"$error":"#N/A"},{"$error":"#N/A"},{"$error":"#N/A"},{"$error":"#N/A"}]
["BBAR before tax in revenue date terms, calculation not referencing tax",null,null,{"$f":"(D34+D19+D38+((D7-D37-D19+D22)*D6+D41)*$C13-D41-D7*$C15)/($C16-D6*$C13)","v":{"$error":"#N/A"}},{"$f":"(E34+E19+E38+((E7-E37-E19+E22)*E6+E41)*$C13-E41-E7*$C15)/($C16-E6*$C13)","v":{"$error":"#N/A"}},{"$error":"#N/A"},{"$error":"#N/A"},{"$error":"#N/A"},{"$error":"#N/A"},{"$error":"#N/A"}]
["Regulatory tax allowance before considering possibility of tax losses",null,null,{"$f":"(D42+D7-D37-D19+D22)*D6","v":{"$error":"#N/A"}},{"$f":"(E42+E7-E37-E19+E22)*E6","v":{"$error":"#N/A"}},{"$error":"#N/A"},{"$error":"#N/A"},{"$error":"#N/A"},{"$error":"#N/A"},{"$error":"#N/A"}]
["Regulatory tax allowance",null,null,{"$f":"IF(D43<0,#N/A,D43)","v":{"$error":"#N/A"}},{"$error":"#N/A"},{"$error":"#N/A"},{"$error":"#N/A"},{"$error":"#N/A"},{"$error":"#N/A"},{"$error":"#N/A"}]
["BBAR before tax in year-end terms, direct simple calculation",null,null,{"$f":"D34+D19+D38+(D44+D41)*$C$13-D41-D7*$C$15","v":{"$error":"#N/A"}},{"$error":"#N/A"},{"$error":"#N/A"},{"$error":"#N/A"},{"$error":"#N/A"},{"$error":"#N/A"},{"$error":"#N/A"}]
["BBAR before tax in revenue date terms",null,null,{"$f":"D45/$C$16","v":{"$error":"#N/A"}},{"$error":"#N/A"},{"$error":"#N/A"},{"$error":"#N/A"},{"$error":"#N/A"},{"$error":"#N/A"},{"$error":"#N/A"}]
["Difference between the two BBAR calculations (should = 0)",null,null,{"$f":"D42-D46","v":{"$error":"#N/A"}},{"$error":"#N/A"},{"$error":"#N/A"},{"$error":"#N/A"},{"$error":"#N/A"},{"$error":"#N/A"},{"$error":"#N/A"}]
["Present value of the building block allowable revenue before tax"]
[null,null,"Value",{"$f":"Inputs!D$12","v":"2013/14"},{"$f":"Inputs!E$12","v":"2014/15"},{"$f":"Inputs!F$12","v":"2015/16"},{"$f":"Inputs!G$12","v":"2016/17"},{"$f":"Inputs!H$12","v":"2017/18"},{"$f":"Inputs!I$12","v":"2018/19"},{"$f":"Inputs!J$12","v":"2019/20"}]
["Number of years to discount the year-end  values to start of the present value period",null,null,null,null,{"$f":"F5","v":1},{"$f":"G5","v":2},{"$f":"H5","v":3},{"$f":"I5","v":4},{"$f":"J5","v":5}]
["BBAR before tax in year-end terms, i.e. Rev * TFrev",null,null,null,null,{"$f":"F45","v":{"$error":"#N/A"}},{"$f":"G45","v":{"$error":"#N/A"}},{"$f":"H45","v":{"$error":"#N/A"}},{"$f":"I45","v":{"$error":"#N/A"}},{"$f":"J45","v":{"$error":"#N/A"}}]
["PV at 1 Apr 2015 of BBAR before tax for each year",null,null,null,null,{"$f":"F51/(1+WACC)^F$50","v":{"$error":"#N/A"}},{"$f":"G51/(1+WACC)^G$50","v":{"$error":"#N/A"}},{"$f":"H51/(1+WACC)^H$50","v":{"$error":"#N/A"}},{"$f":"I51/(1+WACC)^I$50","v":{"$error":"#N/A"}},{"$f":"J51/(1+WACC)^J$50","v":{"$error":"#N/A"}}]
["PV at 1 Apr 2015 of BBAR before tax over the regulatory period",null,{"$f":"SUM(F52:J52)","v":{"$error":"#N/A"}}]
["Outputs"]
[null,null,"Value",{"$f":"Inputs!D$12","v":"2013/14"},{"$f":"Inputs!E$12","v":"2014/15"},{"$f":"Inputs!F$12","v":"2015/16"},{"$f":"Inputs!G$12","v":"2016/17"},{"$f":"Inputs!H$12","v":"2017/18"},{"$f":"Inputs!I$12","v":"2018/19"},{"$f":"Inputs!J$12","v":"2019/20"}]
["Opening investment value",null,null,{"$f":"D30","v":{"$error":"#N/A"}},{"$error":"#N/A"},{"$error":"#N/A"},{"$error":"#N/A"},{"$error":"#N/A"},{"$error":"#N/A"},{"$error":"#N/A"}]
["PV at 1 Apr 2015 of BBAR before tax over the regulatory period",null,{"$f":"C53","v":{"$error":"#N/A"}}]
["Term credit spread differential allowance",null,null,{"$f":"D27","v":{"$error":"#N/A"}},{"$f":"E27","v":{"$error":"#N/A"}},{"$error":"#N/A"},{"$error":"#N/A"},{"$error":"#N/A"},{"$error":"#N/A"},{"$error":"#N/A"}]
["BBAR before tax in revenue date terms, calculation not referencing tax",null,null,{"$f":"D42","v":{"$error":"#N/A"}},{"$f":"E42","v":{"$error":"#N/A"}},{"$error":"#N/A"},{"$error":"#N/A"},{"$error":"#N/A"},{"$error":"#N/A"},{"$error":"#N/A"}]

{"sheet":"REV","index":11,"n_rows":28,"n_cols":8,"rows_kept":28,"cut":false,"hidden":false,"merged":[]}
["Revenue growth index",null,null,null,null,null,null,{"$f":"EDB_Name","v":"Total for selected EDBs"}]
["Derivation of the normalised profile of the maximum allowable revenue before tax values."]
["Inputs"]
[null,"Source","Value",{"$f":"Inputs!F$12","v":"2015/16"},{"$f":"Inputs!G$12","v":"2016/17"},{"$f":"Inputs!H$12","v":"2017/18"},{"$f":"Inputs!I$12","v":"2018/19"},{"$f":"Inputs!J$12","v":"2019/20"}]
["Constant price revenue growth","EDB data",null,{"$f":"'EDB data'!$B57","v":{"$error":"#N/A"}},{"$f":"'EDB data'!$B58","v":{"$error":"#N/A"}},{"$f":"'EDB data'!$B59","v":{"$error":"#N/A"}},{"$f":"'EDB data'!$B60","v":{"$error":"#N/A"}},{"$f":"'EDB data'!$B61","v":{"$error":"#N/A"}}]
["Industry-wide X factor","EDB data",{"$f":"'EDB data'!B14","v":0}]
["Alternative X factor","EDB data",{"$f":"'EDB data'!B43","v":""}]
["Forecast changes in the CPI element of the price path","EDB data",null,{"$f":"'EDB data'!D24","v":1.5299617509562324E-2},{"$f":"'EDB data'!E24","v":1.506906655504392E-2},{"$f":"'EDB data'!F24","v":1.7731958762886579E-2},{"$f":"'EDB data'!G24","v":2.1069692058346856E-2},{"$f":"'EDB data'!H24","v":2.1528794788826966E-2}]
["Calculations"]
[{"$f":"\"Index of price path with industry-wide X factor of \"&TEXT(C6,\"#0.0%\")","v":"Index of price path with industry-wide X factor of 0.0%"}]
[null,null,"Value",{"$f":"Inputs!F$12","v":"2015/16"},{"$f":"Inputs!G$12","v":"2016/17"},{"$f":"Inputs!H$12","v":"2017/18"},{"$f":"Inputs!I$12","v":"2018/19"},{"$f":"Inputs!J$12","v":"2019/20"}]
["X value applied",null,{"$f":"C6","v":0}]
["Index of price path",null,null,1,{"$f":"D13*(1+E$8)*(1-$C$6)","v":1.0150690665550439},{"$f":"E13*(1+F$8)*(1-$C$6)","v":1.0330682293846798},{"$f":"F13*(1+G$8)*(1-$C$6)","v":1.0548346588530766},{"$f":"G13*(1+H$8)*(1-$C$6)","v":1.0775439777596667}]
["Index of constant price growth",null,null,1,{"$f":"D14*(1+E$5)","v":{"$error":"#N/A"}},{"$f":"E14*(1+F$5)","v":{"$error":"#N/A"}},{"$error":"#N/A"},{"$error":"#N/A"}]
["Indexed maximum allowable revenue before tax",null,null,1,{"$f":"E13*E14","v":{"$error":"#N/A"}},{"$f":"F13*F14","v":{"$error":"#N/A"}},{"$f":"G13*G14","v":{"$error":"#N/A"}},{"$f":"H13*H14","v":{"$error":"#N/A"}}]
[{"$f":"\"CPI minus X revenues with applicable X factor (\" & IF(ISNUMBER(C7),\"alternate X factor of \" & TEXT(C7,\"#0.0%\"), \"industry-wide X factor of \" & TEXT(C6,\"#0.0%\"))&\")\"","v":"CPI minus X revenues with applicable X factor (industry-wide X factor of 0.0%)"}]
[null,null,"Value",{"$f":"Inputs!F$12","v":"2015/16"},{"$f":"Inputs!G$12","v":"2016/17"},{"$f":"Inputs!H$12","v":"2017/18"},{"$f":"Inputs!I$12","v":"2018/19"},{"$f":"Inputs!J$12","v":"2019/20"}]
["X value applied",null,{"$f":"IF(ISNUMBER(C7),C7,C6)","v":0}]
["Index of price path",null,null,1,{"$f":"D19*(1+E$8)*(1-$C$18)","v":1.0150690665550439},{"$f":"E19*(1+F$8)*(1-$C$18)","v":1.0330682293846798},{"$f":"F19*(1+G$8)*(1-$C$18)","v":1.0548346588530766},{"$f":"G19*(1+H$8)*(1-$C$18)","v":1.0775439777596667}]
["Index of constant price growth",null,null,1,{"$f":"D20*(1+E$5)","v":{"$error":"#N/A"}},{"$f":"E20*(1+F$5)","v":{"$error":"#N/A"}},{"$error":"#N/A"},{"$error":"#N/A"}]
["Indexed maximum allowable revenue before tax",null,null,1,{"$f":"E19*E20","v":{"$error":"#N/A"}},{"$f":"F19*F20","v":{"$error":"#N/A"}},{"$f":"G19*G20","v":{"$error":"#N/A"}},{"$f":"H19*H20","v":{"$error":"#N/A"}}]
[]
["This data block calculates maximum allowable revenues for the regulatory period for the 2014/15 X value that has been applied.  These"]
["Maximum allowable revenues are set PV equivalent to the corresponding maximum allowable revenues for the industry-wide X CPI - X revenues."]
["Outputs"]
[null,null,"Misc.",{"$f":"Inputs!F$12","v":"2015/16"},{"$f":"Inputs!G$12","v":"2016/17"},{"$f":"Inputs!H$12","v":"2017/18"},{"$f":"Inputs!I$12","v":"2018/19"},{"$f":"Inputs!J$12","v":"2019/20"}]
["Indexed maximum allowable revenue before tax—industry wide X factor",null,null,{"$f":"D15","v":1},{"$f":"E15","v":{"$error":"#N/A"}},{"$f":"F15","v":{"$error":"#N/A"}},{"$f":"G15","v":{"$error":"#N/A"}},{"$f":"H15","v":{"$error":"#N/A"}}]
["Indexed maximum allowable revenue before tax—applicable X factor",null,null,{"$f":"D21","v":1},{"$f":"E21","v":{"$error":"#N/A"}},{"$error":"#N/A"},{"$error":"#N/A"},{"$error":"#N/A"}]

{"sheet":"MAR","index":12,"n_rows":61,"n_cols":8,"rows_kept":61,"cut":false,"hidden":false,"merged":[]}
["Maximum allowable revenue",null,null,null,null,null,null,{"$f":"EDB_Name","v":"Total for selected EDBs"}]
["Derivation of starting prices."]
["Inputs"]
[null,"Source","Value",{"$f":"Inputs!F$12","v":"2015/16"},{"$f":"Inputs!G$12","v":"2016/17"},{"$f":"Inputs!H$12","v":"2017/18"},{"$f":"Inputs!I$12","v":"2018/19"},{"$f":"Inputs!J$12","v":"2019/20"}]
["Year in regulatory period","EDB data",null,{"$f":"'EDB data'!D22","v":1},{"$f":"'EDB data'!E22","v":2},{"$f":"'EDB data'!F22","v":3},{"$f":"'EDB data'!G22","v":4},{"$f":"'EDB data'!H22","v":5}]
["Industry-wide X factor","EDB data",{"$f":"'EDB data'!B14","v":0}]
["Additional allowance in 1 April 2015 PV terms","EDB data",{"$f":"'EDB data'!B42","v":{"$error":"#N/A"}}]
["Alternative X factor","EDB data",{"$f":"'EDB data'!B43","v":""}]
["Vanilla WACC (67th percentile)","EDB data",{"$f":"WACC","v":7.1900000000000006E-2}]
["TFrev","TIMING",{"$f":"TIMING!C27","v":1.0285536205330978}]
["Constant price revenue growth 2015","EDB data",{"$f":"'EDB data'!B56","v":{"$error":"#N/A"}}]
["Constant price revenue growth 2016","EDB data",{"$f":"'EDB data'!B57","v":{"$error":"#N/A"}}]
["PV at 1 Apr 2015 of BBAR before tax over the regulatory period","BBAR",{"$f":"BBAR!C57","v":{"$error":"#N/A"}}]
["Indexed maximum allowable revenue before tax—industry wide X factor","REV",null,{"$f":"REV!D27","v":1},{"$f":"REV!E27","v":{"$error":"#N/A"}},{"$f":"REV!F27","v":{"$error":"#N/A"}},{"$f":"REV!G27","v":{"$error":"#N/A"}},{"$f":"REV!H27","v":{"$error":"#N/A"}}]
["Indexed maximum allowable revenue before tax—applicable X factor","REV",null,{"$f":"REV!D28","v":1},{"$f":"REV!E28","v":{"$error":"#N/A"}},{"$f":"REV!F28","v":{"$error":"#N/A"}},{"$f":"REV!G28","v":{"$error":"#N/A"}},{"$f":"REV!H28","v":{"$error":"#N/A"}}]
["Calculations"]
[{"$f":"\"CPI minus X revenues with industry-wide X factor of \"&TEXT(C6,\"#0.0%\")","v":"CPI minus X revenues with industry-wide X factor of 0.0%"}]
[null,null,"PV at \n1-Apr-15",{"$f":"Inputs!F$12","v":"2015/16"},{"$f":"Inputs!G$12","v":"2016/17"},{"$f":"Inputs!H$12","v":"2017/18"},{"$f":"Inputs!I$12","v":"2018/19"},{"$f":"Inputs!J$12","v":"2019/20"}]
["PV at 1 Apr 2015 of BBAR before tax over the regulatory period",null,{"$f":"C13","v":{"$error":"#N/A"}}]
["Additional allowance",null,{"$f":"C7","v":{"$error":"#N/A"}}]
["PV at 1 Apr 2015 of maximum allowable revenue before tax",null,{"$f":"C19+C20","v":{"$error":"#N/A"}}]
["Indexed maximum allowable revenue before tax",null,null,{"$f":"D14","v":1},{"$f":"E14","v":{"$error":"#N/A"}},{"$f":"F14","v":{"$error":"#N/A"}},{"$f":"G14","v":{"$error":"#N/A"}},{"$f":"H14","v":{"$error":"#N/A"}}]
["Present value of indexed maximum allowable revenue for each year",null,null,{"$f":"D22/(1+$C$9)^D$5","v":0.93292284728052988},{"$f":"E22/(1+$C$9)^E$5","v":{"$error":"#N/A"}},{"$f":"F22/(1+$C$9)^F$5","v":{"$error":"#N/A"}},{"$f":"G22/(1+$C$9)^G$5","v":{"$error":"#N/A"}},{"$f":"H22/(1+$C$9)^H$5","v":{"$error":"#N/A"}}]
["Present value of indexed revenue",null,{"$f":"SUM(D23:H23)","v":{"$error":"#N/A"}}]
["Maximum allowable revenue before tax in first year of the regulatory period",null,{"$f":"C21/C24","v":{"$error":"#N/A"}}]
["Maximum allowable revenue before tax in year-end terms",null,null,{"$f":"$C25*D22","v":{"$error":"#N/A"}},{"$f":"$C25*E22","v":{"$error":"#N/A"}},{"$f":"$C25*F22","v":{"$error":"#N/A"}},{"$f":"$C25*G22","v":{"$error":"#N/A"}},{"$f":"$C25*H22","v":{"$error":"#N/A"}}]
["Maximum allowable revenue before tax in revenue-date terms",null,null,{"$f":"D26/$C$10","v":{"$error":"#N/A"}},{"$f":"E26/$C$10","v":{"$error":"#N/A"}},{"$f":"F26/$C$10","v":{"$error":"#N/A"}},{"$f":"G26/$C$10","v":{"$error":"#N/A"}},{"$f":"H26/$C$10","v":{"$error":"#N/A"}}]
["PV at 1 Apr 2015 of maximum allowable revenue before tax in year-end terms in each year",null,null,{"$f":"D26/(1+$C$9)^D5","v":{"$error":"#N/A"}},{"$f":"E26/(1+$C$9)^E5","v":{"$error":"#N/A"}},{"$f":"F26/(1+$C$9)^F5","v":{"$error":"#N/A"}},{"$f":"G26/(1+$C$9)^G5","v":{"$error":"#N/A"}},{"$f":"H26/(1+$C$9)^H5","v":{"$error":"#N/A"}}]
["PV at 1 Apr 2015 of maximum allowable revenue before tax",null,{"$f":"SUM(D28:H28)","v":{"$error":"#N/A"}}]
["Error check for PV equivalence (should = 0)",null,{"$f":"C21-C29","v":{"$error":"#N/A"}}]
["ΔD",null,{"$f":"(1+$C$11)*(1+$C$12)","v":{"$error":"#N/A"}}]
["ANR 2016 (industry-wide X-factor)",null,{"$f":"C29/C31","v":{"$error":"#N/A"}}]
[{"$f":"\"CPI minus X revenues with applicable X factor (\" & IF(ISNUMBER(C8),\"alternate X factor of \" & TEXT(C8,\"#0.0%\"), \"industry-wide X factor of \" & TEXT(C6,\"#0.0%\"))&\")\"","v":"CPI minus X revenues with applicable X factor (industry-wide X factor of 0.0%)"}]
[null,null,"PV at \n1-Apr-15","2015/16","2016/17","2017/18","2018/19","2019/20"]
["PV at 1 Apr 2015 of BBAR before tax over the regulatory period",null,{"$f":"C13","v":{"$error":"#N/A"}}]
["Additional allowance",null,{"$f":"C7","v":{"$error":"#N/A"}}]
["PV at 1 Apr 2015 of maximum allowable revenue before tax",null,{"$f":"C35+C36","v":{"$error":"#N/A"}}]
["Indexed maximum allowable revenue before tax",null,null,{"$f":"D15","v":1},{"$f":"E15","v":{"$error":"#N/A"}},{"$f":"F15","v":{"$error":"#N/A"}},{"$f":"G15","v":{"$error":"#N/A"}},{"$f":"H15","v":{"$error":"#N/A"}}]
["Present value of indexed maximum allowable revenue for each year",null,null,{"$f":"D38/(1+$C$9)^D$5","v":0.93292284728052988},{"$f":"E38/(1+$C$9)^E$5","v":{"$error":"#N/A"}},{"$f":"F38/(1+$C$9)^F$5","v":{"$error":"#N/A"}},{"$f":"G38/(1+$C$9)^G$5","v":{"$error":"#N/A"}},{"$f":"H38/(1+$C$9)^H$5","v":{"$error":"#N/A"}}]
["Present value of indexed revenue",null,{"$f":"SUM(D39:H39)","v":{"$error":"#N/A"}}]
["Maximum allowable revenue before tax in first year of the regulatory period",null,{"$f":"C37/C40","v":{"$error":"#N/A"}}]
["Maximum allowable revenue before tax in year-end terms",null,null,{"$f":"$C41*D38","v":{"$error":"#N/A"}},{"$error":"#N/A"},{"$f":"$C41*F38","v":{"$error":"#N/A"}},{"$f":"$C41*G38","v":{"$error":"#N/A"}},{"$f":"$C41*H38","v":{"$error":"#N/A"}}]
["Maximum allowable revenue before tax in revenue-date terms",null,null,{"$f":"D42/$C$10","v":{"$error":"#N/A"}},{"$f":"E42/$C$10","v":{"$error":"#N/A"}},{"$f":"F42/$C$10","v":{"$error":"#N/A"}},{"$error":"#N/A"},{"$error":"#N/A"}]
["PV at 1 Apr 2015 of maximum allowable revenue before tax in year-end terms in each year",null,null,{"$f":"D42/(1+$C$9)^D$5","v":{"$error":"#N/A"}},{"$f":"E42/(1+$C$9)^E$5","v":{"$error":"#N/A"}},{"$f":"F42/(1+$C$9)^F$5","v":{"$error":"#N/A"}},{"$f":"G42/(1+$C$9)^G$5","v":{"$error":"#N/A"}},{"$f":"H42/(1+$C$9)^H$5","v":{"$error":"#N/A"}}]
["PV at 1 Apr 2015 of maximum allowable revenue before tax",null,{"$f":"SUM(D44:H44)","v":{"$error":"#N/A"}}]
["Difference from PV equivalence (incentives etc.)",null,{"$f":"C37-C45","v":{"$error":"#N/A"}}]
["ΔD",null,{"$f":"(1+$C$11)*(1+$C$12)","v":{"$error":"#N/A"}}]
["ANR 2016 (applicable X-factor)",null,{"$f":"D44/C47","v":{"$error":"#N/A"}}]
[]
["This data block uses the applicable 2014/15 X factor to calculate the maximum allowable revenues for the regulatory period.  These allowed"]
["revenues are PV-equivalent to the corresponding revenues calculated with the industry-wide X factor in the previous data block."]
["Outputs"]
[null,null,null,{"$f":"Inputs!F$12","v":"2015/16"},{"$f":"Inputs!G$12","v":"2016/17"},{"$f":"Inputs!H$12","v":"2017/18"},{"$f":"Inputs!I$12","v":"2018/19"},{"$f":"Inputs!J$12","v":"2019/20"}]
["Maximum allowable revenue before tax in revenue-date terms for industry wide X factor",null,null,{"$f":"D27","v":{"$error":"#N/A"}},{"$f":"E27","v":{"$error":"#N/A"}},{"$error":"#N/A"},{"$error":"#N/A"},{"$error":"#N/A"}]
["Maximum allowable revenue before tax in revenue-date terms for applicable X factor",null,null,{"$f":"D43","v":{"$error":"#N/A"}},{"$f":"E43","v":{"$error":"#N/A"}},{"$error":"#N/A"},{"$error":"#N/A"},{"$error":"#N/A"}]
["Starting price for industry-wide X factor",null,null,{"$f":"D27","v":{"$error":"#N/A"}}]
["Starting price for applicable X factor",null,null,{"$f":"D43","v":{"$error":"#N/A"}}]
["PV at 1 Apr 2015 of MAR before tax over the regulatory period (industry X )",null,null,{"$f":"C21","v":{"$error":"#N/A"}}]
["PV at 1 Apr 2015 of MAR before tax over the regulatory period (Applicable X)",null,null,{"$f":"C37","v":{"$error":"#N/A"}}]
["ΔD",null,null,{"$f":"C47","v":{"$error":"#N/A"}}]
["ANR 2016 (applicable X-factor)",null,null,{"$f":"C48","v":{"$error":"#N/A"}}]

{"sheet":"Reconciliation","index":13,"n_rows":64,"n_cols":56,"rows_kept":64,"cut":false,"hidden":false,"merged":[[40,31,63,31],[7,22,7,31],[38,21,38,33],[4,2,4,3],[3,2,3,3],[5,2,5,3],[6,2,6,3],[38,2,38,15],[40,11,63,11]]}
["Reconciliation with financial models outputs"]
["Reconciliation of this waterfall model outputs with 2015 and 2020 financial model outputs",null,null,null,null,"How this sheet operates",null,null,null,null,"Mode is set by Cell C5 on the Waterfall chart.",null,null,null,null,{"$f":"\"Currently, mode = \" & Waterfall!D5","v":"Currently, mode = 0"}]
[null,null,null,null,null,"When the mode is set to 14, the panel with a blue fill colour below (see Cell W11) should be filled with zeros."]
["Distributor",null,"Scenario",null,null,"When the mode is set to 0, the panel with a tan fill colour below (see Cell C40) should be filled with zeros."]
["Name",null,{"$f":"EDB_Name","v":"Total for selected EDBs"}]
["Distributor number",null,{"$f":"'EDB data'!C6","v":{"$error":"#N/A"}},null,null,null,"Block below with this fill colour is for data table with first argument set to C5, second argument blank."]
[]
[null,"Active EDB outputs",{"$f":"Inputs!C28","v":"Alpine Energy"},{"$f":"Inputs!D28","v":"Aurora Energy"},{"$f":"Inputs!E28","v":"Centralines"},{"$f":"Inputs!F28","v":"EA Networks"},{"$f":"Inputs!G28","v":"Eastland Network"},{"$f":"Inputs!H28","v":"Electricity Invercargill"},{"$f":"Inputs!I28","v":"Horizon Energy"},{"$f":"Inputs!J28","v":"Nelson Electricity"},{"$f":"Inputs!K28","v":"Network Tasman"},{"$f":"Inputs!L28","v":"Orion"},{"$f":"Inputs!M28","v":"OtagoNet"},{"$f":"Inputs!N28","v":"Powerco"},{"$f":"Inputs!O28","v":"The Lines Company"},{"$f":"Inputs!P28","v":"Top Energy"},{"$f":"Inputs!Q28","v":"Unison Networks"},{"$f":"Inputs!R28","v":"Vector Lines"},{"$f":"Inputs!S28","v":"Wellington Electricity"},null,null,null,"Reconciliation of this waterfall model with the 2020 financial model outputs is achieved when the blue coloured panel below indicates zero values. This requires the \"mode\" setting at cell D5 on the Waterfall sheet to be set to 14. Powerco is not represented in this panel as it is not featured in the outputs of the DPP3 financial model."]
["Distributor number",{"$f":"C6","v":{"$error":"#N/A"}},{"$f":"Inputs!C29","v":1},{"$f":"Inputs!D29","v":2},{"$f":"Inputs!E29","v":3},{"$f":"Inputs!F29","v":4},{"$f":"Inputs!G29","v":5},{"$f":"Inputs!H29","v":6},{"$f":"Inputs!I29","v":7},{"$f":"Inputs!J29","v":8},{"$f":"Inputs!K29","v":9},{"$f":"Inputs!L29","v":10},{"$f":"Inputs!M29","v":11},{"$f":"Inputs!N29","v":12},{"$f":"Inputs!O29","v":13},{"$f":"Inputs!P29","v":14},{"$f":"Inputs!Q29","v":15},{"$f":"Inputs!R29","v":16},{"$f":"Inputs!S29","v":17}]
["Outputs",null,0,0,0,0,0,0,0,0,0,0,0,0,0,0,0,0,0,null,null,null,"Alpine Energy","Aurora Energy","Centralines","EA Networks","Eastland Network","Electricity Invercargill","Horizon Energy","Nelson Electricity","Network Tasman","Orion","OtagoNet","The Lines Company","Top Energy","Unison Networks","Vector Lines","Wellington Electricity",null,null,"Alpine Energy","Aurora Energy","Centralines","EA Networks","Eastland Network","Electricity Invercargill","Horizon Energy","Nelson Electricity","Network Tasman","Orion","OtagoNet","The Lines Company","Top Energy","Unison Networks","Vector Lines","Wellington Electricity"]
["PV at 1 Apr 2020 of BBAR",{"$f":"BBAR!C57","v":{"$error":"#N/A"}},163099.01979973039,247691.73715834701,48814.568791585567,144179.69334145921,103952.68720741873,58957.105344924275,95547.211147822818,29921.807884993159,122903.68473611525,665741.90321204218,108078.05206216642,1087074.2974655542,148967.86633184238,168714.38659184406,436524.63136031316,1749930.1194804532,432008.25781022909,null,null,null,{"$f":"C11-AO11","v":-34564.638571624702},{"$f":"D11-AP11","v":-157040.15386380718},{"$f":"E11-AQ11","v":5405.3868109505638},-9950.1775093747128,-7401.5852896212309,2152.4863870927657,-15268.039572786263,4425.1303098866774,315.82820908469148,-68778.563101577922,-11390.393372020786,{"$f":"O11-AZ11","v":-11877.787263852952},{"$f":"P11-BA11","v":-7455.2354089287983},{"$f":"Q11-BB11","v":-26991.855959506822},-51443.615768413292,8403.2666735690436,null,null,{"$f":"[1]Outputs!C9","v":197663.65837135509},{"$f":"[1]Outputs!D9","v":404731.89102215419},{"$f":"[1]Outputs!E9","v":43409.181980635003},{"$f":"[1]Outputs!F9","v":154129.87085083392},{"$f":"[1]Outputs!G9","v":111354.27249703996},{"$f":"[1]Outputs!H9","v":56804.61895783151},{"$f":"[1]Outputs!I9","v":110815.25072060908},{"$f":"[1]Outputs!J9","v":25496.677575106482},{"$f":"[1]Outputs!K9","v":122587.85652703056},{"$f":"[1]Outputs!L9","v":734520.4663136201},{"$f":"[1]Outputs!M9","v":119468.4454341872},{"$f":"[1]Outputs!O9","v":160845.65359569533},{"$f":"[1]Outputs!P9","v":176169.62200077286},{"$f":"[1]Outputs!Q9","v":463516.48731981998},{"$f":"[1]Outputs!R9","v":1801373.7352488665},{"$f":"[1]Outputs!S9","v":423604.99113666004}]
["Starting price for industry-wide X factor",{"$f":"MAR!D56","v":{"$error":"#N/A"}},37559.922903207196,56511.666026359613,11394.057712433627,33046.583323684572,24062.427425579182,13565.260381139384,22026.850628408567,6824.4074148528416,28091.763360324669,153534.74961619996,24779.535094930379,250424.43962031842,34705.263224095725,39089.389485817817,100101.51513214251,395244.80611356499,98788.230294792622,null,null,null,{"$f":"C12-AO12","v":-5092.6711815403905},-30822.875907940266,2027.0641344210035,-212.12933954255277,33.99132583071696,1307.749948972556,-1885.2733620610561,1322.6401801414731,1639.3030181030699,-4962.788852684811,-999.80720312074845,{"$f":"O12-AZ12","v":-2.6058381279872265},{"$f":"P12-BA12","v":1074.8579367482744},82.215944136696635,6537.7298732420895,7381.1811280682887,null,null,{"$f":"[1]Outputs!C10","v":42652.594084747587},{"$f":"[1]Outputs!D10","v":87334.541934299879},{"$f":"[1]Outputs!E10","v":9366.9935780126234},{"$f":"[1]Outputs!F10","v":33258.712663227125},{"$f":"[1]Outputs!G10","v":24028.436099748465},{"$f":"[1]Outputs!H10","v":12257.510432166828},{"$f":"[1]Outputs!I10","v":23912.123990469623},{"$f":"[1]Outputs!J10","v":5501.7672347113685},{"$f":"[1]Outputs!K10","v":26452.460342221599},{"$f":"[1]Outputs!L10","v":158497.53846888477},{"$f":"[1]Outputs!M10","v":25779.342298051128},{"$f":"[1]Outputs!O10","v":34707.869062223712},{"$f":"[1]Outputs!P10","v":38014.531549069543},{"$f":"[1]Outputs!Q10","v":100019.29918800581},{"$f":"[1]Outputs!R10","v":388707.0762403229},{"$f":"[1]Outputs!S10","v":91407.049166724333}]
["Starting price for applicable X factor",{"$f":"MAR!D57","v":{"$error":"#N/A"}},30458.392210827311,56511.666026359613,9983.3114857180717,33046.583323684572,22731.958455348748,13565.260381139384,22026.850628408567,6824.4074148528416,28091.763360324669,153534.74961619996,24779.535094930379,250424.43962031842,34705.263224095725,34231.368482363374,100101.51513214251,395244.80611356499,98788.230294792622,null,null,null,-12194.201873920276,-30822.875907940266,616.31790770544831,-212.12933954255277,-1296.477644399718,1307.749948972556,-1885.2733620610561,1322.6401801414731,1639.3030181030699,-4962.788852684811,-999.80720312074845,-2.6058381279872265,-3783.163066706169,82.215944136696635,6537.7298732420895,7381.1811280682887,null,null,{"$f":"[1]Outputs!C11","v":42652.594084747587},{"$f":"[1]Outputs!D11","v":87334.541934299879},{"$f":"[1]Outputs!E11","v":9366.9935780126234},{"$f":"[1]Outputs!F11","v":33258.712663227125},{"$f":"[1]Outputs!G11","v":24028.436099748465},{"$f":"[1]Outputs!H11","v":12257.510432166828},{"$f":"[1]Outputs!I11","v":23912.123990469623},{"$f":"[1]Outputs!J11","v":5501.7672347113685},{"$f":"[1]Outputs!K11","v":26452.460342221599},{"$f":"[1]Outputs!L11","v":158497.53846888477},{"$f":"[1]Outputs!M11","v":25779.342298051128},{"$f":"[1]Outputs!O11","v":34707.869062223712},{"$f":"[1]Outputs!P11","v":38014.531549069543},{"$f":"[1]Outputs!Q11","v":100019.29918800581},{"$f":"[1]Outputs!R11","v":388707.0762403229},{"$f":"[1]Outputs!S11","v":91407.049166724333}]
["PV at 1 Apr 2020 of MAR before tax over the regulatory period (Applicable X)",{"$f":"MAR!D59","v":{"$error":"#N/A"}},163662.23930899403,247691.73715834701,48814.568791585567,144179.69334145921,103952.68720741873,58957.105344924275,95547.211147822818,29921.807884993159,122903.68473611525,665741.90321204218,108140.0049656567,1087074.2974655542,149068.98089956079,168714.38659184406,436524.63136031316,1749930.1194804532,432008.25781022909,null,null,null,-34001.419062361063,-157040.15386380718,5405.3868109505638,-9950.1775093747128,-7401.5852896212309,2152.4863870927657,-15268.039572786263,4425.1303098866774,315.82820908469148,-68778.563101577922,-11328.440468530505,-11776.672696134541,-7455.2354089287983,-26991.855959506822,-51443.615768413292,8403.2666735690436,null,null,{"$f":"[1]Outputs!C12","v":197663.65837135509},{"$f":"[1]Outputs!D12","v":404731.89102215419},{"$f":"[1]Outputs!E12","v":43409.181980635003},{"$f":"[1]Outputs!F12","v":154129.87085083392},{"$f":"[1]Outputs!G12","v":111354.27249703996},{"$f":"[1]Outputs!H12","v":56804.61895783151},{"$f":"[1]Outputs!I12","v":110815.25072060908},{"$f":"[1]Outputs!J12","v":25496.677575106482},{"$f":"[1]Outputs!K12","v":122587.85652703056},{"$f":"[1]Outputs!L12","v":734520.4663136201},{"$f":"[1]Outputs!M12","v":119468.4454341872},{"$f":"[1]Outputs!O12","v":160845.65359569533},{"$f":"[1]Outputs!P12","v":176169.62200077286},{"$f":"[1]Outputs!Q12","v":463516.48731981998},{"$f":"[1]Outputs!R12","v":1801373.7352488665},{"$f":"[1]Outputs!S12","v":423604.99113666004}]
["MAR (industry-wide X factor), first year of reg period",{"$f":"MAR!D54","v":{"$error":"#N/A"}},37559.922903207196,56511.666026359613,11394.057712433627,33046.583323684572,24062.427425579182,13565.260381139384,22026.850628408567,6824.4074148528416,28091.763360324669,153534.74961619996,24779.535094930379,250424.43962031842,34705.263224095725,39089.389485817817,100101.51513214251,395244.80611356499,98788.230294792622,null,null,null,-5092.6711815403905,-30822.875907940266,2027.0641344210035,-212.12933954255277,33.99132583071696,1307.749948972556,-1885.2733620610561,1322.6401801414731,1639.3030181030699,-4962.788852684811,-999.80720312074845,-2.6058381279872265,1074.8579367482744,82.215944136696635,6537.7298732420895,7381.1811280682887,null,null,{"$f":"[1]Outputs!C13","v":42652.594084747587},{"$f":"[1]Outputs!D13","v":87334.541934299879},{"$f":"[1]Outputs!E13","v":9366.9935780126234},{"$f":"[1]Outputs!F13","v":33258.712663227125},{"$f":"[1]Outputs!G13","v":24028.436099748465},{"$f":"[1]Outputs!H13","v":12257.510432166828},{"$f":"[1]Outputs!I13","v":23912.123990469623},{"$f":"[1]Outputs!J13","v":5501.7672347113685},{"$f":"[1]Outputs!K13","v":26452.460342221599},{"$f":"[1]Outputs!L13","v":158497.53846888477},{"$f":"[1]Outputs!M13","v":25779.342298051128},{"$f":"[1]Outputs!O13","v":34707.869062223712},{"$f":"[1]Outputs!P13","v":38014.531549069543},{"$f":"[1]Outputs!Q13","v":100019.29918800581},{"$f":"[1]Outputs!R13","v":388707.0762403229},{"$f":"[1]Outputs!S13","v":91407.049166724333}]
["MAR (industry-wide X factor), second year of reg period",{"$f":"MAR!E54","v":{"$error":"#N/A"}},38224.144725028462,57688.370384905742,11492.410690842911,33653.513179031914,24377.5422811059,13786.521997131509,22363.286741173546,6967.7628548857538,28649.47281965665,155848.37497667849,25238.161975490646,254347.0940565879,35052.740472234102,39581.896028374467,101914.16485339947,405605.55419420509,100725.28364349263,null,null,null,-5260.2651372316468,-31349.379794089349,1942.7409306837126,-253.81470975591947,-119.49913294089492,1289.964191896539,-2015.1742315107404,1358.6995251012158,1681.1335645847612,-5740.2006500719581,-1043.9320101790108,-332.00542970615788,826.00072885085683,-55.722168842650717,9317.8680100878119,7535.6037293471454,null,null,{"$f":"[1]Outputs!C14","v":43484.409862260109},{"$f":"[1]Outputs!D14","v":89037.750178995091},{"$f":"[1]Outputs!E14","v":9549.6697601591986},{"$f":"[1]Outputs!F14","v":33907.327888787833},{"$f":"[1]Outputs!G14","v":24497.041414046795},{"$f":"[1]Outputs!H14","v":12496.55780523497},{"$f":"[1]Outputs!I14","v":24378.460972684286},{"$f":"[1]Outputs!J14","v":5609.0633297845379},{"$f":"[1]Outputs!K14","v":26968.339255071889},{"$f":"[1]Outputs!L14","v":161588.57562675045},{"$f":"[1]Outputs!M14","v":26282.093985669657},{"$f":"[1]Outputs!O14","v":35384.74590194026},{"$f":"[1]Outputs!P14","v":38755.89529952361},{"$f":"[1]Outputs!Q14","v":101969.88702224212},{"$f":"[1]Outputs!R14","v":396287.68618411728},{"$f":"[1]Outputs!S14","v":93189.679914145483}]
["MAR (industry-wide X factor), third year of reg period",{"$f":"MAR!F54","v":{"$error":"#N/A"}},39002.161884213601,59044.06506111534,11622.021627657559,34361.496579163148,24761.572362967716,14048.149524827013,22764.424588011443,7132.7925875395667,29294.904576134886,158611.87193502786,25772.711468329057,259008.88892288611,35496.573407772281,40185.753792427226,104031.83719188788,417329.83579718461,102969.73897518759,null,null,null,-5362.7228735194294,-31796.526734687199,1878.9895909833795,-232.38888447077625,-231.48659039374979,1298.560680141627,-2107.6529002172829,1410.1566126475864,1780.5087973134214,-6248.5587010292802,-1041.5439064026104,-604.64491607811942,645.12683917077811,-2.7421166629355866,13018.09317133564,7893.1489260887902,null,null,{"$f":"[1]Outputs!C15","v":44364.884757733031},{"$f":"[1]Outputs!D15","v":90840.591795802538},{"$f":"[1]Outputs!E15","v":9743.0320366741798},{"$f":"[1]Outputs!F15","v":34593.885463633924},{"$f":"[1]Outputs!G15","v":24993.058953361466},{"$f":"[1]Outputs!H15","v":12749.588844685386},{"$f":"[1]Outputs!I15","v":24872.077488228726},{"$f":"[1]Outputs!J15","v":5722.6359748919804},{"$f":"[1]Outputs!K15","v":27514.395778821465},{"$f":"[1]Outputs!L15","v":164860.43063605714},{"$f":"[1]Outputs!M15","v":26814.255374731667},{"$f":"[1]Outputs!O15","v":36101.2183238504},{"$f":"[1]Outputs!P15","v":39540.626953256447},{"$f":"[1]Outputs!Q15","v":104034.57930855082},{"$f":"[1]Outputs!R15","v":404311.74262584897},{"$f":"[1]Outputs!S15","v":95076.590049098799}]
["MAR (industry-wide X factor), fourth year of reg period",{"$f":"MAR!G54","v":{"$error":"#N/A"}},39926.529075265731,60629.809308696036,11791.639523402309,35199.436138821722,25234.13909223977,14361.68831171807,23248.75469133673,7325.6776188166059,30053.116402498174,161953.77523349682,26404.896725793849,264621.1366882709,36063.913959716156,40932.62695875475,106541.78271191986,430801.24378456757,105609.42974842482,null,null,null,-5325.6533776219585,-32027.594323022546,1853.7468459946467,-86.327034084883053,-258.78104018892191,1357.107690138977,-2120.7643466565642,1488.5889244267864,1988.4327081002775,-6203.8640152814332,-945.64375643244421,-759.32873061124701,601.18746643317718,426.51181719804299,18403.266306201636,8631.3078983440646,null,null,{"$f":"[1]Outputs!C16","v":45252.18245288769},{"$f":"[1]Outputs!D16","v":92657.403631718582},{"$f":"[1]Outputs!E16","v":9937.8926774076626},{"$f":"[1]Outputs!F16","v":35285.763172906605},{"$f":"[1]Outputs!G16","v":25492.920132428691},{"$f":"[1]Outputs!H16","v":13004.580621579093},{"$f":"[1]Outputs!I16","v":25369.519037993294},{"$f":"[1]Outputs!J16","v":5837.0886943898195},{"$f":"[1]Outputs!K16","v":28064.683694397896},{"$f":"[1]Outputs!L16","v":168157.63924877826},{"$f":"[1]Outputs!M16","v":27350.540482226294},{"$f":"[1]Outputs!O16","v":36823.242690327403},{"$f":"[1]Outputs!P16","v":40331.439492321573},{"$f":"[1]Outputs!Q16","v":106115.27089472182},{"$f":"[1]Outputs!R16","v":412397.97747836594},{"$f":"[1]Outputs!S16","v":96978.121850080759}]
["MAR (industry-wide X factor), fifth year of reg period",{"$f":"MAR!H54","v":{"$error":"#N/A"}},40891.181752369106,62286.134907628671,11969.112155364646,36074.022338600764,25727.287147388062,14688.826486014068,23754.064999365262,7527.1615590129404,30844.814791843513,165440.44482577458,27064.752646335051,270476.55106716917,36656.796854973756,41712.127712777568,109161.34501628866,444907.46232390951,108365.49296154729,null,null,null,-5266.0443495763393,-32224.416796724283,1832.4616244088284,82.54390223602968,-275.49138768920602,1424.1542520033945,-2122.8444193879004,1573.3310907353243,2218.8374235576593,-6080.34720797927,-832.79864553577136,-902.91068916019867,574.05943060956633,923.76870367239462,24261.525295976258,9447.8086744649045,null,null,{"$f":"[1]Outputs!C17","v":46157.226101945445},{"$f":"[1]Outputs!D17","v":94510.551704352954},{"$f":"[1]Outputs!E17","v":10136.650530955818},{"$f":"[1]Outputs!F17","v":35991.478436364734},{"$f":"[1]Outputs!G17","v":26002.778535077268},{"$f":"[1]Outputs!H17","v":13264.672234010673},{"$f":"[1]Outputs!I17","v":25876.909418753163},{"$f":"[1]Outputs!J17","v":5953.8304682776161},{"$f":"[1]Outputs!K17","v":28625.977368285854},{"$f":"[1]Outputs!L17","v":171520.79203375385},{"$f":"[1]Outputs!M17","v":27897.551291870823},{"$f":"[1]Outputs!O17","v":37559.707544133955},{"$f":"[1]Outputs!P17","v":41138.068282168002},{"$f":"[1]Outputs!Q17","v":108237.57631261626},{"$f":"[1]Outputs!R17","v":420645.93702793325},{"$f":"[1]Outputs!S17","v":98917.684287082389}]
["MAR (applicable X factor), first year of reg period",{"$f":"MAR!D55","v":{"$error":"#N/A"}},30458.392210827311,56511.666026359613,9983.3114857180717,33046.583323684572,22731.958455348748,13565.260381139384,22026.850628408567,6824.4074148528416,28091.763360324669,153534.74961619996,24779.535094930379,250424.43962031842,34705.263224095725,34231.368482363374,100101.51513214251,395244.80611356499,98788.230294792622,null,null,null,-12194.201873920276,-30822.875907940266,616.31790770544831,-212.12933954255277,-1296.477644399718,1307.749948972556,-1885.2733620610561,1322.6401801414731,1639.3030181030699,-4962.788852684811,-999.80720312074845,-2.6058381279872265,-3783.163066706169,82.215944136696635,6537.7298732420895,7381.1811280682887,null,null,{"$f":"[1]Outputs!C18","v":42652.594084747587},{"$f":"[1]Outputs!D18","v":87334.541934299879},{"$f":"[1]Outputs!E18","v":9366.9935780126234},{"$f":"[1]Outputs!F18","v":33258.712663227125},{"$f":"[1]Outputs!G18","v":24028.436099748465},{"$f":"[1]Outputs!H18","v":12257.510432166828},{"$f":"[1]Outputs!I18","v":23912.123990469623},{"$f":"[1]Outputs!J18","v":5501.7672347113685},{"$f":"[1]Outputs!K18","v":26452.460342221599},{"$f":"[1]Outputs!L18","v":158497.53846888477},{"$f":"[1]Outputs!M18","v":25779.342298051128},{"$f":"[1]Outputs!O18","v":34707.869062223712},{"$f":"[1]Outputs!P18","v":38014.531549069543},{"$f":"[1]Outputs!Q18","v":100019.29918800581},{"$f":"[1]Outputs!R18","v":388707.0762403229},{"$f":"[1]Outputs!S18","v":91407.049166724333}]
["MAR (applicable X factor), second year of reg period",{"$f":"MAR!E55","v":{"$error":"#N/A"}},34406.701376999139,57688.370384905742,10774.351055806099,33653.513179031914,23720.539355151806,13786.521997131509,22363.286741173546,6967.7628548857538,28649.47281965665,155848.37497667849,25238.161975490646,254347.0940565879,35052.740472234102,37089.053065828441,101914.16485339947,405605.55419420509,100725.28364349263,null,null,null,-9077.7084852609696,-31349.379794089349,1224.6812956469003,-253.81470975591947,-776.50205889498829,1289.964191896539,-2015.1742315107404,1358.6995251012158,1681.1335645847612,-5740.2006500719581,-1043.9320101790108,-332.00542970615788,-1666.8422336951699,-55.722168842650717,9317.8680100878119,7535.6037293471454,null,null,{"$f":"[1]Outputs!C19","v":43484.409862260109},{"$f":"[1]Outputs!D19","v":89037.750178995091},{"$f":"[1]Outputs!E19","v":9549.6697601591986},{"$f":"[1]Outputs!F19","v":33907.327888787833},{"$f":"[1]Outputs!G19","v":24497.041414046795},{"$f":"[1]Outputs!H19","v":12496.55780523497},{"$f":"[1]Outputs!I19","v":24378.460972684286},{"$f":"[1]Outputs!J19","v":5609.0633297845379},{"$f":"[1]Outputs!K19","v":26968.339255071889},{"$f":"[1]Outputs!L19","v":161588.57562675045},{"$f":"[1]Outputs!M19","v":26282.093985669657},{"$f":"[1]Outputs!O19","v":35384.74590194026},{"$f":"[1]Outputs!P19","v":38755.89529952361},{"$f":"[1]Outputs!Q19","v":101969.88702224212},{"$f":"[1]Outputs!R19","v":396287.68618411728},{"$f":"[1]Outputs!S19","v":93189.679914145483}]
["MAR (applicable X factor), third year of reg period",{"$f":"MAR!F55","v":{"$error":"#N/A"}},38968.789983233124,59044.06506111534,11658.574207666534,34361.496579163148,24817.04596414739,14048.149524827013,22764.424588011443,7132.7925875395667,29294.904576134886,158611.87193502786,25772.711468329057,259008.88892288611,35496.573407772281,40290.721864290128,104031.83719188788,417329.83579718461,102969.73897518759,null,null,null,-5396.0947744999066,-31796.526734687199,1915.5421709923539,-232.38888447077625,-176.01298921407579,1298.560680141627,-2107.6529002172829,1410.1566126475864,1780.5087973134214,-6248.5587010292802,-1041.5439064026104,-604.64491607811942,750.09491103368055,-2.7421166629355866,13018.09317133564,7893.1489260887902,null,null,{"$f":"[1]Outputs!C20","v":44364.884757733031},{"$f":"[1]Outputs!D20","v":90840.591795802538},{"$f":"[1]Outputs!E20","v":9743.0320366741798},{"$f":"[1]Outputs!F20","v":34593.885463633924},{"$f":"[1]Outputs!G20","v":24993.058953361466},{"$f":"[1]Outputs!H20","v":12749.588844685386},{"$f":"[1]Outputs!I20","v":24872.077488228726},{"$f":"[1]Outputs!J20","v":5722.6359748919804},{"$f":"[1]Outputs!K20","v":27514.395778821465},{"$f":"[1]Outputs!L20","v":164860.43063605714},{"$f":"[1]Outputs!M20","v":26814.255374731667},{"$f":"[1]Outputs!O20","v":36101.2183238504},{"$f":"[1]Outputs!P20","v":39540.626953256447},{"$f":"[1]Outputs!Q20","v":104034.57930855082},{"$f":"[1]Outputs!R20","v":404311.74262584897},{"$f":"[1]Outputs!S20","v":95076.590049098799}]
["MAR (applicable X factor), fourth year of reg period",{"$f":"MAR!G55","v":{"$error":"#N/A"}},44280.526533704651,60629.809308696036,12656.736360956325,35199.436138821722,26049.39153112932,14361.68831171807,23248.75469133673,7325.6776188166059,30053.116402498174,161953.77523349682,26404.896725793849,264621.1366882709,36063.913959716156,43912.314131093008,106541.78271191986,430801.24378456757,105609.42974842482,null,null,null,-971.65591918303835,-32027.594323022546,2718.8436835486627,-86.327034084883053,556.47139870062892,1357.107690138977,-2120.7643466565642,1488.5889244267864,1988.4327081002775,-6203.8640152814332,-945.64375643244421,-759.32873061124701,3580.8746387714345,426.51181719804299,18403.266306201636,8631.3078983440646,null,null,{"$f":"[1]Outputs!C21","v":45252.18245288769},{"$f":"[1]Outputs!D21","v":92657.403631718582},{"$f":"[1]Outputs!E21","v":9937.8926774076626},{"$f":"[1]Outputs!F21","v":35285.763172906605},{"$f":"[1]Outputs!G21","v":25492.920132428691},{"$f":"[1]Outputs!H21","v":13004.580621579093},{"$f":"[1]Outputs!I21","v":25369.519037993294},{"$f":"[1]Outputs!J21","v":5837.0886943898195},{"$f":"[1]Outputs!K21","v":28064.683694397896},{"$f":"[1]Outputs!L21","v":168157.63924877826},{"$f":"[1]Outputs!M21","v":27350.540482226294},{"$f":"[1]Outputs!O21","v":36823.242690327403},{"$f":"[1]Outputs!P21","v":40331.439492321573},{"$f":"[1]Outputs!Q21","v":106115.27089472182},{"$f":"[1]Outputs!R21","v":412397.97747836594},{"$f":"[1]Outputs!S21","v":96978.121850080759}]
["MAR (applicable X factor), fifth year of reg period",{"$f":"MAR!H55","v":{"$error":"#N/A"}},50338.916043399608,62286.134907628671,13746.535373238741,36074.022338600764,27355.226135948051,14688.826486014068,23754.064999365262,7527.1615590129404,30844.814791843513,165440.44482577458,27064.752646335051,270476.55106716917,36656.796854973756,47880.95767805483,109161.34501628866,444907.46232390951,108365.49296154729,null,null,null,4181.6899414541622,-32224.416796724283,3609.8848422829233,82.54390223602968,1352.4476008707825,1424.1542520033945,-2122.8444193879004,1573.3310907353243,2218.8374235576593,-6080.34720797927,-832.79864553577136,-902.91068916019867,6742.8893958868284,923.76870367239462,24261.525295976258,9447.8086744649045,null,null,{"$f":"[1]Outputs!C22","v":46157.226101945445},{"$f":"[1]Outputs!D22","v":94510.551704352954},{"$f":"[1]Outputs!E22","v":10136.650530955818},{"$f":"[1]Outputs!F22","v":35991.478436364734},{"$f":"[1]Outputs!G22","v":26002.778535077268},{"$f":"[1]Outputs!H22","v":13264.672234010673},{"$f":"[1]Outputs!I22","v":25876.909418753163},{"$f":"[1]Outputs!J22","v":5953.8304682776161},{"$f":"[1]Outputs!K22","v":28625.977368285854},{"$f":"[1]Outputs!L22","v":171520.79203375385},{"$f":"[1]Outputs!M22","v":27897.551291870823},{"$f":"[1]Outputs!O22","v":37559.707544133955},{"$f":"[1]Outputs!P22","v":41138.068282168002},{"$f":"[1]Outputs!Q22","v":108237.57631261626},{"$f":"[1]Outputs!R22","v":420645.93702793325},{"$f":"[1]Outputs!S22","v":98917.684287082389}]
["BBAR before tax, first year of reg period",{"$f":"BBAR!F59","v":{"$error":"#N/A"}},37686.550069765341,56742.259114303903,11258.664868165306,32304.510823457134,23603.74910175784,13673.258462613276,22108.114570622631,7005.9149678893536,28328.590771337815,153568.79273364719,24616.803466959806,247958.64531511063,34381.368420804414,37798.669993281736,99427.235430908826,399748.39609954564,99633.73931781303,null,null,null,-4059.095934136647,-26421.634970817686,2035.5868164074873,-56.455540258153633,46.868132515290199,1641.4255661214647,-1553.5180485541932,1565.7817722864993,2419.4110083627966,392.07982312058448,-352.88589884087924,563.96488113611849,620.9114853548017,2325.761962322591,24043.784322125954,10285.120452037663,null,null,{"$f":"[1]Outputs!C23","v":41745.646003901988},{"$f":"[1]Outputs!D23","v":83163.894085121588},{"$f":"[1]Outputs!E23","v":9223.0780517578187},{"$f":"[1]Outputs!F23","v":32360.966363715288},{"$f":"[1]Outputs!G23","v":23556.880969242549},{"$f":"[1]Outputs!H23","v":12031.832896491811},{"$f":"[1]Outputs!I23","v":23661.632619176824},{"$f":"[1]Outputs!J23","v":5440.1331956028544},{"$f":"[1]Outputs!K23","v":25909.179762975018},{"$f":"[1]Outputs!L23","v":153176.71291052661},{"$f":"[1]Outputs!M23","v":24969.689365800685},{"$f":"[1]Outputs!O23","v":33817.403539668296},{"$f":"[1]Outputs!P23","v":37177.758507926934},{"$f":"[1]Outputs!Q23","v":97101.473468586235},{"$f":"[1]Outputs!R23","v":375704.61177741969},{"$f":"[1]Outputs!S23","v":89348.618865775366}]
["BBAR before tax, second year of reg period",{"$f":"BBAR!G59","v":{"$error":"#N/A"}},37813.712624452557,57115.841802677089,11288.881927584969,32754.802486122971,23961.81198262229,13713.908034515596,22146.433067608083,6915.4358776656127,28270.92204505048,154192.16594411759,24740.607786800159,248570.76542862557,34496.504481849006,38463.073389860547,100416.83295692143,400165.23952369392,99360.968771761502,null,null,null,-5117.1420139102338,-29468.838991668039,1832.79491532051,-520.07480851996661,-190.66841785574434,1414.0505501177195,-1973.2262330518934,1370.2929658849698,1651.4026747507123,-3538.2214985387691,-847.67237215029309,-341.07920541931526,368.37008900874935,347.17282805815921,12618.46856484568,7760.7284547388554,null,null,{"$f":"[1]Outputs!C24","v":42930.854638362791},{"$f":"[1]Outputs!D24","v":86584.680794345128},{"$f":"[1]Outputs!E24","v":9456.0870122644592},{"$f":"[1]Outputs!F24","v":33274.877294642938},{"$f":"[1]Outputs!G24","v":24152.480400478034},{"$f":"[1]Outputs!H24","v":12299.857484397877},{"$f":"[1]Outputs!I24","v":24119.659300659976},{"$f":"[1]Outputs!J24","v":5545.1429117806429},{"$f":"[1]Outputs!K24","v":26619.519370299768},{"$f":"[1]Outputs!L24","v":157730.38744265636},{"$f":"[1]Outputs!M24","v":25588.280158950452},{"$f":"[1]Outputs!O24","v":34837.583687268321},{"$f":"[1]Outputs!P24","v":38094.703300851797},{"$f":"[1]Outputs!Q24","v":100069.66012886327},{"$f":"[1]Outputs!R24","v":387546.77095884824},{"$f":"[1]Outputs!S24","v":91600.240317022646}]
["BBAR before tax, third year of reg period",{"$f":"BBAR!H59","v":{"$error":"#N/A"}},38749.758741060505,58684.842023542275,11573.853354051354,34265.571287254847,24809.114785371039,13996.393321381956,22660.860436382118,7050.151230885841,29140.58857700614,157902.99632379817,25563.573903719855,256942.68137956757,35309.25561379813,40094.746248113646,103553.51178944969,413439.88240659086,102167.90024696264,null,null,null,-5663.0846543313601,-32349.507632688685,{"$f":"E27-AQ27","v":1820.9678038830825},{"$f":"F27-AR27","v":-344.39182915255515},{"$f":"G27-AS27","v":-170.07019725521241},{"$f":"H27-AT27","v":1266.7250966577176},{"$f":"I27-AU27","v":-2154.9876201765474},{"$f":"J27-AV27","v":1334.5989286041722},{"$f":"K27-AW27","v":1601.1845826271492},{"$f":"L27-AX27","v":-6739.0859395303705},{"$f":"M27-AY27","v":-1105.5884876295604},-814.49099439261772,605.03768592388224,{"$f":"Q27-BB27","v":-591.860739091906},{"$f":"R27-BC27","v":9038.7098869988113},{"$f":"S27-BD27","v":7262.709319632253},null,null,{"$f":"[1]Outputs!C25","v":44412.843395391865},{"$f":"[1]Outputs!D25","v":91034.349656230959},{"$f":"[1]Outputs!E25","v":9752.8855501682719},{"$f":"[1]Outputs!F25","v":34609.963116407402},{"$f":"[1]Outputs!G25","v":24979.184982626251},{"$f":"[1]Outputs!H25","v":12729.668224724239},{"$f":"[1]Outputs!I25","v":24815.848056558665},{"$f":"[1]Outputs!J25","v":5715.5523022816687},{"$f":"[1]Outputs!K25","v":27539.40399437899},{"$f":"[1]Outputs!L25","v":164642.08226332854},{"$f":"[1]Outputs!M25","v":26669.162391349415},{"$f":"[1]Outputs!O25","v":36123.746608190748},{"$f":"[1]Outputs!P25","v":39489.708562189764},{"$f":"[1]Outputs!Q25","v":104145.3725285416},{"$f":"[1]Outputs!R25","v":404401.17251959204},{"$f":"[1]Outputs!S25","v":94905.19092733039}]
["BBAR before tax, fourth year of reg period",{"$f":"BBAR!I59","v":{"$error":"#N/A"}},39850.440926978132,60876.869231791796,11948.136007724714,35993.63759784944,25622.214230920916,14352.636218909271,23327.284550046508,7272.173998055765,30182.376282887719,162463.89640868368,26677.556509243484,268179.94551691209,36396.491679557541,41949.98696255422,107589.73029252402,431595.91817673587,105956.66248290178,null,null,null,-5986.6420355960436,-34460.063155441218,1909.1169036308165,84.659863059285271,-184.52416670229286,1176.3312322582169,-2261.1472644773457,1385.0955177304913,1756.4392287853261,-9309.6155989448016,-1320.4173222411919,-1003.2997427460141,1031.452452337282,-436.81452211028954,10562.330445234722,7582.6393237642187,null,null,{"$f":"[1]Outputs!C26","v":45837.082962574175},{"$f":"[1]Outputs!D26","v":95336.932387233013},{"$f":"[1]Outputs!E26","v":10039.019104093897},{"$f":"[1]Outputs!F26","v":35908.977734790154},{"$f":"[1]Outputs!G26","v":25806.738397623209},{"$f":"[1]Outputs!H26","v":13176.304986651054},{"$f":"[1]Outputs!I26","v":25588.431814523854},{"$f":"[1]Outputs!J26","v":5887.0784803252736},{"$f":"[1]Outputs!K26","v":28425.937054102393},{"$f":"[1]Outputs!L26","v":171773.51200762848},{"$f":"[1]Outputs!M26","v":27997.973831484676},{"$f":"[1]Outputs!O26","v":37399.791422303555},{"$f":"[1]Outputs!P26","v":40918.534510216938},{"$f":"[1]Outputs!Q26","v":108026.54481463431},{"$f":"[1]Outputs!R26","v":421033.58773150115},{"$f":"[1]Outputs!S26","v":98374.023159137563}]
["BBAR before tax, fifth year of reg period",{"$f":"BBAR!J59","v":{"$error":"#N/A"}},40826.201917557744,62834.749659540408,12286.105830653101,37419.400660880776,26374.205496806921,14704.854038299145,23948.674605167362,7504.2956061124996,31037.138035168249,167702.93588214222,27755.153805156733,279405.05931098945,37489.052351974162,43808.023626866161,111321.85380615942,449279.94517736387,109478.66333892169,null,null,null,-6384.3735743067737,-36453.850654201568,1986.8874407351923,300.565303870957,-273.42287982013659,1103.2053920819671,-2356.2503664210344,1448.2061697942017,1767.7977301106694,-11049.388815336017,-1385.498771296534,-1133.5272020761477,1471.6109077190049,-457.68148051609751,12219.892626689223,7554.4877651788993,null,null,{"$f":"[1]Outputs!C27","v":47210.575491864518},{"$f":"[1]Outputs!D27","v":99288.600313741976},{"$f":"[1]Outputs!E27","v":10299.218389917909},{"$f":"[1]Outputs!F27","v":37118.835357009819},{"$f":"[1]Outputs!G27","v":26647.628376627057},{"$f":"[1]Outputs!H27","v":13601.648646217178},{"$f":"[1]Outputs!I27","v":26304.924971588396},{"$f":"[1]Outputs!J27","v":6056.0894363182979},{"$f":"[1]Outputs!K27","v":29269.34030505758},{"$f":"[1]Outputs!L27","v":178752.32469747824},{"$f":"[1]Outputs!M27","v":29140.652576453267},{"$f":"[1]Outputs!O27","v":38622.57955405031},{"$f":"[1]Outputs!P27","v":42336.412719147156},{"$f":"[1]Outputs!Q27","v":111779.53528667551},{"$f":"[1]Outputs!R27","v":437060.05255067465},{"$f":"[1]Outputs!S27","v":101924.17557374279}]
["Closing RAB, first year of reg period",{"$f":"RAB!F95","v":{"$error":"#N/A"}},161761.75558707252,360210.82781206421,57680.184328973031,240561.09919387216,148118.45057904301,77602.865928311367,120698.95266006037,41745.193197583234,168303.64960838197,999926.73588836985,159098.82265697233,1540185.4807398252,189870.41487546888,230926.95598254277,582770.45551127288,2798661.3757352983,589754.7243232535,null,null,null,-49299.714224082825,-193183.92373330053,-10548.901074339417,-54170.926172825188,-25015.991074658319,-15482.308743180009,-18470.562086010614,-1627.3622401209141,-13429.194574244932,-173875.25530998083,-61828.683565167943,-40484.657884870161,-66074.003276174131,-89137.319660608773,-577932.21087295515,-94736.053306218237,null,null,{"$f":"[1]Outputs!C28","v":211061.46981115534},{"$f":"[1]Outputs!D28","v":553394.75154536474},{"$f":"[1]Outputs!E28","v":68229.085403312449},{"$f":"[1]Outputs!F28","v":294732.02536669734},{"$f":"[1]Outputs!G28","v":173134.44165370133},{"$f":"[1]Outputs!H28","v":93085.174671491375},{"$f":"[1]Outputs!I28","v":139169.51474607098},{"$f":"[1]Outputs!J28","v":43372.555437704148},{"$f":"[1]Outputs!K28","v":181732.8441826269},{"$f":"[1]Outputs!L28","v":1173801.9911983507},{"$f":"[1]Outputs!M28","v":220927.50622214028},{"$f":"[1]Outputs!O28","v":230355.07276033904},{"$f":"[1]Outputs!P28","v":297000.9592587169},{"$f":"[1]Outputs!Q28","v":671907.77517188166},{"$f":"[1]Outputs!R28","v":3376593.5866082534},{"$f":"[1]Outputs!S28","v":684490.77762947173}]
["Closing RAB, second year of reg period",{"$f":"RAB!G95","v":{"$error":"#N/A"}},162740.60416873574,370855.97222500423,58950.668951442778,259045.8891029816,159200.60292390545,79273.842423917347,124604.39417018881,41854.81974560822,172156.02047890692,1028843.7753298637,164334.8061788482,1593316.7298255539,193296.20966023961,246807.88155542593,605394.4069026917,2897609.4786863313,599557.52439415548,null,null,null,-54358.978648132004,-222712.07744741661,-10742.326856673644,-46923.418692431762,-20030.247504614876,-16902.028756264175,-15892.666230658331,-2365.997174842043,-16978.62830824501,-181935.80954902922,-64675.896960245271,-47255.063891942205,-59910.644053118944,-95985.840842016041,-613107.04714513384,-102677.13979892945,null,null,{"$f":"[1]Outputs!C29","v":217099.58281686774},{"$f":"[1]Outputs!D29","v":593568.04967242084},{"$f":"[1]Outputs!E29","v":69692.995808116422},{"$f":"[1]Outputs!F29","v":305969.30779541336},{"$f":"[1]Outputs!G29","v":179230.85042852032},{"$f":"[1]Outputs!H29","v":96175.871180181523},{"$f":"[1]Outputs!I29","v":140497.06040084714},{"$f":"[1]Outputs!J29","v":44220.816920450263},{"$f":"[1]Outputs!K29","v":189134.64878715193},{"$f":"[1]Outputs!L29","v":1210779.5848788929},{"$f":"[1]Outputs!M29","v":229010.70313909347},{"$f":"[1]Outputs!O29","v":240551.27355218181},{"$f":"[1]Outputs!P29","v":306718.52560854488},{"$f":"[1]Outputs!Q29","v":701380.24774470774},{"$f":"[1]Outputs!R29","v":3510716.5258314651},{"$f":"[1]Outputs!S29","v":702234.66419308493}]
["Closing RAB, third year of reg period",{"$f":"RAB!H95","v":{"$error":"#N/A"}},164763.80800515402,380144.76272829645,60361.942542265781,272906.75627378339,163773.22689711687,80444.333208275304,127931.93042805667,42397.420396133399,178040.46195406886,1050140.6591621079,170222.2795676683,1659480.0143430412,196490.79352384171,259753.06887525244,626297.9390597234,2998507.7017503213,614997.45721879753,null,null,null,-56191.811801284319,-250305.71235289273,-11900.862575394276,-43760.44747494231,-20143.810027456406,-19210.042493709436,-14967.940209665059,-2570.8560703374242,-14997.856164515804,-221789.96251549409,-71034.636052508926,-52822.291212925978,-57686.533703511406,-101351.48542230367,-645603.26564735733,-106036.83230185066,null,null,{"$f":"[1]Outputs!C30","v":220955.61980643834},{"$f":"[1]Outputs!D30","v":630450.47508118919},{"$f":"[1]Outputs!E30","v":72262.805117660057},{"$f":"[1]Outputs!F30","v":316667.2037487257},{"$f":"[1]Outputs!G30","v":183917.03692457327},{"$f":"[1]Outputs!H30","v":99654.37570198474},{"$f":"[1]Outputs!I30","v":142899.87063772173},{"$f":"[1]Outputs!J30","v":44968.276466470823},{"$f":"[1]Outputs!K30","v":193038.31811858466},{"$f":"[1]Outputs!L30","v":1271930.6216776019},{"$f":"[1]Outputs!M30","v":241256.91562017723},{"$f":"[1]Outputs!O30","v":249313.08473676769},{"$f":"[1]Outputs!P30","v":317439.60257876385},{"$f":"[1]Outputs!Q30","v":727649.42448202707},{"$f":"[1]Outputs!R30","v":3644110.9673976786},{"$f":"[1]Outputs!S30","v":721034.28952064819}]
["Closing RAB, fourth year of reg period",{"$f":"RAB!I95","v":{"$error":"#N/A"}},163416.54263445694,390164.47097722389,61418.22492656875,285729.5758846642,166482.50792212435,80716.703600918438,130503.59578998687,42957.251385335243,180152.23925123629,1058710.2104129957,175879.41827895227,1721572.055545609,198752.44848585091,270707.4041251262,645840.00853482843,3099907.6042057006,625245.0653735766,null,null,null,-60086.968023296853,-266867.9882733876,-12191.817389357624,-39137.560210651311,-22256.440511181921,-22292.267378401186,-14949.839239873487,-2703.265217446613,-17536.401010517817,-262854.28812448657,-82327.976306021883,-59602.72670775032,-56794.883585519216,-103145.81625175045,-668917.03336268011,-115651.3555585111,null,null,{"$f":"[1]Outputs!C31","v":223503.5106577538},{"$f":"[1]Outputs!D31","v":657032.45925061149},{"$f":"[1]Outputs!E31","v":73610.042315926374},{"$f":"[1]Outputs!F31","v":324867.13609531551},{"$f":"[1]Outputs!G31","v":188738.94843330627},{"$f":"[1]Outputs!H31","v":103008.97097931962},{"$f":"[1]Outputs!I31","v":145453.43502986035},{"$f":"[1]Outputs!J31","v":45660.516602781856},{"$f":"[1]Outputs!K31","v":197688.6402617541},{"$f":"[1]Outputs!L31","v":1321564.4985374822},{"$f":"[1]Outputs!M31","v":258207.39458497416},{"$f":"[1]Outputs!O31","v":258355.17519360123},{"$f":"[1]Outputs!P31","v":327502.28771064541},{"$f":"[1]Outputs!Q31","v":748985.82478657889},{"$f":"[1]Outputs!R31","v":3768824.6375683807},{"$f":"[1]Outputs!S31","v":740896.4209320877}]
["Closing RAB, fifth year of reg period",{"$f":"RAB!J95","v":{"$error":"#N/A"}},162399.20987818544,395302.49150614179,62125.314209789249,292824.11914907716,169322.40276336519,81765.774645084981,132968.13901281985,43783.180405491454,181225.8172061948,1091933.7788773049,180937.23193985768,1787415.8564027464,202156.73291118449,283238.48370706663,660906.31291640014,3191466.2615611451,633911.34686497971,null,null,null,-62500.572458146926,-291900.29939788679,-12857.561972247677,-38830.26813207852,-24628.446160728548,-24004.426953479924,-14777.524122359231,-2516.4543832840864,-19216.223343213089,-281887.59893951099,-84686.760052114056,-63508.011345536506,-54231.062987508776,-109312.64896727866,-684703.02393061854,-127778.25888159568,null,null,{"$f":"[1]Outputs!C32","v":224899.78233633237},{"$f":"[1]Outputs!D32","v":687202.79090402857},{"$f":"[1]Outputs!E32","v":74982.876182036925},{"$f":"[1]Outputs!F32","v":331654.38728115568},{"$f":"[1]Outputs!G32","v":193950.84892409373},{"$f":"[1]Outputs!H32","v":105770.2015985649},{"$f":"[1]Outputs!I32","v":147745.66313517909},{"$f":"[1]Outputs!J32","v":46299.63478877554},{"$f":"[1]Outputs!K32","v":200442.04054940789},{"$f":"[1]Outputs!L32","v":1373821.3778168159},{"$f":"[1]Outputs!M32","v":265623.99199197174},{"$f":"[1]Outputs!O32","v":265664.74425672099},{"$f":"[1]Outputs!P32","v":337469.5466945754},{"$f":"[1]Outputs!Q32","v":770218.9618836788},{"$f":"[1]Outputs!R32","v":3876169.2854917636},{"$f":"[1]Outputs!S32","v":761689.6057465754}]
[]
[]
[]
[]
[null,null,"The data panel below is a copy of the outputs from the 2015 DPP reset model",null,null,null,null,null,null,null,null,null,null,null,null,null,null,null,null,null,null,"Reconciliation of the this waterfall model with the 2015 financial model outputs is achieved when the tan coloured panel below indicates zero values. This reconciliation requires the \"mode\" setting at cell D5 on the Waterfall sheet to be set to 0."]
[null,null,"Alpine Energy","Aurora Energy","Centralines","EA Networks","Eastland Network","Electricity Invercargill","Horizon Energy","Nelson Electricity","Network Tasman","Orion","OtagoNet","Powerco","The Lines Company","Top Energy","Unison Networks","Vector Lines","Wellington Electricity",null,null,null,"Alpine Energy","Aurora Energy","Centralines","EA Networks","Eastland Network","Electricity Invercargill","Horizon Energy","Nelson Electricity","Network Tasman","Orion","OtagoNet","Powerco","The Lines Company","Top Energy","Unison Networks","Vector Lines","Wellington Electricity"]
["PV at 1 Apr 2015 of BBAR",null,163099.01979973039,247691.73715834701,48814.568791585567,144179.69334145921,103952.68720741873,58957.105344924275,95547.211147822818,29921.807884993159,122903.68473611525,"No reconciliation for Orion as the 2015 reset model did not produce meaningful outputs for Orion",108078.05206216642,1087074.2974655542,148967.86633184238,168714.38659184406,436524.63136031316,1749930.1194804532,432008.25781022909,null,null,null,{"$f":"C11-C41","v":0},{"$f":"D11-D41","v":0},{"$f":"E11-E41","v":0},{"$f":"F11-F41","v":0},{"$f":"G11-G41","v":0},{"$f":"H11-H41","v":0},{"$f":"I11-I41","v":0},{"$f":"J11-J41","v":0},{"$f":"K11-K41","v":0},"No reconciliation for Orion as the 2015 reset model did not produce meaningful outputs for Orion",{"$f":"M11-M41","v":0},0,{"$f":"O11-O41","v":0},{"$f":"P11-P41","v":0},{"$f":"Q11-Q41","v":0},{"$f":"R11-R41","v":0},{"$f":"S11-S41","v":0}]
["Starting price for industry-wide X factor",null,37559.922903207196,56511.666026359613,11394.057712433627,33046.583323684572,24062.427425579182,13565.260381139384,22026.850628408567,6824.4074148528416,28091.763360324669,null,24779.535094930379,250424.43962031842,34705.263224095725,39089.389485817817,100101.51513214251,395244.80611356499,98788.230294792622,null,null,null,0,{"$f":"D12-D42","v":0},0,0,0,0,0,0,0,null,0,{"$f":"N12-N42","v":0},{"$f":"O12-O42","v":0},{"$f":"P12-P42","v":0},{"$f":"Q12-Q42","v":0},{"$f":"R12-R42","v":0},{"$f":"S12-S42","v":0}]
["Starting price for applicable X factor",null,30458.392210827311,56511.666026359613,9983.3114857180717,33046.583323684572,22731.958455348748,13565.260381139384,22026.850628408567,6824.4074148528416,28091.763360324669,null,24779.535094930379,250424.43962031842,34705.263224095725,34231.368482363374,100101.51513214251,395244.80611356499,98788.230294792622,null,null,null,0,0,0,0,0,0,0,0,0,null,0,0,0,0,0,0,0]
["PV at 1 Apr 2015 of MAR (applicable X)",null,163662.23930899403,247691.73715834701,48814.568791585567,144179.69334145921,103952.68720741873,58957.105344924275,95547.211147822818,29921.807884993159,122903.68473611525,null,108140.0049656567,1087074.2974655542,149068.98089956079,168714.38659184406,436524.63136031316,1749930.1194804532,432008.25781022909,null,null,null,0,0,0,0,0,0,0,0,0,null,0,0,0,0,0,0,0]
["MAR (industry-wide X factor) 2016",null,37559.922903207196,56511.666026359613,11394.057712433627,33046.583323684572,24062.427425579182,13565.260381139384,22026.850628408567,6824.4074148528416,28091.763360324669,null,24779.535094930379,250424.43962031842,34705.263224095725,39089.389485817817,100101.51513214251,395244.80611356499,98788.230294792622,null,null,null,0,0,0,0,0,0,0,0,0,null,0,0,0,0,0,0,0]
["MAR (industry-wide X factor) 2017",null,38224.144725028462,57688.370384905742,11492.410690842911,33653.513179031914,24377.5422811059,13786.521997131509,22363.286741173546,6967.7628548857538,28649.47281965665,null,25238.161975490646,254347.0940565879,35052.740472234102,39581.896028374467,101914.16485339947,405605.55419420509,100725.28364349263,null,null,null,0,0,0,0,0,0,0,0,0,null,0,0,0,0,0,0,0]
["MAR (industry-wide X factor) 2018",null,39002.161884213601,59044.06506111534,11622.021627657559,34361.496579163148,24761.572362967716,14048.149524827013,22764.424588011443,7132.7925875395667,29294.904576134886,null,25772.711468329057,259008.88892288611,35496.573407772281,40185.753792427226,104031.83719188788,417329.83579718461,102969.73897518759,null,null,null,0,0,0,0,0,0,0,0,0,null,0,0,0,0,0,0,0]
["MAR (industry-wide X factor) 2019",null,39926.529075265731,60629.809308696036,11791.639523402309,35199.436138821722,25234.13909223977,14361.68831171807,23248.75469133673,7325.6776188166059,30053.116402498174,null,26404.896725793849,264621.1366882709,36063.913959716156,40932.62695875475,106541.78271191986,430801.24378456757,105609.42974842482,null,null,null,0,0,0,0,0,0,0,0,0,null,0,0,0,0,0,0,0]
["MAR (industry-wide X factor) 2020",null,40891.181752369106,62286.134907628671,11969.112155364646,36074.022338600764,25727.287147388062,14688.826486014068,23754.064999365262,7527.1615590129404,30844.814791843513,null,27064.752646335051,270476.55106716917,36656.796854973756,41712.127712777568,109161.34501628866,444907.46232390951,108365.49296154729,null,null,null,0,0,0,0,0,0,0,0,0,null,0,0,0,0,0,0,0]
["MAR (applicable X factor) 2016",null,30458.392210827311,56511.666026359613,9983.3114857180717,33046.583323684572,22731.958455348748,13565.260381139384,22026.850628408567,6824.4074148528416,28091.763360324669,null,24779.535094930379,250424.43962031842,34705.263224095725,34231.368482363374,100101.51513214251,395244.80611356499,98788.230294792622,null,null,null,0,0,0,0,0,0,0,0,0,null,0,0,0,0,0,0,0]
["MAR (applicable X factor) 2017",null,34406.701376999139,57688.370384905742,10774.351055806099,33653.513179031914,23720.539355151806,13786.521997131509,22363.286741173546,6967.7628548857538,28649.47281965665,null,25238.161975490646,254347.0940565879,35052.740472234102,37089.053065828441,101914.16485339947,405605.55419420509,100725.28364349263,null,null,null,0,0,0,0,0,0,0,0,0,null,0,0,0,0,0,0,0]
["MAR (applicable X factor) 2018",null,38968.789983233124,59044.06506111534,11658.574207666534,34361.496579163148,24817.04596414739,14048.149524827013,22764.424588011443,7132.7925875395667,29294.904576134886,null,25772.711468329057,259008.88892288611,35496.573407772281,40290.721864290128,104031.83719188788,417329.83579718461,102969.73897518759,null,null,null,0,0,0,0,0,0,0,0,0,null,0,0,0,0,0,0,0]
["MAR (applicable X factor) 2019",null,44280.526533704651,60629.809308696036,12656.736360956325,35199.436138821722,26049.39153112932,14361.68831171807,23248.75469133673,7325.6776188166059,30053.116402498174,null,26404.896725793849,264621.1366882709,36063.913959716156,43912.314131093008,106541.78271191986,430801.24378456757,105609.42974842482,null,null,null,0,0,0,0,0,0,0,0,0,null,0,0,0,0,0,0,0]
["MAR (applicable X factor) 2020",null,50338.916043399608,62286.134907628671,13746.535373238741,36074.022338600764,27355.226135948051,14688.826486014068,23754.064999365262,7527.1615590129404,30844.814791843513,null,27064.752646335051,270476.55106716917,36656.796854973756,47880.95767805483,109161.34501628866,444907.46232390951,108365.49296154729,null,null,null,0,0,0,0,0,0,0,0,0,null,0,0,0,0,0,0,0]
["BBAR before tax 2016",null,37686.550069765341,56742.259114303903,11258.664868165306,32304.510823457134,23603.74910175784,13673.258462613276,22108.114570622631,7005.9149678893536,28328.590771337815,null,24616.803466959806,247958.64531511063,34381.368420804414,37798.669993281736,99427.235430908826,399748.39609954564,99633.73931781303,null,null,null,0,0,0,0,0,0,0,0,0,null,0,0,0,0,0,0,0]
["BBAR before tax 2017",null,37813.712624452557,57115.841802677089,11288.881927584969,32754.802486122971,23961.81198262229,13713.908034515596,22146.433067608083,6915.4358776656127,28270.92204505048,null,24740.607786800159,248570.76542862557,34496.504481849006,38463.073389860547,100416.83295692143,400165.23952369392,99360.968771761502,null,null,null,0,0,0,0,0,0,0,0,0,null,0,0,0,0,0,0,0]
["BBAR before tax 2018",null,38749.758741060505,58684.842023542275,11573.853354051354,34265.571287254847,24809.114785371039,13996.393321381956,22660.860436382118,7050.151230885841,29140.58857700614,null,25563.573903719855,256942.68137956757,35309.25561379813,40094.746248113646,103553.51178944969,413439.88240659086,102167.90024696264,null,null,null,0,0,0,0,0,0,0,0,0,null,0,0,0,0,0,0,0]
["BBAR before tax 2019",null,39850.440926978132,60876.869231791796,11948.136007724714,35993.63759784944,25622.214230920916,14352.636218909271,23327.284550046508,7272.173998055765,30182.376282887719,null,26677.556509243484,268179.94551691209,36396.491679557541,41949.98696255422,107589.73029252402,431595.91817673587,105956.66248290178,null,null,null,0,0,0,0,0,0,0,0,0,null,0,0,0,0,0,0,0]
["BBAR before tax 2020",null,40826.201917557744,62834.749659540408,12286.105830653101,37419.400660880776,26374.205496806921,14704.854038299145,23948.674605167362,7504.2956061124996,31037.138035168249,null,27755.153805156733,279405.05931098945,37489.052351974162,43808.023626866161,111321.85380615942,449279.94517736387,109478.66333892169,null,null,null,0,0,0,0,0,0,0,0,0,null,0,0,0,0,0,0,0]
["Closing RAB 2016",null,161761.75558707252,360210.82781206421,57680.184328973031,240561.09919387216,148118.45057904301,77602.865928311367,120698.95266006037,41745.193197583234,168303.64960838197,null,159098.82265697233,1540185.4807398252,189870.41487546888,230926.95598254277,582770.45551127288,2798661.3757352983,589754.7243232535,null,null,null,0,0,0,0,0,0,0,0,0,null,0,0,0,0,0,0,0]
["Closing RAB 2017",null,162740.60416873574,370855.97222500423,58950.668951442778,259045.8891029816,159200.60292390545,79273.842423917347,124604.39417018881,41854.81974560822,172156.02047890692,null,164334.8061788482,1593316.7298255539,193296.20966023961,246807.88155542593,605394.4069026917,2897609.4786863313,599557.52439415548,null,null,null,0,0,0,0,0,0,0,0,0,null,0,0,0,0,0,0,0]
["Closing RAB 2018",null,164763.80800515402,380144.76272829645,60361.942542265781,272906.75627378339,163773.22689711687,80444.333208275304,127931.93042805667,42397.420396133399,178040.46195406886,null,170222.2795676683,1659480.0143430412,196490.79352384171,259753.06887525244,626297.9390597234,2998507.7017503213,614997.45721879753,null,null,null,0,0,0,0,0,0,0,0,0,null,0,0,0,0,0,0,0]
["Closing RAB 2019",null,163416.54263445694,390164.47097722389,61418.22492656875,285729.5758846642,166482.50792212435,80716.703600918438,130503.59578998687,42957.251385335243,180152.23925123629,null,175879.41827895227,1721572.055545609,198752.44848585091,270707.4041251262,645840.00853482843,3099907.6042057006,625245.0653735766,null,null,null,0,0,0,0,0,0,0,0,0,null,0,0,0,0,0,0,0]
["Closing RAB 2020",null,162399.20987818544,395302.49150614179,62125.314209789249,292824.11914907716,169322.40276336519,81765.774645084981,132968.13901281985,43783.180405491454,181225.8172061948,null,180937.23193985768,1787415.8564027464,202156.73291118449,283238.48370706663,660906.31291640014,3191466.2615611451,633911.34686497971,null,null,null,0,0,0,0,0,0,0,0,0,null,0,0,0,0,0,0,0]